BEGIN:VCALENDAR
VERSION:2.0
PRODID:-//Wood County Museum - ECPv6.15.20//NONSGML v1.0//EN
CALSCALE:GREGORIAN
METHOD:PUBLISH
X-ORIGINAL-URL:https://woodcountyhistory.org
X-WR-CALDESC:Events for Wood County Museum
REFRESH-INTERVAL;VALUE=DURATION:PT1H
X-Robots-Tag:noindex
X-PUBLISHED-TTL:PT1H
BEGIN:VTIMEZONE
TZID:America/New_York
BEGIN:DAYLIGHT
TZOFFSETFROM:-0500
TZOFFSETTO:-0400
TZNAME:EDT
DTSTART:20230312T070000
END:DAYLIGHT
BEGIN:STANDARD
TZOFFSETFROM:-0400
TZOFFSETTO:-0500
TZNAME:EST
DTSTART:20231105T060000
END:STANDARD
BEGIN:DAYLIGHT
TZOFFSETFROM:-0500
TZOFFSETTO:-0400
TZNAME:EDT
DTSTART:20240310T070000
END:DAYLIGHT
BEGIN:STANDARD
TZOFFSETFROM:-0400
TZOFFSETTO:-0500
TZNAME:EST
DTSTART:20241103T060000
END:STANDARD
BEGIN:DAYLIGHT
TZOFFSETFROM:-0500
TZOFFSETTO:-0400
TZNAME:EDT
DTSTART:20250309T070000
END:DAYLIGHT
BEGIN:STANDARD
TZOFFSETFROM:-0400
TZOFFSETTO:-0500
TZNAME:EST
DTSTART:20251102T060000
END:STANDARD
END:VTIMEZONE
BEGIN:VEVENT
DTSTART;TZID=America/New_York:20241002T190000
DTEND;TZID=America/New_York:20241002T210000
DTSTAMP:20260422T133704
CREATED:20240911T144731Z
LAST-MODIFIED:20240911T144731Z
UID:6154-1727895600-1727902800@woodcountyhistory.org
SUMMARY:German-American Day
DESCRIPTION:GERMAN-AMERICAN DAY \n7 PM • RSVP Required \nJoin us on October 2nd for this year’s German-American Day Education Program!\n\n\nA brief program about the WWII POW Camp in Bowling Green will begin the evening. The “Story Slam” format will follow and allow guests 5 Minutes to share their own stories about any topic related to their German American heritage\, genealogy\, or German experiences.\n\n\n\nDiscussions led by Dr. Geoff Howes\, BGSU retired\, and Michael McMaster\, Wood County Museum Education Coordinator.\n\n\n\nEnjoy German food and fellowship after the event.\n\nThe museum will be open from 6-7PM for guests to tour the exhibits \n\nPlease make your reservations by using our website or calling the museum at 419-352-0967.
URL:https://woodcountyhistory.org/event/german-american-day-4/
LOCATION:Wood County Museum\, 13660 County Home Rd.\, Bowling Green\, OH\, 43402\, United States
ATTACH;FMTTYPE=image/jpeg:https://woodcountyhistory.org/wp-content/uploads/2021/10/german-american-heritage-month-640x514-1.jpg
ORGANIZER;CN="Wood County Museum":MAILTO:visitus@woodcountyhistory.org
END:VEVENT
END:VCALENDAR