BEGIN:VCALENDAR
VERSION:2.0
PRODID:-//Wood County Museum - ECPv6.15.20//NONSGML v1.0//EN
CALSCALE:GREGORIAN
METHOD:PUBLISH
X-WR-CALNAME:Wood County Museum
X-ORIGINAL-URL:https://woodcountyhistory.org
X-WR-CALDESC:Events for Wood County Museum
REFRESH-INTERVAL;VALUE=DURATION:PT1H
X-Robots-Tag:noindex
X-PUBLISHED-TTL:PT1H
BEGIN:VTIMEZONE
TZID:America/New_York
BEGIN:DAYLIGHT
TZOFFSETFROM:-0500
TZOFFSETTO:-0400
TZNAME:EDT
DTSTART:20230312T070000
END:DAYLIGHT
BEGIN:STANDARD
TZOFFSETFROM:-0400
TZOFFSETTO:-0500
TZNAME:EST
DTSTART:20231105T060000
END:STANDARD
BEGIN:DAYLIGHT
TZOFFSETFROM:-0500
TZOFFSETTO:-0400
TZNAME:EDT
DTSTART:20240310T070000
END:DAYLIGHT
BEGIN:STANDARD
TZOFFSETFROM:-0400
TZOFFSETTO:-0500
TZNAME:EST
DTSTART:20241103T060000
END:STANDARD
BEGIN:DAYLIGHT
TZOFFSETFROM:-0500
TZOFFSETTO:-0400
TZNAME:EDT
DTSTART:20250309T070000
END:DAYLIGHT
BEGIN:STANDARD
TZOFFSETFROM:-0400
TZOFFSETTO:-0500
TZNAME:EST
DTSTART:20251102T060000
END:STANDARD
END:VTIMEZONE
BEGIN:VEVENT
DTSTART;VALUE=DATE:20241101
DTEND;VALUE=DATE:20241201
DTSTAMP:20260422T104414
CREATED:20241029T185029Z
LAST-MODIFIED:20241029T185029Z
UID:6368-1730419200-1733011199@woodcountyhistory.org
SUMMARY:National Museum of the Great Lakes Membership Swap
DESCRIPTION:This November\, enjoy an exclusive perk of your Wood County Museum membership — a membership swap with the National Museum of the Great Lakes\, allowing you to explore more incredible attractions in our area for free. Not a member? Click here to learn more about the benefits. \nDetails: \nDuration: Entire month of November \nAdmission Includes: \n\nSelf-guided tour of the National Museum of the Great Lakes (museum only\, the boats will be closed)\n\nImportant Information: \nAdmission Policy: \n\nFree admission for 2 adults and all children/grandchildren under 18\, regardless of membership level\n\nLogistic Details:  \nExchange is ONLY good for admission\, no additional benefits. \n\nHours:\n\nWednesday – Saturday 10 AM to 5 PM\nSunday 12 PM to 5 PM\nClosed Tuesdays\n\n\n\nAbout the National Museum of the Great Lakes\n \nThe National Museum of the Great Lakes\, located along the Maumee River in Toledo\, Ohio\, offers an immersive exploration of the world’s largest freshwater system. Through 500 photographs\, 250 artifacts\, and 45 interactive exhibits\,  the museum brings the history of all five Great Lakes to life. \nPlan you visit! Click here to learn more about its mission\, things to see\, and more. \nTake advantage of this unique opportunity to explore new educational experiences with your family. We look forward to seeing our members enjoy the exciting exhibits and activities at the National Museum of the Great Lakes this November!
URL:https://woodcountyhistory.org/event/national-museum-of-the-great-lakes-membership-swap/
LOCATION:National Museum of the Great Lakes\, 1701 Front Street\, Toledo\, OH\, 43605
ATTACH;FMTTYPE=image/png:https://woodcountyhistory.org/wp-content/uploads/2024/10/MEMBERSHIP-SWAP.png
END:VEVENT
BEGIN:VEVENT
DTSTART;TZID=America/New_York:20241101T100000
DTEND;TZID=America/New_York:20241101T160000
DTSTAMP:20260422T104414
CREATED:20240327T151114Z
LAST-MODIFIED:20240327T151114Z
UID:5378-1730455200-1730476800@woodcountyhistory.org
SUMMARY:Free First Fridays & Make and Take Craft Day
DESCRIPTION:Come out to the Wood County Museum for free Museum admission every first Friday! \n*NEW* in 2024 – Free make & take craft on Free First Friday Days! \nNovember Make & Take Craft: TBA \nFree First Fridays is presented by Visit Bowling Green\, Ohio \, Visit Perrysburg\, & Rossford Convention & Visitors Bureau. \nExhibits currently on display are: \n“Allure & Illusion: A Rose Colored Romance” \n“For Comfort & Convenience: Public Charity in Ohio By Way of the Poor Farm” \n“The Mary & Carl Back Story” \n“Chasing the White Rabbit: An Historical Look at American Mental Health” (inside Asylum) \n“A Clean Bill of Health: Societal Response to Communicable Disease” (inside Pest House) \n(Regular admission $7\, always FREE for members). \nFree First Fridays is presented by Visit Bowling Green\, Ohio \, Visit Perrysburg\, & Rossford Convention & Visitors Bureau.
URL:https://woodcountyhistory.org/event/free-first-fridays-make-and-take-craft-day-11/
ATTACH;FMTTYPE=image/png:https://woodcountyhistory.org/wp-content/uploads/2023/12/Free-First-Friday_ForComfort_FBevent.png
END:VEVENT
END:VCALENDAR