BEGIN:VCALENDAR
VERSION:2.0
PRODID:-//Wood County Museum - ECPv6.15.20//NONSGML v1.0//EN
CALSCALE:GREGORIAN
METHOD:PUBLISH
X-ORIGINAL-URL:https://woodcountyhistory.org
X-WR-CALDESC:Events for Wood County Museum
REFRESH-INTERVAL;VALUE=DURATION:PT1H
X-Robots-Tag:noindex
X-PUBLISHED-TTL:PT1H
BEGIN:VTIMEZONE
TZID:America/New_York
BEGIN:DAYLIGHT
TZOFFSETFROM:-0500
TZOFFSETTO:-0400
TZNAME:EDT
DTSTART:20230312T070000
END:DAYLIGHT
BEGIN:STANDARD
TZOFFSETFROM:-0400
TZOFFSETTO:-0500
TZNAME:EST
DTSTART:20231105T060000
END:STANDARD
BEGIN:DAYLIGHT
TZOFFSETFROM:-0500
TZOFFSETTO:-0400
TZNAME:EDT
DTSTART:20240310T070000
END:DAYLIGHT
BEGIN:STANDARD
TZOFFSETFROM:-0400
TZOFFSETTO:-0500
TZNAME:EST
DTSTART:20241103T060000
END:STANDARD
BEGIN:DAYLIGHT
TZOFFSETFROM:-0500
TZOFFSETTO:-0400
TZNAME:EDT
DTSTART:20250309T070000
END:DAYLIGHT
BEGIN:STANDARD
TZOFFSETFROM:-0400
TZOFFSETTO:-0500
TZNAME:EST
DTSTART:20251102T060000
END:STANDARD
END:VTIMEZONE
BEGIN:VEVENT
DTSTART;TZID=America/New_York:20241211T121500
DTEND;TZID=America/New_York:20241211T130000
DTSTAMP:20260422T092500
CREATED:20241121T173555Z
LAST-MODIFIED:20241121T173555Z
UID:6563-1733919300-1733922000@woodcountyhistory.org
SUMMARY:Education On The Road: Odds and Ends of Wood County: Part 4
DESCRIPTION:Join Mike McMaster as he gives an education program over Odds and Ends of Wood County: Part 4 \n*THIS IS EVENT IS AT THE WALBRIDGE SENIOR CENTER* \nOdds and Ends of Wood County: Part 4\nThere are many historical odds and ends in Wood County. At one time\, north of Bloomdale\, sat a sad and mysterious building; what was it’s origin? \nProgram Date: December 11\, 2024\nProgram Time: 12:15PM\nProgram Location: Walbridge Senior Center – 705 N Main St\, Walbridge\, OH 43465\nCost: FREE!
URL:https://woodcountyhistory.org/event/education-on-the-road-odds-and-ends-of-wood-county-part-4-5/
LOCATION:Walbridge Senior Center\, 705 N Main St\, Walbridge\, OH 43465\, Walbridge\, 43465\, United States
ATTACH;FMTTYPE=image/png:https://woodcountyhistory.org/wp-content/uploads/2024/08/General-1.png
END:VEVENT
END:VCALENDAR