BEGIN:VCALENDAR
VERSION:2.0
PRODID:-//Wood County Museum - ECPv6.15.20//NONSGML v1.0//EN
CALSCALE:GREGORIAN
METHOD:PUBLISH
X-ORIGINAL-URL:https://woodcountyhistory.org
X-WR-CALDESC:Events for Wood County Museum
REFRESH-INTERVAL;VALUE=DURATION:PT1H
X-Robots-Tag:noindex
X-PUBLISHED-TTL:PT1H
BEGIN:VTIMEZONE
TZID:America/New_York
BEGIN:DAYLIGHT
TZOFFSETFROM:-0500
TZOFFSETTO:-0400
TZNAME:EDT
DTSTART:20230312T070000
END:DAYLIGHT
BEGIN:STANDARD
TZOFFSETFROM:-0400
TZOFFSETTO:-0500
TZNAME:EST
DTSTART:20231105T060000
END:STANDARD
BEGIN:DAYLIGHT
TZOFFSETFROM:-0500
TZOFFSETTO:-0400
TZNAME:EDT
DTSTART:20240310T070000
END:DAYLIGHT
BEGIN:STANDARD
TZOFFSETFROM:-0400
TZOFFSETTO:-0500
TZNAME:EST
DTSTART:20241103T060000
END:STANDARD
BEGIN:DAYLIGHT
TZOFFSETFROM:-0500
TZOFFSETTO:-0400
TZNAME:EDT
DTSTART:20250309T070000
END:DAYLIGHT
BEGIN:STANDARD
TZOFFSETFROM:-0400
TZOFFSETTO:-0500
TZNAME:EST
DTSTART:20251102T060000
END:STANDARD
END:VTIMEZONE
BEGIN:VEVENT
DTSTART;TZID=America/New_York:20241217T123000
DTEND;TZID=America/New_York:20241217T133000
DTSTAMP:20260422T091415
CREATED:20241121T174515Z
LAST-MODIFIED:20241121T181814Z
UID:6570-1734438600-1734442200@woodcountyhistory.org
SUMMARY:Education On The Road: Mike’s Favorite Things - Part 2
DESCRIPTION:Join Mike McMaster as he gives an education program over Education On The Road: Mike’s Favorite Things – Part 2 \n*THIS IS EVENT IS AT THE ROSSFORD SENIOR CENTER* \nEducation On The Road: Mike’s Favorite Things – Part 2\nLearn the fascinating history of Mike’s favorite Pre-Historic fossil. \nProgram Date: December 17\, 2024\nProgram Time: 12:30PM\nProgram Location: Rossford Senior Center – 400 Dixie Hwy\, Rossford\, OH 43460\nCost: FREE!
URL:https://woodcountyhistory.org/event/education-on-the-road-mikes-favorite-things-part-2/
LOCATION:Rossford Senior Center\, 400 Dixie Highway\, Rossford\, OH\, 43460\, United States
ATTACH;FMTTYPE=image/png:https://woodcountyhistory.org/wp-content/uploads/2024/08/General-2.png
END:VEVENT
END:VCALENDAR