BEGIN:VCALENDAR
VERSION:2.0
PRODID:-//Wood County Museum - ECPv6.15.20//NONSGML v1.0//EN
CALSCALE:GREGORIAN
METHOD:PUBLISH
X-WR-CALNAME:Wood County Museum
X-ORIGINAL-URL:https://woodcountyhistory.org
X-WR-CALDESC:Events for Wood County Museum
REFRESH-INTERVAL;VALUE=DURATION:PT1H
X-Robots-Tag:noindex
X-PUBLISHED-TTL:PT1H
BEGIN:VTIMEZONE
TZID:America/New_York
BEGIN:DAYLIGHT
TZOFFSETFROM:-0500
TZOFFSETTO:-0400
TZNAME:EDT
DTSTART:20240310T070000
END:DAYLIGHT
BEGIN:STANDARD
TZOFFSETFROM:-0400
TZOFFSETTO:-0500
TZNAME:EST
DTSTART:20241103T060000
END:STANDARD
BEGIN:DAYLIGHT
TZOFFSETFROM:-0500
TZOFFSETTO:-0400
TZNAME:EDT
DTSTART:20250309T070000
END:DAYLIGHT
BEGIN:STANDARD
TZOFFSETFROM:-0400
TZOFFSETTO:-0500
TZNAME:EST
DTSTART:20251102T060000
END:STANDARD
BEGIN:DAYLIGHT
TZOFFSETFROM:-0500
TZOFFSETTO:-0400
TZNAME:EDT
DTSTART:20260308T070000
END:DAYLIGHT
BEGIN:STANDARD
TZOFFSETFROM:-0400
TZOFFSETTO:-0500
TZNAME:EST
DTSTART:20261101T060000
END:STANDARD
END:VTIMEZONE
BEGIN:VEVENT
DTSTART;TZID=America/New_York:20250131T124500
DTEND;TZID=America/New_York:20250131T133000
DTSTAMP:20260422T063811
CREATED:20241121T181654Z
LAST-MODIFIED:20241121T181654Z
UID:6590-1738327500-1738330200@woodcountyhistory.org
SUMMARY:Education On The Road: The Blizzard of 1978
DESCRIPTION:Join Mike McMaster as he gives an education program over The Blizzard of 1978 \n*THIS IS EVENT IS AT THE PERRYSBURG SENIOR CENTER* \nThe Blizzard of 1978: Learn a few facts about the Blizzard of ’78 and how a cat saved a man’s life during the storm. \nProgram Date: January 22\, 2025\nProgram Time: 12:15PM\nProgram Location: Perrysburg Senior Center – 140 W Indiana Ave\, Perrysburg\, OH 43551\nCost: FREE!
URL:https://woodcountyhistory.org/event/education-on-the-road-the-blizzard-of-1978-2/
LOCATION:Perrysburg Senior Center\, 140 W. Indiana Avenue\, Perrysburg\, OH\, 43551\, United States
ATTACH;FMTTYPE=image/png:https://woodcountyhistory.org/wp-content/uploads/2024/08/General-2.png
END:VEVENT
END:VCALENDAR