BEGIN:VCALENDAR
VERSION:2.0
PRODID:-//Wood County Museum - ECPv6.15.20//NONSGML v1.0//EN
CALSCALE:GREGORIAN
METHOD:PUBLISH
X-ORIGINAL-URL:https://woodcountyhistory.org
X-WR-CALDESC:Events for Wood County Museum
REFRESH-INTERVAL;VALUE=DURATION:PT1H
X-Robots-Tag:noindex
X-PUBLISHED-TTL:PT1H
BEGIN:VTIMEZONE
TZID:America/New_York
BEGIN:DAYLIGHT
TZOFFSETFROM:-0500
TZOFFSETTO:-0400
TZNAME:EDT
DTSTART:20240310T070000
END:DAYLIGHT
BEGIN:STANDARD
TZOFFSETFROM:-0400
TZOFFSETTO:-0500
TZNAME:EST
DTSTART:20241103T060000
END:STANDARD
BEGIN:DAYLIGHT
TZOFFSETFROM:-0500
TZOFFSETTO:-0400
TZNAME:EDT
DTSTART:20250309T070000
END:DAYLIGHT
BEGIN:STANDARD
TZOFFSETFROM:-0400
TZOFFSETTO:-0500
TZNAME:EST
DTSTART:20251102T060000
END:STANDARD
BEGIN:DAYLIGHT
TZOFFSETFROM:-0500
TZOFFSETTO:-0400
TZNAME:EDT
DTSTART:20260308T070000
END:DAYLIGHT
BEGIN:STANDARD
TZOFFSETFROM:-0400
TZOFFSETTO:-0500
TZNAME:EST
DTSTART:20261101T060000
END:STANDARD
END:VTIMEZONE
BEGIN:VEVENT
DTSTART;TZID=America/New_York:20250213T121500
DTEND;TZID=America/New_York:20250213T130000
DTSTAMP:20260422T062149
CREATED:20250123T183028Z
LAST-MODIFIED:20250123T183028Z
UID:6756-1739448900-1739451600@woodcountyhistory.org
SUMMARY:Education On The Road: The Bowling Green POW Camp During WWII
DESCRIPTION:Join Mike McMaster as he gives an education program over The Bowling Green POW Camp – WWII \n*THIS IS EVENT IS AT THE WAYNE SENIOR CENTER* \nThe Bowling Green POW Camp – WWII \nLearn details\, and dispel some legends\, about the WWII era Prisoner of War Camp that was within the city limits of Bowling Green. \nProgram Date: February 13\, 2025\nProgram Time: 12:15PM\nProgram Location: Wayne Senior Center – 202 E Main St\, Wayne\, OH 43466\nCost: FREE!
URL:https://woodcountyhistory.org/event/education-on-the-road-the-bowling-green-pow-camp-during-wwii-3/
LOCATION:Wayne Senior Center\, 202 E Main St\, Wayne\, 43466\, United States
ATTACH;FMTTYPE=image/png:https://woodcountyhistory.org/wp-content/uploads/2024/08/General-2.png
END:VEVENT
END:VCALENDAR