BEGIN:VCALENDAR
VERSION:2.0
PRODID:-//Wood County Museum - ECPv6.15.20//NONSGML v1.0//EN
CALSCALE:GREGORIAN
METHOD:PUBLISH
X-WR-CALNAME:Wood County Museum
X-ORIGINAL-URL:https://woodcountyhistory.org
X-WR-CALDESC:Events for Wood County Museum
REFRESH-INTERVAL;VALUE=DURATION:PT1H
X-Robots-Tag:noindex
X-PUBLISHED-TTL:PT1H
BEGIN:VTIMEZONE
TZID:America/New_York
BEGIN:DAYLIGHT
TZOFFSETFROM:-0500
TZOFFSETTO:-0400
TZNAME:EDT
DTSTART:20240310T070000
END:DAYLIGHT
BEGIN:STANDARD
TZOFFSETFROM:-0400
TZOFFSETTO:-0500
TZNAME:EST
DTSTART:20241103T060000
END:STANDARD
BEGIN:DAYLIGHT
TZOFFSETFROM:-0500
TZOFFSETTO:-0400
TZNAME:EDT
DTSTART:20250309T070000
END:DAYLIGHT
BEGIN:STANDARD
TZOFFSETFROM:-0400
TZOFFSETTO:-0500
TZNAME:EST
DTSTART:20251102T060000
END:STANDARD
BEGIN:DAYLIGHT
TZOFFSETFROM:-0500
TZOFFSETTO:-0400
TZNAME:EDT
DTSTART:20260308T070000
END:DAYLIGHT
BEGIN:STANDARD
TZOFFSETFROM:-0400
TZOFFSETTO:-0500
TZNAME:EST
DTSTART:20261101T060000
END:STANDARD
END:VTIMEZONE
BEGIN:VEVENT
DTSTART;TZID=America/New_York:20250221T100000
DTEND;TZID=America/New_York:20250221T110000
DTSTAMP:20260422T074709
CREATED:20250123T185424Z
LAST-MODIFIED:20250123T185424Z
UID:6771-1740132000-1740135600@woodcountyhistory.org
SUMMARY:Education On The Road: History Roundtable
DESCRIPTION:Join Mike McMaster for a History Roundtable! \n*THIS IS EVENT IS AT THE ROSSFORD SENIOR CENTER* \nHistory Roundtable: An informal gathering sharing stories together. Host Mike McMaster will begin with a prompt\, you prepare to share your own story \nProgram Date: February 21\, 2025\nProgram Time: 10:00AM\nProgram Location: Rossford Senior Center – 400 Dixie Hwy\, Rossford\, OH 43460\nCost: FREE!
URL:https://woodcountyhistory.org/event/education-on-the-road-history-roundtable-2/
LOCATION:Rossford Senior Center\, 400 Dixie Highway\, Rossford\, OH\, 43460\, United States
ATTACH;FMTTYPE=image/png:https://woodcountyhistory.org/wp-content/uploads/2024/08/General-2.png
END:VEVENT
END:VCALENDAR