BEGIN:VCALENDAR
VERSION:2.0
PRODID:-//Wood County Museum - ECPv6.15.20//NONSGML v1.0//EN
CALSCALE:GREGORIAN
METHOD:PUBLISH
X-ORIGINAL-URL:https://woodcountyhistory.org
X-WR-CALDESC:Events for Wood County Museum
REFRESH-INTERVAL;VALUE=DURATION:PT1H
X-Robots-Tag:noindex
X-PUBLISHED-TTL:PT1H
BEGIN:VTIMEZONE
TZID:America/New_York
BEGIN:DAYLIGHT
TZOFFSETFROM:-0500
TZOFFSETTO:-0400
TZNAME:EDT
DTSTART:20240310T070000
END:DAYLIGHT
BEGIN:STANDARD
TZOFFSETFROM:-0400
TZOFFSETTO:-0500
TZNAME:EST
DTSTART:20241103T060000
END:STANDARD
BEGIN:DAYLIGHT
TZOFFSETFROM:-0500
TZOFFSETTO:-0400
TZNAME:EDT
DTSTART:20250309T070000
END:DAYLIGHT
BEGIN:STANDARD
TZOFFSETFROM:-0400
TZOFFSETTO:-0500
TZNAME:EST
DTSTART:20251102T060000
END:STANDARD
BEGIN:DAYLIGHT
TZOFFSETFROM:-0500
TZOFFSETTO:-0400
TZNAME:EDT
DTSTART:20260308T070000
END:DAYLIGHT
BEGIN:STANDARD
TZOFFSETFROM:-0400
TZOFFSETTO:-0500
TZNAME:EST
DTSTART:20261101T060000
END:STANDARD
END:VTIMEZONE
BEGIN:VEVENT
DTSTART;TZID=America/New_York:20250306T183000
DTEND;TZID=America/New_York:20250306T193000
DTSTAMP:20260422T044851
CREATED:20250228T153930Z
LAST-MODIFIED:20250228T153930Z
UID:6867-1741285800-1741289400@woodcountyhistory.org
SUMMARY:Education On The Road: The Irish Invasion!
DESCRIPTION:Join Mike McMaster as he gives an education program over the Irish Invasion! \n*THIS IS EVENT IS AT THE PORT CLINTON PUBLIC LIBRARY* \nThe Irish Invasion! Learn how Irish nationals conducted military operations from American soil. \nProgram Date: March 6\, 2025\nProgram Time: 6:30PM\nProgram Location: Port Clinton Public Library – 310 Madison St\, Port Clinton\, OH 43452\nCost: FREE!
URL:https://woodcountyhistory.org/event/education-on-the-road-irishinvasion/
LOCATION:Port Clinton Public Library\, 310 Madison St\, Port Clinton\, 43452\, United States
ATTACH;FMTTYPE=image/png:https://woodcountyhistory.org/wp-content/uploads/2024/08/General-2.png
END:VEVENT
END:VCALENDAR