BEGIN:VCALENDAR
VERSION:2.0
PRODID:-//Wood County Museum - ECPv6.15.20//NONSGML v1.0//EN
CALSCALE:GREGORIAN
METHOD:PUBLISH
X-WR-CALNAME:Wood County Museum
X-ORIGINAL-URL:https://woodcountyhistory.org
X-WR-CALDESC:Events for Wood County Museum
REFRESH-INTERVAL;VALUE=DURATION:PT1H
X-Robots-Tag:noindex
X-PUBLISHED-TTL:PT1H
BEGIN:VTIMEZONE
TZID:America/New_York
BEGIN:DAYLIGHT
TZOFFSETFROM:-0500
TZOFFSETTO:-0400
TZNAME:EDT
DTSTART:20240310T070000
END:DAYLIGHT
BEGIN:STANDARD
TZOFFSETFROM:-0400
TZOFFSETTO:-0500
TZNAME:EST
DTSTART:20241103T060000
END:STANDARD
BEGIN:DAYLIGHT
TZOFFSETFROM:-0500
TZOFFSETTO:-0400
TZNAME:EDT
DTSTART:20250309T070000
END:DAYLIGHT
BEGIN:STANDARD
TZOFFSETFROM:-0400
TZOFFSETTO:-0500
TZNAME:EST
DTSTART:20251102T060000
END:STANDARD
BEGIN:DAYLIGHT
TZOFFSETFROM:-0500
TZOFFSETTO:-0400
TZNAME:EDT
DTSTART:20260308T070000
END:DAYLIGHT
BEGIN:STANDARD
TZOFFSETFROM:-0400
TZOFFSETTO:-0500
TZNAME:EST
DTSTART:20261101T060000
END:STANDARD
END:VTIMEZONE
BEGIN:VEVENT
DTSTART;VALUE=DATE:20250611
DTEND;VALUE=DATE:20250619
DTSTAMP:20260421T224837
CREATED:20250429T180228Z
LAST-MODIFIED:20250617T142552Z
UID:7361-1749600000-1750291199@woodcountyhistory.org
SUMMARY:Poor Farm Palooza Fundraiser
DESCRIPTION:The Wood County Museum is proud to offer educational programs and entertaining events to all ages throughout the year. Beyond that\, the Museum highlights an important part of our collective history by telling the stories of the poor\, elderly\, and the disabled as one of the few remaining original county poor farms. This year the Museum is celebrating its 50th anniversary\, and also opened two exhibits. “For Service & Support” tells the histories of the county infirmary’s disabled residents; this was their home many years ago. “We’ll Meet Again: Remembering WWII” displays artifacts\, uniforms\, and histories from the war as told through the eyes of folks from northwest Ohio. We are excited for these exhibits\, programs\, and our 50th year! \nThis year we are asking for your support virtually. This includes an opportunity to make a financial donation directly to the society and participate in an online auction. \nThe Poor Farm Palooza Fundraiser/online auction is the Wood County Historical Society’s largest fundraising event. The revenue goes towards daily operations including educational programs\, installation of new exhibits\, collections management\, and other museum events. \nYour support ensures the longevity and success of YOUR award-winning local history museum. Please help us reach our goal to raise $15\,000 by becoming a virtual event sponsor\, purchasing a non-event ticket\, and by participating in the online auction. \nNon-Event Tickets are $50 \nAuction website: 32auctions.com/pfpf25 \n  \nThank you to our event sponsors!\nMuseum Sponsors: Susan & George Winters\, Foster Jones Sommers Investment Group of Raymond James\nCounty Home Sponsors: Kirian’s Home Shop\, Bill & Bev Hirzel\, Anonymous\, Lynn & Betty Wineland\,\nPoor Farm Sponsors: The Copy Shop\, Gordon & Lynne Bowman\, Paul & Sue Smith\, Lanny & Marcia Traber\, Michael Sibberson
URL:https://woodcountyhistory.org/event/pfpf25/
LOCATION:Wood County Museum\, 13660 County Home Rd.\, Bowling Green\, OH\, 43402\, United States
ATTACH;FMTTYPE=image/png:https://woodcountyhistory.org/wp-content/uploads/2025/04/Web_PFPF-25.png
ORGANIZER;CN="Wood County Museum":MAILTO:visitus@woodcountyhistory.org
END:VEVENT
BEGIN:VEVENT
DTSTART;TZID=America/New_York:20250611T120000
DTEND;TZID=America/New_York:20250618T200000
DTSTAMP:20260421T224837
CREATED:20250429T181352Z
LAST-MODIFIED:20250429T181352Z
UID:7372-1749643200-1750276800@woodcountyhistory.org
SUMMARY:Online Silent Auction Fundraiser
DESCRIPTION:The Online Silent Auction is part of the Wood County Museum’s largest fundraiser event of the year – Poor Farm Palooza Fundraiser! The online auction portion has over 100+ products up for bid. Peruse the wonderful items generously donated by Ohio\, Michigan\, Indiana\, (& beyond!) businesses. Bidding on an auction item helps us reach $15\,000 fundraising goal. Don’t want to bid? Make a donation instead to the Wood County Museum.\n\n\n.\n.\n.\nOnline Auction • June 11-18\nSimply sign up at www.32auctions.com/pfpf25\nOnce signed up\, you’ll be able to bid & donate!\n\n\n.\n.\n.\nThe Wood County Museum is proud to offer educational programs and entertaining events to all ages throughout the year. Beyond that\, the Museum highlights an important part of our collective history by telling the stories of the poor\, elderly\, and the disabled as one of the few remaining original county poor farms. This year the Museum is celebrating its 50th anniversary\, and also opened two exhibits. “For Service & Support” tells the histories of the county infirmary’s disabled residents; this was their home many years ago. “We’ll Meet Again: Remembering WWII” displays artifacts\, uniforms\, and histories from the war as told through the eyes of folks from northwest Ohio. We are excited for these exhibits\, programs\, and our 50th year!\n\n\n.\n\n\n.\n.\nYou can also help us reach our goal to raise $15\,000 by becoming an event sponsor\, purchasing an event ticket\, and by participating in the auction.\n\n\nYou can also make donations & purchase Event Tickets at woodcountyhistory.org/event/pfpf25
URL:https://woodcountyhistory.org/event/online-silent-auction-fundraiser-3/
ATTACH;FMTTYPE=image/png:https://woodcountyhistory.org/wp-content/uploads/2025/04/2025-PFPF-Online-Silent-Auction.png
END:VEVENT
END:VCALENDAR