BEGIN:VCALENDAR
VERSION:2.0
PRODID:-//Wood County Museum - ECPv6.15.20//NONSGML v1.0//EN
CALSCALE:GREGORIAN
METHOD:PUBLISH
X-ORIGINAL-URL:https://woodcountyhistory.org
X-WR-CALDESC:Events for Wood County Museum
REFRESH-INTERVAL;VALUE=DURATION:PT1H
X-Robots-Tag:noindex
X-PUBLISHED-TTL:PT1H
BEGIN:VTIMEZONE
TZID:America/New_York
BEGIN:DAYLIGHT
TZOFFSETFROM:-0500
TZOFFSETTO:-0400
TZNAME:EDT
DTSTART:20240310T070000
END:DAYLIGHT
BEGIN:STANDARD
TZOFFSETFROM:-0400
TZOFFSETTO:-0500
TZNAME:EST
DTSTART:20241103T060000
END:STANDARD
BEGIN:DAYLIGHT
TZOFFSETFROM:-0500
TZOFFSETTO:-0400
TZNAME:EDT
DTSTART:20250309T070000
END:DAYLIGHT
BEGIN:STANDARD
TZOFFSETFROM:-0400
TZOFFSETTO:-0500
TZNAME:EST
DTSTART:20251102T060000
END:STANDARD
BEGIN:DAYLIGHT
TZOFFSETFROM:-0500
TZOFFSETTO:-0400
TZNAME:EDT
DTSTART:20260308T070000
END:DAYLIGHT
BEGIN:STANDARD
TZOFFSETFROM:-0400
TZOFFSETTO:-0500
TZNAME:EST
DTSTART:20261101T060000
END:STANDARD
END:VTIMEZONE
BEGIN:VEVENT
DTSTART;TZID=America/New_York:20250701T120000
DTEND;TZID=America/New_York:20250708T200000
DTSTAMP:20260421T195118
CREATED:20250623T183845Z
LAST-MODIFIED:20250623T191448Z
UID:7575-1751371200-1752004800@woodcountyhistory.org
SUMMARY:Online Silent Auction Fundraiser - SECOND CHANCE!
DESCRIPTION:2025 Poor Farm Palooza Fundraiser – SECOND CHANCE!\nJuly 1-8 • Online at https://www.32auctions.com/pfpf25SecondChance \nJoin us for the Second Chance – Poor Farm Palooza Fundraiser Online Silent Auction! Take a look at a few of the items that didn’t get bids during our main silent auction fundraiser! \nThe Second Chance Online Silent Auction will run July 1 at 12:00 PM until July 8 at 8:00 PM. \nThe Poor Farm Palooza Fundraiser Online Silent Auction is the Wood County Historical Society’s largest fundraising efforts. 100% of the proceeds will benefit the Wood County Museum so that we can continue to offer award-winning exhibits and educational opportunities to you. \nYour support ensures the longevity and success of YOUR award-winning local history museum. Please help us reach our goal to raise $15\,000 (we raised $14\,300 during the main auction\, we only need $700 to reach the goal!) by becoming an event sponsor\, purchasing a no-show ticket for the Poor Farm Palooza Fundraiser\, and by participating in the auction. \n**All bids/items are final sale and as is**
URL:https://woodcountyhistory.org/event/online-silent-auction-25secondchance/
ATTACH;FMTTYPE=image/png:https://woodcountyhistory.org/wp-content/uploads/2025/06/Copy-of-FB_SaveDate_PFPF-25.png
END:VEVENT
END:VCALENDAR