BEGIN:VCALENDAR
VERSION:2.0
PRODID:-//Wood County Museum - ECPv6.15.20//NONSGML v1.0//EN
CALSCALE:GREGORIAN
METHOD:PUBLISH
X-ORIGINAL-URL:https://woodcountyhistory.org
X-WR-CALDESC:Events for Wood County Museum
REFRESH-INTERVAL;VALUE=DURATION:PT1H
X-Robots-Tag:noindex
X-PUBLISHED-TTL:PT1H
BEGIN:VTIMEZONE
TZID:America/New_York
BEGIN:DAYLIGHT
TZOFFSETFROM:-0500
TZOFFSETTO:-0400
TZNAME:EDT
DTSTART:20240310T070000
END:DAYLIGHT
BEGIN:STANDARD
TZOFFSETFROM:-0400
TZOFFSETTO:-0500
TZNAME:EST
DTSTART:20241103T060000
END:STANDARD
BEGIN:DAYLIGHT
TZOFFSETFROM:-0500
TZOFFSETTO:-0400
TZNAME:EDT
DTSTART:20250309T070000
END:DAYLIGHT
BEGIN:STANDARD
TZOFFSETFROM:-0400
TZOFFSETTO:-0500
TZNAME:EST
DTSTART:20251102T060000
END:STANDARD
BEGIN:DAYLIGHT
TZOFFSETFROM:-0500
TZOFFSETTO:-0400
TZNAME:EDT
DTSTART:20260308T070000
END:DAYLIGHT
BEGIN:STANDARD
TZOFFSETFROM:-0400
TZOFFSETTO:-0500
TZNAME:EST
DTSTART:20261101T060000
END:STANDARD
END:VTIMEZONE
BEGIN:VEVENT
DTSTART;TZID=America/New_York:20250909T180000
DTEND;TZID=America/New_York:20250909T193000
DTSTAMP:20260421T170645
CREATED:20250415T130722Z
LAST-MODIFIED:20250609T183417Z
UID:7172-1757440800-1757446200@woodcountyhistory.org
SUMMARY:WWII Lecture Series - The Medic's Wife: Love\, War\, and Secrets
DESCRIPTION:In his Amazon #1 best selling book\, The Medic’s Wife\, author Edmund Kruszynski delivers a spellbinding epic that rivals the grit of Band of Brothers and the unspoken heroism of Kristin Hannah’s The Women. This unforgettable story will transport you through time\, ignite your passion for history\, and captivate your heart with a love story for the ages. You’ll follow the journey of two extraordinary souls whose destinies become forever intertwined by the ravages of World War II. As war rages across continents\, they find a love as enduring as the greatest battles of their time. Author Ed Kruszynski will be joining us as part of our WWII series\, sharing his parents’ story through a captivating presentation. His talk weaves together real-life testimonies\, first-person accounts\, interviews\, and rare\, never-before-seen WWII photographs. If your parents or grandparents lived through the WWII era\, this is an event you won’t want to miss! \n  \nWhen: September 9\, 2025 at 6:00PM \nCost: FREE for members; $7 for non-members (tickets include a self-guided tour of the museum in addition to the program) \n***Each person attending must be a member to get the member rate. Members may not make reservations for non-members on their behalf*** \n  \nAbout the Speaker: Ed Kruszynki \nEdmund (Ed) Kruszynski\, was born in Cleveland\, Ohio\, to second-generation Polish immigrants. He became the second college graduate in his family and spent 32 years in corporate America before pursuing his passion for writing. Ed and his wife\, Tracy\, are college sweethearts—BGSU Falcon Flames ’84—and are blessed with two sons\, two grandchildren\, and a golden retriever named Lovey. Ed enjoys the occasional fine Kentucky bourbon with a chocolate bar chaser\, a ritual that helps fuel his creativity during writing lulls. His first book\, The Medic’s Wife\, has topped Amazon’s #1 bestseller lists in various WWII categories. To learn more about The Medic’s Wife\, visit his author website below. https://www.edmundkruszynski.com
URL:https://woodcountyhistory.org/event/wwii-lecture-series-sept9/
ATTACH;FMTTYPE=image/png:https://woodcountyhistory.org/wp-content/uploads/2025/04/376280906_235024022865805_1954883511670306907_n.png
END:VEVENT
END:VCALENDAR