BEGIN:VCALENDAR
VERSION:2.0
PRODID:-//Wood County Museum - ECPv6.15.20//NONSGML v1.0//EN
CALSCALE:GREGORIAN
METHOD:PUBLISH
X-ORIGINAL-URL:https://woodcountyhistory.org
X-WR-CALDESC:Events for Wood County Museum
REFRESH-INTERVAL;VALUE=DURATION:PT1H
X-Robots-Tag:noindex
X-PUBLISHED-TTL:PT1H
BEGIN:VTIMEZONE
TZID:America/New_York
BEGIN:DAYLIGHT
TZOFFSETFROM:-0500
TZOFFSETTO:-0400
TZNAME:EDT
DTSTART:20240310T070000
END:DAYLIGHT
BEGIN:STANDARD
TZOFFSETFROM:-0400
TZOFFSETTO:-0500
TZNAME:EST
DTSTART:20241103T060000
END:STANDARD
BEGIN:DAYLIGHT
TZOFFSETFROM:-0500
TZOFFSETTO:-0400
TZNAME:EDT
DTSTART:20250309T070000
END:DAYLIGHT
BEGIN:STANDARD
TZOFFSETFROM:-0400
TZOFFSETTO:-0500
TZNAME:EST
DTSTART:20251102T060000
END:STANDARD
BEGIN:DAYLIGHT
TZOFFSETFROM:-0500
TZOFFSETTO:-0400
TZNAME:EDT
DTSTART:20260308T070000
END:DAYLIGHT
BEGIN:STANDARD
TZOFFSETFROM:-0400
TZOFFSETTO:-0500
TZNAME:EST
DTSTART:20261101T060000
END:STANDARD
END:VTIMEZONE
BEGIN:VEVENT
DTSTART;TZID=America/New_York:20250925T160000
DTEND;TZID=America/New_York:20250925T190000
DTSTAMP:20260421T165553
CREATED:20250802T185747Z
LAST-MODIFIED:20250802T185747Z
UID:7716-1758816000-1758826800@woodcountyhistory.org
SUMMARY:Peaches Birthday Paw-ty!
DESCRIPTION:Join the Wood County Museum & For the Love of Cats on September 25 from 4-7pm to celebrate the birthday kitty\, Peaches! Enjoy cake\, cookies\, punch and cotton candy (donated by Awesome Sauce Sugar Floss)!\nThe Wood County Museum is collecting donations for Peaches upkeep\, with 50% of the proceeds going to For the Love of Cats. Plus\, there will be a kitty food and supply drive for our organization. See our wish list at www.4loveofcats.org/amazon.\n\nPeaches birthday party is a FREE community event and RSVPs are appreciated. You can call 419-352-0967 or reserve online at woodcountyhistory.org\n\nBackstory on Peaches: Peaches is a barn cat that adopted the Wood County Museum as his home. He has been with us for about 3 years now. The staff and community members help care for him\, and he loves the attention he gets. Peaches is a TNR cat\, and was part of our TNR program. Peaches is also a feature on the museum’s Facebook page every Saturday for #caturday!
URL:https://woodcountyhistory.org/event/peaches-birthday-paw-ty-2/
ATTACH;FMTTYPE=image/jpeg:https://woodcountyhistory.org/wp-content/uploads/2025/08/524452599_776074831613385_24093524492811926_n.jpg
END:VEVENT
END:VCALENDAR