BEGIN:VCALENDAR
VERSION:2.0
PRODID:-//Wood County Museum - ECPv6.15.20//NONSGML v1.0//EN
CALSCALE:GREGORIAN
METHOD:PUBLISH
X-ORIGINAL-URL:https://woodcountyhistory.org
X-WR-CALDESC:Events for Wood County Museum
REFRESH-INTERVAL;VALUE=DURATION:PT1H
X-Robots-Tag:noindex
X-PUBLISHED-TTL:PT1H
BEGIN:VTIMEZONE
TZID:America/New_York
BEGIN:DAYLIGHT
TZOFFSETFROM:-0500
TZOFFSETTO:-0400
TZNAME:EDT
DTSTART:20240310T070000
END:DAYLIGHT
BEGIN:STANDARD
TZOFFSETFROM:-0400
TZOFFSETTO:-0500
TZNAME:EST
DTSTART:20241103T060000
END:STANDARD
BEGIN:DAYLIGHT
TZOFFSETFROM:-0500
TZOFFSETTO:-0400
TZNAME:EDT
DTSTART:20250309T070000
END:DAYLIGHT
BEGIN:STANDARD
TZOFFSETFROM:-0400
TZOFFSETTO:-0500
TZNAME:EST
DTSTART:20251102T060000
END:STANDARD
BEGIN:DAYLIGHT
TZOFFSETFROM:-0500
TZOFFSETTO:-0400
TZNAME:EDT
DTSTART:20260308T070000
END:DAYLIGHT
BEGIN:STANDARD
TZOFFSETFROM:-0400
TZOFFSETTO:-0500
TZNAME:EST
DTSTART:20261101T060000
END:STANDARD
END:VTIMEZONE
BEGIN:VEVENT
DTSTART;TZID=America/New_York:20250929T180000
DTEND;TZID=America/New_York:20250929T193000
DTSTAMP:20260421T152931
CREATED:20250802T185044Z
LAST-MODIFIED:20250929T185625Z
UID:7711-1759168800-1759174200@woodcountyhistory.org
SUMMARY:Tea & Autumn Pie Chocolate Flight Class
DESCRIPTION:September 29\, 2025 at 6:00PM \nTea & Autumn Pie Chocolate Flight\nAdmission: $40/person\n \nExperience an unforgettable evening with The Summer Kitchen Girls and the Wood County Museum! Indulge in the perfect pairing of exquisite black\, white\, and green teas alongside gourmet Autumn Pie Chocolates—delight in flavors like Pumpkin Pie\, Chocolate Silk Pie\, Apple Pie\, and Pecan Pie. Join us as we explore the tasting wheel to uncover the unique flavors of each chocolate and tea combination. Don’t miss this delicious adventure! Included with your ticket is a self-guided tour of the Wood County Museum. \n\n***Due to the nature of the event\, tickets are not refundable***
URL:https://woodcountyhistory.org/event/teachocpie/
LOCATION:Wood County Museum\, 13660 County Home Rd.\, Bowling Green\, OH\, 43402\, United States
ATTACH;FMTTYPE=image/png:https://woodcountyhistory.org/wp-content/uploads/2025/08/Tea-Chocolate-CLase-scaled.png
ORGANIZER;CN="Wood County Museum":MAILTO:visitus@woodcountyhistory.org
END:VEVENT
END:VCALENDAR