BEGIN:VCALENDAR
VERSION:2.0
PRODID:-//Wood County Museum - ECPv6.15.20//NONSGML v1.0//EN
CALSCALE:GREGORIAN
METHOD:PUBLISH
X-WR-CALNAME:Wood County Museum
X-ORIGINAL-URL:https://woodcountyhistory.org
X-WR-CALDESC:Events for Wood County Museum
REFRESH-INTERVAL;VALUE=DURATION:PT1H
X-Robots-Tag:noindex
X-PUBLISHED-TTL:PT1H
BEGIN:VTIMEZONE
TZID:America/New_York
BEGIN:DAYLIGHT
TZOFFSETFROM:-0500
TZOFFSETTO:-0400
TZNAME:EDT
DTSTART:20240310T070000
END:DAYLIGHT
BEGIN:STANDARD
TZOFFSETFROM:-0400
TZOFFSETTO:-0500
TZNAME:EST
DTSTART:20241103T060000
END:STANDARD
BEGIN:DAYLIGHT
TZOFFSETFROM:-0500
TZOFFSETTO:-0400
TZNAME:EDT
DTSTART:20250309T070000
END:DAYLIGHT
BEGIN:STANDARD
TZOFFSETFROM:-0400
TZOFFSETTO:-0500
TZNAME:EST
DTSTART:20251102T060000
END:STANDARD
BEGIN:DAYLIGHT
TZOFFSETFROM:-0500
TZOFFSETTO:-0400
TZNAME:EDT
DTSTART:20260308T070000
END:DAYLIGHT
BEGIN:STANDARD
TZOFFSETFROM:-0400
TZOFFSETTO:-0500
TZNAME:EST
DTSTART:20261101T060000
END:STANDARD
END:VTIMEZONE
BEGIN:VEVENT
DTSTART;TZID=America/New_York:20251009T140000
DTEND;TZID=America/New_York:20251009T160000
DTSTAMP:20260421T154221
CREATED:20241209T152327Z
LAST-MODIFIED:20250828T194812Z
UID:6644-1760018400-1760025600@woodcountyhistory.org
SUMMARY:Tea & Talk Series: Art Plunder and the Monuments Men
DESCRIPTION:****LIMITED TICKETS REMAIN! PLEASE CALL 419-352-0967 TO PURCHASE!****\n  \n  \n“Art Plunder and the Monuments Men” \nJoin the Wood County Museum and WWII historian and reenactor Daniel Gill for a program about Nazi Germany’s efforts to steal Europe’s greatest art treasures\, and the allied forces (the Monuments Men) efforts to rescue them. \n  \nAbout the Speaker: \n  \n  \nEach monthly tea & talk starts with a catered luncheon\, warm tea\, and a unique presentation over a topic of interest. Reservations are required and are due the Friday before each tea. All Ticket Sales are Final. Tickets are final sale & non-refundable. Handicap accessible facilities. Groups Welcome. \nPrice: $25/Museum Members\, $30/Non-Members\, $30/Gluten Free/Vegan Meal
URL:https://woodcountyhistory.org/event/tea-talk-series-artplunder/
LOCATION:Wood County Museum\, 13660 County Home Rd.\, Bowling Green\, OH\, 43402\, United States
ATTACH;FMTTYPE=image/jpeg:https://woodcountyhistory.org/wp-content/uploads/2024/12/17427532_101.jpg
ORGANIZER;CN="Wood County Museum":MAILTO:visitus@woodcountyhistory.org
END:VEVENT
END:VCALENDAR