BEGIN:VCALENDAR
VERSION:2.0
PRODID:-//Wood County Museum - ECPv6.15.20//NONSGML v1.0//EN
CALSCALE:GREGORIAN
METHOD:PUBLISH
X-WR-CALNAME:Wood County Museum
X-ORIGINAL-URL:https://woodcountyhistory.org
X-WR-CALDESC:Events for Wood County Museum
REFRESH-INTERVAL;VALUE=DURATION:PT1H
X-Robots-Tag:noindex
X-PUBLISHED-TTL:PT1H
BEGIN:VTIMEZONE
TZID:America/New_York
BEGIN:DAYLIGHT
TZOFFSETFROM:-0500
TZOFFSETTO:-0400
TZNAME:EDT
DTSTART:20240310T070000
END:DAYLIGHT
BEGIN:STANDARD
TZOFFSETFROM:-0400
TZOFFSETTO:-0500
TZNAME:EST
DTSTART:20241103T060000
END:STANDARD
BEGIN:DAYLIGHT
TZOFFSETFROM:-0500
TZOFFSETTO:-0400
TZNAME:EDT
DTSTART:20250309T070000
END:DAYLIGHT
BEGIN:STANDARD
TZOFFSETFROM:-0400
TZOFFSETTO:-0500
TZNAME:EST
DTSTART:20251102T060000
END:STANDARD
BEGIN:DAYLIGHT
TZOFFSETFROM:-0500
TZOFFSETTO:-0400
TZNAME:EDT
DTSTART:20260308T070000
END:DAYLIGHT
BEGIN:STANDARD
TZOFFSETFROM:-0400
TZOFFSETTO:-0500
TZNAME:EST
DTSTART:20261101T060000
END:STANDARD
END:VTIMEZONE
BEGIN:VEVENT
DTSTART;TZID=America/New_York:20251016T180000
DTEND;TZID=America/New_York:20251016T190000
DTSTAMP:20260421T152624
CREATED:20251006T154751Z
LAST-MODIFIED:20251006T174752Z
UID:8051-1760637600-1760641200@woodcountyhistory.org
SUMMARY:History\, Ghosts\, & Legends of the Great Black Swamp
DESCRIPTION:History\, Ghosts\, & Legends of the Great Black Swamp \nLearn more about the history of the Great Black Swamp and the settling of Wood County through two Ghostly Legends from Mike McMaster of the Wood County Museum. What is the history behind these spooky tales\, who wrote them\, and why? \nOctober 16\, 2025 • 6:00PM \nWalbridge Library Meeting Room • 108 North Main St. Walbridge OH 43465 \nCost: FREE!
URL:https://woodcountyhistory.org/event/history-ghosts-legends-of-the-great-black-swamp/
LOCATION:Walbridge Public Library\, 108 N. Main St.\, Walbridge\, OH\, 43465\, United States
ATTACH;FMTTYPE=application/pdf:https://woodcountyhistory.org/wp-content/uploads/2025/10/History-Ghosts-Legends-of-the-Great-Black-Swamp-Flyer-8.5-x-11-in.pdf
END:VEVENT
END:VCALENDAR