BEGIN:VCALENDAR
VERSION:2.0
PRODID:-//Wood County Museum - ECPv6.15.20//NONSGML v1.0//EN
CALSCALE:GREGORIAN
METHOD:PUBLISH
X-ORIGINAL-URL:https://woodcountyhistory.org
X-WR-CALDESC:Events for Wood County Museum
REFRESH-INTERVAL;VALUE=DURATION:PT1H
X-Robots-Tag:noindex
X-PUBLISHED-TTL:PT1H
BEGIN:VTIMEZONE
TZID:America/New_York
BEGIN:DAYLIGHT
TZOFFSETFROM:-0500
TZOFFSETTO:-0400
TZNAME:EDT
DTSTART:20240310T070000
END:DAYLIGHT
BEGIN:STANDARD
TZOFFSETFROM:-0400
TZOFFSETTO:-0500
TZNAME:EST
DTSTART:20241103T060000
END:STANDARD
BEGIN:DAYLIGHT
TZOFFSETFROM:-0500
TZOFFSETTO:-0400
TZNAME:EDT
DTSTART:20250309T070000
END:DAYLIGHT
BEGIN:STANDARD
TZOFFSETFROM:-0400
TZOFFSETTO:-0500
TZNAME:EST
DTSTART:20251102T060000
END:STANDARD
BEGIN:DAYLIGHT
TZOFFSETFROM:-0500
TZOFFSETTO:-0400
TZNAME:EDT
DTSTART:20260308T070000
END:DAYLIGHT
BEGIN:STANDARD
TZOFFSETFROM:-0400
TZOFFSETTO:-0500
TZNAME:EST
DTSTART:20261101T060000
END:STANDARD
END:VTIMEZONE
BEGIN:VEVENT
DTSTART;TZID=America/New_York:20251106T123000
DTEND;TZID=America/New_York:20251106T123000
DTSTAMP:20260421T135907
CREATED:20250707T164756Z
LAST-MODIFIED:20251106T173753Z
UID:7616-1762432200-1762432200@woodcountyhistory.org
SUMMARY:Turkey Drop Fundraiser
DESCRIPTION:FOAM TURKEY DROP FUNDRAISER \nNovember 6\, 2025 at 12:30 PM • Wood County Museum Parking Lot \nDON’T MISS THIS FUN OPPORTUNITY TO SUPPORT THE WOOD COUNTY MUSEUM!\n***Come watch the drop and grab some Lunch – Turkey Dogs will be available for a donation***\n\nHere’s how it works: Purchase a foam turkey for $50 each.\nONLY 300 TURKEYS WILL BE SOLD!\n***upon purchase of your foam turkey online\, you will be emailed your number***\n\nFoam Turkeys can be purchased online\, at the museum or on location day of the event before the drop (while supplies last).\n\nToledo Aerial Media (TAM) will use a drone to drop numbered foam turkeys onto the parking lot.\nThe three foam turkeys closest to the target will win prizes!\n\n\nPRIZES\n(2 TARGETS\, 2 OF EACH CASH PRIZE)\n1st Closest to Target: $1\,000\n2nd Closest to Target: $750\n3rd Closest to Target: $500\nVarious other prizes as well!\n\nDrop will take place approximately around 12:30 PM\nYou do not have to be present to win.\n*Once you purchase your ticket\, we will email you letting you know your number(s).\n\nDrop is limited to 300 Foam Turkeys. Foam Turkeys will be sold up until 12:00pm on 11/6/25 or until sold out.\n  \nIn the case of inclement weather\, the turkey drop will be rescheduled.\n  \nTurkey Drone Drop performed by: Toledo Aerial Media\nProceeds go to the Wood County Historical Society to help support educational programs\, future exhibits\, and collections management.
URL:https://woodcountyhistory.org/event/turkey-drop-fundraiser25/
LOCATION:Wood County Museum\, 13660 County Home Rd.\, Bowling Green\, OH\, 43402\, United States
ATTACH;FMTTYPE=image/jpeg:https://woodcountyhistory.org/wp-content/uploads/2023/09/r4wY0-1542138994-related_image-1022.jpeg
ORGANIZER;CN="Wood County Museum":MAILTO:visitus@woodcountyhistory.org
END:VEVENT
END:VCALENDAR