BEGIN:VCALENDAR
VERSION:2.0
PRODID:-//Wood County Museum - ECPv6.15.20//NONSGML v1.0//EN
CALSCALE:GREGORIAN
METHOD:PUBLISH
X-ORIGINAL-URL:https://woodcountyhistory.org
X-WR-CALDESC:Events for Wood County Museum
REFRESH-INTERVAL;VALUE=DURATION:PT1H
X-Robots-Tag:noindex
X-PUBLISHED-TTL:PT1H
BEGIN:VTIMEZONE
TZID:America/New_York
BEGIN:DAYLIGHT
TZOFFSETFROM:-0500
TZOFFSETTO:-0400
TZNAME:EDT
DTSTART:20240310T070000
END:DAYLIGHT
BEGIN:STANDARD
TZOFFSETFROM:-0400
TZOFFSETTO:-0500
TZNAME:EST
DTSTART:20241103T060000
END:STANDARD
BEGIN:DAYLIGHT
TZOFFSETFROM:-0500
TZOFFSETTO:-0400
TZNAME:EDT
DTSTART:20250309T070000
END:DAYLIGHT
BEGIN:STANDARD
TZOFFSETFROM:-0400
TZOFFSETTO:-0500
TZNAME:EST
DTSTART:20251102T060000
END:STANDARD
BEGIN:DAYLIGHT
TZOFFSETFROM:-0500
TZOFFSETTO:-0400
TZNAME:EDT
DTSTART:20260308T070000
END:DAYLIGHT
BEGIN:STANDARD
TZOFFSETFROM:-0400
TZOFFSETTO:-0500
TZNAME:EST
DTSTART:20261101T060000
END:STANDARD
END:VTIMEZONE
BEGIN:VEVENT
DTSTART;TZID=America/New_York:20251108T140000
DTEND;TZID=America/New_York:20251108T153000
DTSTAMP:20260421T135907
CREATED:20251028T170127Z
LAST-MODIFIED:20251028T170127Z
UID:8260-1762610400-1762615800@woodcountyhistory.org
SUMMARY:Education On The Road: Made In North Baltimore
DESCRIPTION:What makes North Baltimore such an interesting place? \nSpend a Saturday afternoon with Curator of the Wood County Museum Holly Kirkendall to learn something new about this little corner of Wood County. \nThis program is FREE & open to the public! \nDate: November 8\, 2025 at 2:00PM \nProgram Location: North Baltimore Historical Society (229 N. Main St. North Baltimore\, OH 45872)
URL:https://woodcountyhistory.org/event/education-on-the-road-made-in-north-baltimore/
LOCATION:North Baltimore Historical Society\, 229 North Main Street\, North Baltimore\, 45872\, United States
ATTACH;FMTTYPE=image/png:https://woodcountyhistory.org/wp-content/uploads/2025/10/EOTR-MADE-IN-NB-FBWEB-Event-Cover-scaled.png
END:VEVENT
END:VCALENDAR