BEGIN:VCALENDAR
VERSION:2.0
PRODID:-//Wood County Museum - ECPv6.15.20//NONSGML v1.0//EN
CALSCALE:GREGORIAN
METHOD:PUBLISH
X-WR-CALNAME:Wood County Museum
X-ORIGINAL-URL:https://woodcountyhistory.org
X-WR-CALDESC:Events for Wood County Museum
REFRESH-INTERVAL;VALUE=DURATION:PT1H
X-Robots-Tag:noindex
X-PUBLISHED-TTL:PT1H
BEGIN:VTIMEZONE
TZID:America/New_York
BEGIN:DAYLIGHT
TZOFFSETFROM:-0500
TZOFFSETTO:-0400
TZNAME:EDT
DTSTART:20250309T070000
END:DAYLIGHT
BEGIN:STANDARD
TZOFFSETFROM:-0400
TZOFFSETTO:-0500
TZNAME:EST
DTSTART:20251102T060000
END:STANDARD
BEGIN:DAYLIGHT
TZOFFSETFROM:-0500
TZOFFSETTO:-0400
TZNAME:EDT
DTSTART:20260308T070000
END:DAYLIGHT
BEGIN:STANDARD
TZOFFSETFROM:-0400
TZOFFSETTO:-0500
TZNAME:EST
DTSTART:20261101T060000
END:STANDARD
BEGIN:DAYLIGHT
TZOFFSETFROM:-0500
TZOFFSETTO:-0400
TZNAME:EDT
DTSTART:20270314T070000
END:DAYLIGHT
BEGIN:STANDARD
TZOFFSETFROM:-0400
TZOFFSETTO:-0500
TZNAME:EST
DTSTART:20271107T060000
END:STANDARD
END:VTIMEZONE
BEGIN:VEVENT
DTSTART;TZID=America/New_York:20260122T183000
DTEND;TZID=America/New_York:20260122T200000
DTSTAMP:20260421T105744
CREATED:20260108T195319Z
LAST-MODIFIED:20260108T215718Z
UID:8617-1769106600-1769112000@woodcountyhistory.org
SUMMARY:Author Meet & Greet with Brandy Gleason at the North Baltimore Public Library
DESCRIPTION:Join us for a Author talk and book signing at the North Baltimore Public Library . Brandy Gleason\, author of “100 Things to do in Ohio Before You Die” will give a presentiation on January 22\, 2026 at 6:30pm at the North Baltimore Public Library. The Wood County Museum is featured in this book on page 135.\n\n\n\n\n\n\nThursday\, January 22 at 6:30 PM\nFREE EVENT!\nLocation: North Baltimore Public Library – 230 N Main St\, North Baltimore\, OH\n\n\n\n\n\nIconic Ohio Road Trips and Across America Celebrating America 250\n\n\nThis engaging talk invites audiences to hit the open road and rediscover the stories that shaped our nation\, one unforgettable mile at a time. Iconic Ohio Road Trips and Across America Celebrating America 250 highlights scenic drives\, historic byways\, and can’t-miss stops that connect Ohio’s rich past to the broader American story as we approach the nation’s 250th birthday.\n\n\n\n\n\nDesigned for travelers\, history lovers\, and lifelong learners\, the presentation blends storytelling\, photography\, and practical trip ideas. Attendees will explore how Ohio’s landscapes\, communities\, and landmarks played pivotal roles in America’s journey\, while also discovering road trip routes across the country that bring the America 250 celebration to life.\n\n\n\n\n\nFrom charming small towns and presidential history to cultural landmarks and modern-day must-sees\, this talk shows how road trips can be both meaningful and fun.\n\n\nFor more information please visit: https://www.nbpubliclibrary.org/\n\n\n\n\nIn partnership with the North Baltimore Public Library & the Friends of North Baltimore Library.
URL:https://woodcountyhistory.org/event/author-meet-greet-with-brandy-gleason-at-the-north-baltimore-public-library/
LOCATION:North Baltimore Public Library\, 230 N. Main Street\, North Baltimore\, OH\, 45872\, United States
ATTACH;FMTTYPE=image/jpeg:https://woodcountyhistory.org/wp-content/uploads/2026/01/612199927_10235225272065660_3066942669915222923_n.jpg
END:VEVENT
END:VCALENDAR