BEGIN:VCALENDAR
VERSION:2.0
PRODID:-//Wood County Museum - ECPv6.15.20//NONSGML v1.0//EN
CALSCALE:GREGORIAN
METHOD:PUBLISH
X-WR-CALNAME:Wood County Museum
X-ORIGINAL-URL:https://woodcountyhistory.org
X-WR-CALDESC:Events for Wood County Museum
REFRESH-INTERVAL;VALUE=DURATION:PT1H
X-Robots-Tag:noindex
X-PUBLISHED-TTL:PT1H
BEGIN:VTIMEZONE
TZID:America/New_York
BEGIN:DAYLIGHT
TZOFFSETFROM:-0500
TZOFFSETTO:-0400
TZNAME:EDT
DTSTART:20250309T070000
END:DAYLIGHT
BEGIN:STANDARD
TZOFFSETFROM:-0400
TZOFFSETTO:-0500
TZNAME:EST
DTSTART:20251102T060000
END:STANDARD
BEGIN:DAYLIGHT
TZOFFSETFROM:-0500
TZOFFSETTO:-0400
TZNAME:EDT
DTSTART:20260308T070000
END:DAYLIGHT
BEGIN:STANDARD
TZOFFSETFROM:-0400
TZOFFSETTO:-0500
TZNAME:EST
DTSTART:20261101T060000
END:STANDARD
BEGIN:DAYLIGHT
TZOFFSETFROM:-0500
TZOFFSETTO:-0400
TZNAME:EDT
DTSTART:20270314T070000
END:DAYLIGHT
BEGIN:STANDARD
TZOFFSETFROM:-0400
TZOFFSETTO:-0500
TZNAME:EST
DTSTART:20271107T060000
END:STANDARD
END:VTIMEZONE
BEGIN:VEVENT
DTSTART;TZID=America/New_York:20260210T121500
DTEND;TZID=America/New_York:20260210T130000
DTSTAMP:20260420T123147
CREATED:20260130T222924Z
LAST-MODIFIED:20260130T222924Z
UID:8824-1770725700-1770728400@woodcountyhistory.org
SUMMARY:Education on the Road – Metcalf Field: Wood County’s Transcontinental Airport
DESCRIPTION:Join Mike McMaster as he gives an education program over Metcalf Field. \nMetcalf Field: Wood County’s Transcontinental Airport” Dedicated in 1928\, the airport in Lake Township had a colorful history with more than a few famous guests.  Learn about the airfield we remember at Metcalf Field and a little bit about who Tommy Metcalf was. \nProgram Date: February 10\, 2026Program Time: 12:15PMProgram Location: Rossford Senior Center – 400 Dixie Highway Rossford\, OH 43460Cost: FREE!
URL:https://woodcountyhistory.org/event/education-on-the-road-metcalf-field-wood-countys-transcontinental-airport-5/
LOCATION:Rossford Senior Center\, 400 Dixie Highway\, Rossford\, OH\, 43460\, United States
ATTACH;FMTTYPE=image/png:https://woodcountyhistory.org/wp-content/uploads/2024/08/General-2.png
END:VEVENT
END:VCALENDAR