BEGIN:VCALENDAR
VERSION:2.0
PRODID:-//Wood County Museum - ECPv6.15.20//NONSGML v1.0//EN
CALSCALE:GREGORIAN
METHOD:PUBLISH
X-WR-CALNAME:Wood County Museum
X-ORIGINAL-URL:https://woodcountyhistory.org
X-WR-CALDESC:Events for Wood County Museum
REFRESH-INTERVAL;VALUE=DURATION:PT1H
X-Robots-Tag:noindex
X-PUBLISHED-TTL:PT1H
BEGIN:VTIMEZONE
TZID:America/New_York
BEGIN:DAYLIGHT
TZOFFSETFROM:-0500
TZOFFSETTO:-0400
TZNAME:EDT
DTSTART:20250309T070000
END:DAYLIGHT
BEGIN:STANDARD
TZOFFSETFROM:-0400
TZOFFSETTO:-0500
TZNAME:EST
DTSTART:20251102T060000
END:STANDARD
BEGIN:DAYLIGHT
TZOFFSETFROM:-0500
TZOFFSETTO:-0400
TZNAME:EDT
DTSTART:20260308T070000
END:DAYLIGHT
BEGIN:STANDARD
TZOFFSETFROM:-0400
TZOFFSETTO:-0500
TZNAME:EST
DTSTART:20261101T060000
END:STANDARD
BEGIN:DAYLIGHT
TZOFFSETFROM:-0500
TZOFFSETTO:-0400
TZNAME:EDT
DTSTART:20270314T070000
END:DAYLIGHT
BEGIN:STANDARD
TZOFFSETFROM:-0400
TZOFFSETTO:-0500
TZNAME:EST
DTSTART:20271107T060000
END:STANDARD
END:VTIMEZONE
BEGIN:VEVENT
DTSTART;TZID=America/New_York:20260212T121500
DTEND;TZID=America/New_York:20260212T130000
DTSTAMP:20260420T095459
CREATED:20260130T223440Z
LAST-MODIFIED:20260130T223440Z
UID:8826-1770898500-1770901200@woodcountyhistory.org
SUMMARY:Education on the Road – Metcalf Field: Wood County’s Transcontinental Airport
DESCRIPTION:Join Mike McMaster as he gives an education program over Metcalf Field. \nMetcalf Field: Wood County’s Transcontinental Airport” Dedicated in 1928\, the airport in Lake Township had a colorful history with more than a few famous guests.  Learn about the airfield we remember at Metcalf Field and a little bit about who Tommy Metcalf was. \nProgram Date: February 12\, 2026Program Time: 12:15PMProgram Location: Wayne Senior Center -202 East Main Street Wayne\, OH 43466Cost: FREE!
URL:https://woodcountyhistory.org/event/education-on-the-road-metcalf-field-wood-countys-transcontinental-airport-6/
LOCATION:Wayne Senior Center\, 202 E Main St\, Wayne\, 43466\, United States
ATTACH;FMTTYPE=image/png:https://woodcountyhistory.org/wp-content/uploads/2024/08/General-2.png
END:VEVENT
BEGIN:VEVENT
DTSTART;TZID=America/New_York:20260212T180000
DTEND;TZID=America/New_York:20260212T203000
DTSTAMP:20260420T095459
CREATED:20260109T204957Z
LAST-MODIFIED:20260109T204957Z
UID:8628-1770919200-1770928200@woodcountyhistory.org
SUMMARY:Purrs & Kisses Bingo Night Fundraiser
DESCRIPTION:Purrs & Kisses Bingo Night Fundraiser\nFebruary 12 | Doors open at 6:00PM – Bingo starts at 6:30PM \n$7 for one card or $10 for 2 cards • 14 rounds of bingo \nLocation: Wood County Museum Meeting Room \nTreat your and your sweetie to a purr-fectly good time! Join us on Thursday\, February 12 for a Bingo Night Fundraiser. Hosted by the Wood County Museum to benefit For the Love of Cats. \n\nWinners “pick your prize”\nBake sale hosed by the Wood County Museum to benefit ongoing programs\nLight Refreshments will be served\nCool cat merch available to purchase\nGift basket giveaways\nCat food drive also happening\n\nFunds raised will be used to purchase much needed equipment for For The Love of Cats\, including a new washer and dryer\, traps\, and other items. FLOC is also accepting cat food donations. Thank you for your support! \nRSVP appreciated! \n*RSVP does not secure your spot – it just helps us get a general headcount. \n 
URL:https://woodcountyhistory.org/event/purrs-kisses-bingo-night-fundraiser/
LOCATION:Wood County Museum\, 13660 County Home Rd.\, Bowling Green\, OH\, 43402\, United States
ATTACH;FMTTYPE=image/jpeg:https://woodcountyhistory.org/wp-content/uploads/2026/01/613404404_907859478434919_3115491064805084194_n.jpg
END:VEVENT
END:VCALENDAR