BEGIN:VCALENDAR
VERSION:2.0
PRODID:-//Wood County Museum - ECPv6.15.20//NONSGML v1.0//EN
CALSCALE:GREGORIAN
METHOD:PUBLISH
X-WR-CALNAME:Wood County Museum
X-ORIGINAL-URL:https://woodcountyhistory.org
X-WR-CALDESC:Events for Wood County Museum
REFRESH-INTERVAL;VALUE=DURATION:PT1H
X-Robots-Tag:noindex
X-PUBLISHED-TTL:PT1H
BEGIN:VTIMEZONE
TZID:America/New_York
BEGIN:DAYLIGHT
TZOFFSETFROM:-0500
TZOFFSETTO:-0400
TZNAME:EDT
DTSTART:20250309T070000
END:DAYLIGHT
BEGIN:STANDARD
TZOFFSETFROM:-0400
TZOFFSETTO:-0500
TZNAME:EST
DTSTART:20251102T060000
END:STANDARD
BEGIN:DAYLIGHT
TZOFFSETFROM:-0500
TZOFFSETTO:-0400
TZNAME:EDT
DTSTART:20260308T070000
END:DAYLIGHT
BEGIN:STANDARD
TZOFFSETFROM:-0400
TZOFFSETTO:-0500
TZNAME:EST
DTSTART:20261101T060000
END:STANDARD
BEGIN:DAYLIGHT
TZOFFSETFROM:-0500
TZOFFSETTO:-0400
TZNAME:EDT
DTSTART:20270314T070000
END:DAYLIGHT
BEGIN:STANDARD
TZOFFSETFROM:-0400
TZOFFSETTO:-0500
TZNAME:EST
DTSTART:20271107T060000
END:STANDARD
END:VTIMEZONE
BEGIN:VEVENT
DTSTART;VALUE=DATE:20260302
DTEND;VALUE=DATE:20260404
DTSTAMP:20260421T054722
CREATED:20260227T194831Z
LAST-MODIFIED:20260227T194850Z
UID:9041-1772409600-1775260799@woodcountyhistory.org
SUMMARY:Easter Egg Scavenger Hunt
DESCRIPTION:Join the Wood County Museum for the 6th Annual Easter Egg Scavenger Hunt Presented by Sleek Academy & All About the Kids Learning Center.\n\nFrom March 2 – April 3\, find all 10 egg signs and collect the clues to win a prize. Signs will be “hidden” all around the Museum grounds\, all 50 acres! This is a FREE community event!\nThis is an egg hunt that is for both kids and adults\, everyone is welcome to participate!\nYou can pick up your “passport” book inside the Museum during open hours\, or at either of the information kiosks on the grounds (visitor parking lot or behind the building by the Herb Garden).\nOnce you find all the egg signs and fill out the clue answers\, bring your completed passport back to the museum front desk during open hours (Weekdays: 10AM-4PM\, Saturday: 12PM-4PM) to claim your prize.\nWe hope you have fun and learn a little bit of our history while hunting for clues!\n\nThank you to our Presenting Sponsors Sleek Academy & All About the Kids Learning Center. And thank you to our sign sponsors: Perrysburg Area Chamber of Commerce\, Dr. Ted Bowlus – Podiatrist\, St. Aloysius Catholic School\, Susan & George Winters\, \, The Morning Show BG\, Renewed Outdoors\, LLC\, Trilogy Health Care\, Lanny & Marcia Traber\, Nick Wells\, and The Wells Family.\n\n 
URL:https://woodcountyhistory.org/event/easter-egg-scavenger-hunt-2/
LOCATION:Wood County Museum\, 13660 County Home Rd.\, Bowling Green\, OH\, 43402\, United States
ATTACH;FMTTYPE=image/jpeg:https://woodcountyhistory.org/wp-content/uploads/2021/12/6a00e554e8195d883301bb098fe8f4970d.jpeg
ORGANIZER;CN="Wood County Museum":MAILTO:visitus@woodcountyhistory.org
END:VEVENT
BEGIN:VEVENT
DTSTART;TZID=America/New_York:20260309T140000
DTEND;TZID=America/New_York:20260309T150000
DTSTAMP:20260421T054722
CREATED:20260129T201213Z
LAST-MODIFIED:20260227T193659Z
UID:8773-1773064800-1773068400@woodcountyhistory.org
SUMMARY:Taste Test the Past: Weird Recipes
DESCRIPTION:***This event is sold out – Waitlist available – please call 419-352-0967*** \n  \nJoin the Wood County Museum for our American 250 themed cooking series: Taste Test the Past! \nAspic\, “salads”\, and casseroles\, OH MY! Learn about the history of American cook books through…unique…recipes. Sample these foods from the past and take some recipes home…if you are adventurous! \nWhen: March 9\, 2026 at 2:00PM \nCost: FREE for members; $10 for non-members (tickets include a self-guided tour of the museum in addition to the program) \n***Each person attending must be a member to get the member rate. Members may not make reservations for non-members on their behalf***
URL:https://woodcountyhistory.org/event/taste-test-the-past-weird-recipes/
LOCATION:Wood County Museum\, 13660 County Home Rd.\, Bowling Green\, OH\, 43402\, United States
CATEGORIES:America250 Event
ATTACH;FMTTYPE=image/png:https://woodcountyhistory.org/wp-content/uploads/2026/01/Taste-Test-March-scaled.png
END:VEVENT
END:VCALENDAR