BEGIN:VCALENDAR
VERSION:2.0
PRODID:-//Wood County Museum - ECPv6.15.20//NONSGML v1.0//EN
CALSCALE:GREGORIAN
METHOD:PUBLISH
X-ORIGINAL-URL:https://woodcountyhistory.org
X-WR-CALDESC:Events for Wood County Museum
REFRESH-INTERVAL;VALUE=DURATION:PT1H
X-Robots-Tag:noindex
X-PUBLISHED-TTL:PT1H
BEGIN:VTIMEZONE
TZID:America/New_York
BEGIN:DAYLIGHT
TZOFFSETFROM:-0500
TZOFFSETTO:-0400
TZNAME:EDT
DTSTART:20250309T070000
END:DAYLIGHT
BEGIN:STANDARD
TZOFFSETFROM:-0400
TZOFFSETTO:-0500
TZNAME:EST
DTSTART:20251102T060000
END:STANDARD
BEGIN:DAYLIGHT
TZOFFSETFROM:-0500
TZOFFSETTO:-0400
TZNAME:EDT
DTSTART:20260308T070000
END:DAYLIGHT
BEGIN:STANDARD
TZOFFSETFROM:-0400
TZOFFSETTO:-0500
TZNAME:EST
DTSTART:20261101T060000
END:STANDARD
BEGIN:DAYLIGHT
TZOFFSETFROM:-0500
TZOFFSETTO:-0400
TZNAME:EDT
DTSTART:20270314T070000
END:DAYLIGHT
BEGIN:STANDARD
TZOFFSETFROM:-0400
TZOFFSETTO:-0500
TZNAME:EST
DTSTART:20271107T060000
END:STANDARD
END:VTIMEZONE
BEGIN:VEVENT
DTSTART;TZID=America/New_York:20260409T140000
DTEND;TZID=America/New_York:20260409T160000
DTSTAMP:20260419T081108
CREATED:20251208T204732Z
LAST-MODIFIED:20260316T134034Z
UID:8145-1775743200-1775750400@woodcountyhistory.org
SUMMARY:Tea & Talk Series: Daring Through the Decades - First Ladies as Pioneers of Progress
DESCRIPTION:***LIMITED TICKETS REMAIN – CALL 419-352-0967 TO PURCHASE*** \n“Daring Through the Decades: First Ladies as Pioneers of Progress“ \nFrom the nation’s founding to today\, First Ladies have stepped forward in moments of conflict\, change\, and challenge to shape the course of American history. Inspired by The Eras Exhibit: 250 Years of First Ladies Progress and Power\, this program explores how First Ladies used their voices and influence to champion causes\, guide the nation through war and world affairs\, and open new pathways for progress at home and abroad. \n  \nAbout the Speaker: \nStephanie Bohnak is the current Director of Education & Curatorial Services at the National First Ladies Library and Museum in Canton\, Ohio where she curates all educational programming as well as coordinates\, schedules\, and leads tours of the museum. She is from Akron\, Ohio\, and holds an MA in History and Public History from Bowling Green State University with a focus on marginalized narratives\, specializing in women’s labor and food history. She received a BA in History from the University of Akron with minors in Anthropology and Classics and has an AS in Culinary Arts from Sullivan University in Louisville\, KY. In her previous role as the Museum Education and Tour Manager at the Oberlin Heritage Center\, Stephanie facilitated outreach programs\, field trips\, history walks\, and oversaw all tours. \n  \nEach monthly tea & talk starts with a catered luncheon\, warm tea\, and a unique presentation over a topic of interest. Reservations are required and are due the Friday before each tea. All Ticket Sales are Final. Tickets are final sale & non-refundable. Handicap accessible facilities. Groups Welcome. \nPrice: $30/Museum Members\, $35/Non-Members\, $35/Gluten Free/Vegan Meal \n 
URL:https://woodcountyhistory.org/event/tea-talk-series-daring-through-the-decades-first-ladies-as-pioneers-of-progress/
LOCATION:Wood County Museum\, 13660 County Home Rd.\, Bowling Green\, OH\, 43402\, United States
ATTACH;FMTTYPE=image/png:https://woodcountyhistory.org/wp-content/uploads/2025/10/April-2026-tea-Cover-scaled.png
ORGANIZER;CN="Wood County Museum":MAILTO:visitus@woodcountyhistory.org
END:VEVENT
END:VCALENDAR