BEGIN:VCALENDAR
VERSION:2.0
PRODID:-//Wood County Museum - ECPv6.15.20//NONSGML v1.0//EN
CALSCALE:GREGORIAN
METHOD:PUBLISH
X-WR-CALNAME:Wood County Museum
X-ORIGINAL-URL:https://woodcountyhistory.org
X-WR-CALDESC:Events for Wood County Museum
REFRESH-INTERVAL;VALUE=DURATION:PT1H
X-Robots-Tag:noindex
X-PUBLISHED-TTL:PT1H
BEGIN:VTIMEZONE
TZID:America/New_York
BEGIN:DAYLIGHT
TZOFFSETFROM:-0500
TZOFFSETTO:-0400
TZNAME:EDT
DTSTART:20250309T070000
END:DAYLIGHT
BEGIN:STANDARD
TZOFFSETFROM:-0400
TZOFFSETTO:-0500
TZNAME:EST
DTSTART:20251102T060000
END:STANDARD
BEGIN:DAYLIGHT
TZOFFSETFROM:-0500
TZOFFSETTO:-0400
TZNAME:EDT
DTSTART:20260308T070000
END:DAYLIGHT
BEGIN:STANDARD
TZOFFSETFROM:-0400
TZOFFSETTO:-0500
TZNAME:EST
DTSTART:20261101T060000
END:STANDARD
BEGIN:DAYLIGHT
TZOFFSETFROM:-0500
TZOFFSETTO:-0400
TZNAME:EDT
DTSTART:20270314T070000
END:DAYLIGHT
BEGIN:STANDARD
TZOFFSETFROM:-0400
TZOFFSETTO:-0500
TZNAME:EST
DTSTART:20271107T060000
END:STANDARD
END:VTIMEZONE
BEGIN:VEVENT
DTSTART;TZID=America/New_York:20260701T180000
DTEND;TZID=America/New_York:20260701T190000
DTSTAMP:20260419T112024
CREATED:20260416T201240Z
LAST-MODIFIED:20260416T201240Z
UID:9238-1782928800-1782932400@woodcountyhistory.org
SUMMARY:The Great Depression Lecture Series - "The New Deal Challenged: National Political Dissent in a Changing Nation"
DESCRIPTION:The Great Depression Lecture Series – “The New Deal Challenged: National Political Dissent in a Changing Nation”\nJuly 1 | 6:00PM\nWood County Museum Meeting Room\nFREE \nIn myriad ways\, the Great Depression fundamentally challenged the nation’s established institutional and political norms. For many\, how to best mitigate the unprecedented economic crisis centered on scope and philosophy. However\, for some\, the conditions necessitated a more radical program. In the seventh installment of the Great Depression Lecture Series\, we will examine the left-and right-wing challenges to the New Deal and the individuals who sought to undermine it. \nThis is the seventh installment in the Great Depression Lecture Series\, an America 250 program. This is a Wood County Park District lead event\, in partnership with the Wood County Museum.
URL:https://woodcountyhistory.org/event/the-great-depression-lecture-series-the-new-deal-challenged-national-political-dissent-in-a-changing-nation/
LOCATION:Wood County Museum\, 13660 County Home Rd.\, Bowling Green\, OH\, 43402\, United States
CATEGORIES:America250 Event
ATTACH;FMTTYPE=image/png:https://woodcountyhistory.org/wp-content/uploads/2026/04/JULY_The-Great-Depression-Lecture-Series_Facebook-Event-Banners_1920x1005_RGB-scaled.png
END:VEVENT
END:VCALENDAR