BEGIN:VCALENDAR
VERSION:2.0
PRODID:-//Wood County Museum - ECPv6.15.20//NONSGML v1.0//EN
CALSCALE:GREGORIAN
METHOD:PUBLISH
X-ORIGINAL-URL:https://woodcountyhistory.org
X-WR-CALDESC:Events for Wood County Museum
REFRESH-INTERVAL;VALUE=DURATION:PT1H
X-Robots-Tag:noindex
X-PUBLISHED-TTL:PT1H
BEGIN:VTIMEZONE
TZID:America/New_York
BEGIN:DAYLIGHT
TZOFFSETFROM:-0500
TZOFFSETTO:-0400
TZNAME:EDT
DTSTART:20250309T070000
END:DAYLIGHT
BEGIN:STANDARD
TZOFFSETFROM:-0400
TZOFFSETTO:-0500
TZNAME:EST
DTSTART:20251102T060000
END:STANDARD
BEGIN:DAYLIGHT
TZOFFSETFROM:-0500
TZOFFSETTO:-0400
TZNAME:EDT
DTSTART:20260308T070000
END:DAYLIGHT
BEGIN:STANDARD
TZOFFSETFROM:-0400
TZOFFSETTO:-0500
TZNAME:EST
DTSTART:20261101T060000
END:STANDARD
BEGIN:DAYLIGHT
TZOFFSETFROM:-0500
TZOFFSETTO:-0400
TZNAME:EDT
DTSTART:20270314T070000
END:DAYLIGHT
BEGIN:STANDARD
TZOFFSETFROM:-0400
TZOFFSETTO:-0500
TZNAME:EST
DTSTART:20271107T060000
END:STANDARD
END:VTIMEZONE
BEGIN:VEVENT
DTSTART;TZID=America/New_York:20260805T180000
DTEND;TZID=America/New_York:20260805T190000
DTSTAMP:20260419T141339
CREATED:20260416T201628Z
LAST-MODIFIED:20260416T213820Z
UID:9242-1785952800-1785956400@woodcountyhistory.org
SUMMARY:The Great Depression Lecture Series - "Land of Our Own? Sharecroppers and Tenant Farmers in the Great Depression"
DESCRIPTION:The Great Depression Lecture Series – “Land of Our Own? Sharecroppers and Tenant Farmers in the Great Depression”\nAugust 5 | 6:00PM\nWood County Museum Meeting Room\nFREE \nA core tenet of the New Deal was to improve the economic standing of the nation’s farmers who had suffered from depressed commodity prices since the 1920s. Yet\, the implementation of these programs was often skewed solely toward landowners. For the millions of non-landowning farmers—sharecroppers\, tenant farmers\, and farmworkers—there existed little to no avenues for assistance. Consequently\, a debilitating cycle of debt\, evictions\, and displacements continued to plague this foundational section of American society. In the eighth installment of the Great Depression Lecture Series\, we will examine the conditions afflicting these non-landowning farmers and how the New Deal failed to mitigate their suffering. \nThis is the eighth installment in the Great Depression Lecture Series\, an America 250 program. This is a Wood County Park District lead event\, in partnership with the Wood County Museum.
URL:https://woodcountyhistory.org/event/the-great-depression-lecture-series-land-of-our-own-sharecroppers-and-tenant-farmers-in-the-great-depression/
LOCATION:Wood County Museum\, 13660 County Home Rd.\, Bowling Green\, OH\, 43402\, United States
CATEGORIES:America250 Event
ATTACH;FMTTYPE=image/png:https://woodcountyhistory.org/wp-content/uploads/2026/04/AUGUST_The-Great-Depression-Lecture-Series_Facebook-Event-Banners_1920x1005_RGB-scaled.png
END:VEVENT
END:VCALENDAR