BEGIN:VCALENDAR
VERSION:2.0
PRODID:-//Wood County Museum - ECPv6.15.20//NONSGML v1.0//EN
CALSCALE:GREGORIAN
METHOD:PUBLISH
X-WR-CALNAME:Wood County Museum
X-ORIGINAL-URL:https://woodcountyhistory.org
X-WR-CALDESC:Events for Wood County Museum
REFRESH-INTERVAL;VALUE=DURATION:PT1H
X-Robots-Tag:noindex
X-PUBLISHED-TTL:PT1H
BEGIN:VTIMEZONE
TZID:America/New_York
BEGIN:DAYLIGHT
TZOFFSETFROM:-0500
TZOFFSETTO:-0400
TZNAME:EDT
DTSTART:20250309T070000
END:DAYLIGHT
BEGIN:STANDARD
TZOFFSETFROM:-0400
TZOFFSETTO:-0500
TZNAME:EST
DTSTART:20251102T060000
END:STANDARD
BEGIN:DAYLIGHT
TZOFFSETFROM:-0500
TZOFFSETTO:-0400
TZNAME:EDT
DTSTART:20260308T070000
END:DAYLIGHT
BEGIN:STANDARD
TZOFFSETFROM:-0400
TZOFFSETTO:-0500
TZNAME:EST
DTSTART:20261101T060000
END:STANDARD
BEGIN:DAYLIGHT
TZOFFSETFROM:-0500
TZOFFSETTO:-0400
TZNAME:EDT
DTSTART:20270314T070000
END:DAYLIGHT
BEGIN:STANDARD
TZOFFSETFROM:-0400
TZOFFSETTO:-0500
TZNAME:EST
DTSTART:20271107T060000
END:STANDARD
END:VTIMEZONE
BEGIN:VEVENT
DTSTART;TZID=America/New_York:20260304T180000
DTEND;TZID=America/New_York:20260304T190000
DTSTAMP:20260422T101548
CREATED:20260219T172740Z
LAST-MODIFIED:20260219T172759Z
UID:8945-1772647200-1772650800@woodcountyhistory.org
SUMMARY:The Great Depression Lecture Series - "Panic! The Crash\, the Causes\, and the Beginnings of the Great Depression"
DESCRIPTION:The Great Depression Lecture Series – “Panic! The Crash\, the causes\, and the Beginnings of the Great Depression”\nMarch 4 | 6:00PM\nWood County Museum Meeting Room\nFREE \nIn October 1929\, the Stock Market crashed. The mood\, among consumers and investors\, was bleak. Yet\, in Washington\, President Hoover sought to quell the nation’s fears. The American economy\, he proclaimed\, was “fundamentally sound.” This\, of course\, was not the case. In this lecture\, we will discuss the beginnings of the Great Depression—from 1929 to 1932—focusing specifically on its origins and the initial responses. In doing so\, we will dissect how the intricacies of domestic and international economics culminated in a decade’s long global depression. \nThis is the third installment in the Great Depression Lecture Series\, an America 250 program. This is a Wood County Park District lead event\, in partnership with the Wood County Museum.
URL:https://woodcountyhistory.org/event/the-great-depression-lecture-series-panic-the-crash-the-causes-and-the-beginnings-of-the-great-depression/
LOCATION:Wood County Museum\, 13660 County Home Rd.\, Bowling Green\, OH\, 43402\, United States
CATEGORIES:America250 Event
ATTACH;FMTTYPE=image/png:https://woodcountyhistory.org/wp-content/uploads/2026/02/MARCH_The-Great-Depression-Lecture-Series_Facebook-Event-Banners_1920x1005_RGB-scaled.png
END:VEVENT
END:VCALENDAR