BEGIN:VCALENDAR
VERSION:2.0
PRODID:-//Wood County Museum - ECPv6.15.20//NONSGML v1.0//EN
CALSCALE:GREGORIAN
METHOD:PUBLISH
X-WR-CALNAME:Wood County Museum
X-ORIGINAL-URL:https://woodcountyhistory.org
X-WR-CALDESC:Events for Wood County Museum
REFRESH-INTERVAL;VALUE=DURATION:PT1H
X-Robots-Tag:noindex
X-PUBLISHED-TTL:PT1H
BEGIN:VTIMEZONE
TZID:America/New_York
BEGIN:DAYLIGHT
TZOFFSETFROM:-0500
TZOFFSETTO:-0400
TZNAME:EDT
DTSTART:20250309T070000
END:DAYLIGHT
BEGIN:STANDARD
TZOFFSETFROM:-0400
TZOFFSETTO:-0500
TZNAME:EST
DTSTART:20251102T060000
END:STANDARD
BEGIN:DAYLIGHT
TZOFFSETFROM:-0500
TZOFFSETTO:-0400
TZNAME:EDT
DTSTART:20260308T070000
END:DAYLIGHT
BEGIN:STANDARD
TZOFFSETFROM:-0400
TZOFFSETTO:-0500
TZNAME:EST
DTSTART:20261101T060000
END:STANDARD
BEGIN:DAYLIGHT
TZOFFSETFROM:-0500
TZOFFSETTO:-0400
TZNAME:EDT
DTSTART:20270314T070000
END:DAYLIGHT
BEGIN:STANDARD
TZOFFSETFROM:-0400
TZOFFSETTO:-0500
TZNAME:EST
DTSTART:20271107T060000
END:STANDARD
END:VTIMEZONE
BEGIN:VEVENT
DTSTART;TZID=America/New_York:20260317T180000
DTEND;TZID=America/New_York:20260317T193000
DTSTAMP:20260422T101552
CREATED:20260129T192102Z
LAST-MODIFIED:20260129T192102Z
UID:8759-1773770400-1773775800@woodcountyhistory.org
SUMMARY:America250 Lecture Series – When Oil Was King of The Black Swamp
DESCRIPTION:The talk will focus on the great oil and gas boom that began in 1880’s in Northwest Ohio and became the driving economic force for much of the region and its future. Thousands of wells were drilled and many of them were in Wood County and Hancock Counties which was the center of it all\, as rural farm fields were studded by a forest of oil and gas derricks amid a harvest of black gold. With the gushers of success came a score of new towns and new people eager to claim a piece of the dream or maybe just a good job. Sometimes they did\, sometimes not. We’ll cover many of the facets of this most pivotal area in the story of the Black Swamp. \n  \nWhen: March 17\, 2026 at 6:00PM \nCost: FREE for members; $7 for non-members (tickets include a self-guided tour of the museum in addition to the program) \n***Each person attending must be a member to get the member rate. Members may not make reservations for non-members on their behalf*** \n  \nAbout the Speaker: Lou Hebert \nLou Hebert is a Toledo-area native who spent over 50 years working in broadcast newsrooms in this city( WCWA\, WTOL\, WDHO WSPD) and others around the nation including Detroit\, Denver\, Phoenix\, and Chicago. He has reported and produced both radio and television news and is an award documentary and feature reporter\, earning the coveted Peabody Award and numerous Emmy’s for TV production. In recent years\, Lou has become a self-professed history nerd\, writing and publishing several books on Toledo area history\, including Day by Day in Toledo and Toledo’s Hidden History.
URL:https://woodcountyhistory.org/event/america250-lecture-series-when-oil-was-king-of-the-black-swamp/
LOCATION:Wood County Museum\, 13660 County Home Rd.\, Bowling Green\, OH\, 43402\, United States
CATEGORIES:America250 Event
ATTACH;FMTTYPE=image/png:https://woodcountyhistory.org/wp-content/uploads/2026/01/Am250-Lec-March-scaled.png
END:VEVENT
END:VCALENDAR