BEGIN:VCALENDAR
VERSION:2.0
PRODID:-//Wood County Museum - ECPv6.15.20//NONSGML v1.0//EN
CALSCALE:GREGORIAN
METHOD:PUBLISH
X-WR-CALNAME:Wood County Museum
X-ORIGINAL-URL:https://woodcountyhistory.org
X-WR-CALDESC:Events for Wood County Museum
REFRESH-INTERVAL;VALUE=DURATION:PT1H
X-Robots-Tag:noindex
X-PUBLISHED-TTL:PT1H
BEGIN:VTIMEZONE
TZID:America/New_York
BEGIN:DAYLIGHT
TZOFFSETFROM:-0500
TZOFFSETTO:-0400
TZNAME:EDT
DTSTART:20250309T070000
END:DAYLIGHT
BEGIN:STANDARD
TZOFFSETFROM:-0400
TZOFFSETTO:-0500
TZNAME:EST
DTSTART:20251102T060000
END:STANDARD
BEGIN:DAYLIGHT
TZOFFSETFROM:-0500
TZOFFSETTO:-0400
TZNAME:EDT
DTSTART:20260308T070000
END:DAYLIGHT
BEGIN:STANDARD
TZOFFSETFROM:-0400
TZOFFSETTO:-0500
TZNAME:EST
DTSTART:20261101T060000
END:STANDARD
BEGIN:DAYLIGHT
TZOFFSETFROM:-0500
TZOFFSETTO:-0400
TZNAME:EDT
DTSTART:20270314T070000
END:DAYLIGHT
BEGIN:STANDARD
TZOFFSETFROM:-0400
TZOFFSETTO:-0500
TZNAME:EST
DTSTART:20271107T060000
END:STANDARD
END:VTIMEZONE
BEGIN:VEVENT
DTSTART;TZID=America/New_York:20261204T100000
DTEND;TZID=America/New_York:20261204T160000
DTSTAMP:20260419T194622
CREATED:20260129T210005Z
LAST-MODIFIED:20260129T210005Z
UID:8134-1796378400-1796400000@woodcountyhistory.org
SUMMARY:Free First Fridays & Make and Take Craft Day
DESCRIPTION:Come out to the Wood County Museum for free Museum admission every first Friday! \nFree make & take craft on Free First Friday Days! \nDecember Make & Take Craft: Gingerbread Cookie Decorating \nFree First Fridays is presented by : Visit BG\, Ohio \, Perrysburg Chamber of Commerce\, & Rossford Convention & Visitors Bureau. \n  \n  \nExhibits currently on display are: \n“We’ll Meet Again: Remembering World War II” \n“For Service & Support: Creating an Accessible Community” \n“Wood County: A Timeless Classic” \n“For Comfort & Convenience: Public Charity in Ohio By Way of the Poor Farm” \n“The Mary & Carl Back Story” \n“Chasing the White Rabbit: An Historical Look at American Mental Health” (inside Asylum) \n“A Clean Bill of Health: Societal Response to Communicable Disease” (inside Pest House) \n(Regular admission $7\, always FREE for members). \nFree First Fridays is presented by:
URL:https://woodcountyhistory.org/event/free-first-fridays-make-and-take-craft-day-27/
ATTACH;FMTTYPE=image/png:https://woodcountyhistory.org/wp-content/uploads/2025/01/Free-First-Friday_ForComfort_FBevent25.png
END:VEVENT
BEGIN:VEVENT
DTSTART;TZID=America/New_York:20261204T110000
DTEND;TZID=America/New_York:20261204T130000
DTSTAMP:20260419T194622
CREATED:20260129T210306Z
LAST-MODIFIED:20260129T210306Z
UID:8804-1796382000-1796389200@woodcountyhistory.org
SUMMARY:Meet-&-Greet and Photos with Santa and Mrs. Claus
DESCRIPTION:Join us for the December Free First Friday on December 4th. We will be doing free gingerbread cookie decorating. There will also be a meet and greet with Santa & Mrs. Claus from 11am-1pm.\n\nPhoto ops are available from 11 am to 1 pm in the meeting room at the museum. The Wood County Museum will take 1 printed out photo for free. Visitors are welcome to take their own photos with cell phones\, professional photography will not be allowed.\n\nFree First Fridays is presented by Visit BG\, Ohio \, Visit Perrysburg\, & Rossford Convention & Visitors Bureau.\n\n*Gingerbread cookies will be available while supplies last.
URL:https://woodcountyhistory.org/event/meet-greet-and-photos-with-santa-and-mrs-claus-2/
LOCATION:Wood County Museum\, 13660 County Home Rd.\, Bowling Green\, OH\, 43402\, United States
ATTACH;FMTTYPE=image/png:https://woodcountyhistory.org/wp-content/uploads/2024/11/Santa-Event-Cover.png
END:VEVENT
BEGIN:VEVENT
DTSTART;TZID=America/New_York:20261207T140000
DTEND;TZID=America/New_York:20261207T150000
DTSTAMP:20260419T194622
CREATED:20260129T204955Z
LAST-MODIFIED:20260129T204955Z
UID:8791-1796652000-1796655600@woodcountyhistory.org
SUMMARY:Taste Test the Past: Holiday Baking
DESCRIPTION:Join the Wood County Museum for our American 250 themed cooking series: Taste Test the Past! \nFrom gingerbread to Christmas cookies\, learn about holidays past through delicious baked goods. Samples and recipes provided! \n  \nWhen: December 7\, 2026 at 2:00PM \nCost: FREE for members; $10 for non-members (tickets include a self-guided tour of the museum in addition to the program) \n***Each person attending must be a member to get the member rate. Members may not make reservations for non-members on their behalf***
URL:https://woodcountyhistory.org/event/taste-test-the-past-holiday-baking/
LOCATION:Wood County Museum\, 13660 County Home Rd.\, Bowling Green\, OH\, 43402\, United States
CATEGORIES:America250 Event
ATTACH;FMTTYPE=image/png:https://woodcountyhistory.org/wp-content/uploads/2026/01/Taste-Test-Dec-scaled.png
END:VEVENT
BEGIN:VEVENT
DTSTART;TZID=America/New_York:20261210T140000
DTEND;TZID=America/New_York:20261210T160000
DTSTAMP:20260419T194622
CREATED:20251208T213250Z
LAST-MODIFIED:20260121T192958Z
UID:8515-1796911200-1796918400@woodcountyhistory.org
SUMMARY:Tea & Talk Series: Frozen Frontlines & Candy Lifelines: Remembering the Korean War
DESCRIPTION:“Frozen Frontlines & Candy Lifelines: Remembering the Korean War” \nJoin Adriane Weisert as she explores the Korean War\, the Chosin Reservoir and how the TV show M*A*S*H and the Tootsie Roll influenced not only troops but the people of the USA and their feelings about the war. \n  \nAbout the Speaker: \nAdriane Weisert has been part of the living history and education hobby for over 20 years. Over the years\, she has been involved in several history programs\, including portraying a one-room schoolteacher at the Henry County Fair\, speaking on the Civil War\, the 1920s\, and the 1930s\, and exhibiting cabin life at the Wood County Museum. These days\, among other things\, she is the owner of Traveling Teapots\, putting her knowledge and love of a good theme party to use. \n  \n  \nEach monthly tea & talk starts with a catered luncheon\, warm tea\, and a unique presentation over a topic of interest. Reservations are required and are due the Friday before each tea. All Ticket Sales are Final. Tickets are final sale & non-refundable. Handicap accessible facilities. Groups Welcome. \nPrice: $30/Museum Members\, $35/Non-Members\, $35/Gluten Free/Vegan Meal \n 
URL:https://woodcountyhistory.org/event/tea-talk-series-the-korean-war/
LOCATION:Wood County Museum\, 13660 County Home Rd.\, Bowling Green\, OH\, 43402\, United States
ATTACH;FMTTYPE=image/webp:https://woodcountyhistory.org/wp-content/uploads/2025/11/origin.webp
ORGANIZER;CN="Wood County Museum":MAILTO:visitus@woodcountyhistory.org
END:VEVENT
END:VCALENDAR