BEGIN:VCALENDAR
VERSION:2.0
PRODID:-//Wood County Museum - ECPv6.15.20//NONSGML v1.0//EN
CALSCALE:GREGORIAN
METHOD:PUBLISH
X-WR-CALNAME:Wood County Museum
X-ORIGINAL-URL:https://woodcountyhistory.org
X-WR-CALDESC:Events for Wood County Museum
REFRESH-INTERVAL;VALUE=DURATION:PT1H
X-Robots-Tag:noindex
X-PUBLISHED-TTL:PT1H
BEGIN:VTIMEZONE
TZID:America/New_York
BEGIN:DAYLIGHT
TZOFFSETFROM:-0500
TZOFFSETTO:-0400
TZNAME:EDT
DTSTART:20200308T070000
END:DAYLIGHT
BEGIN:STANDARD
TZOFFSETFROM:-0400
TZOFFSETTO:-0500
TZNAME:EST
DTSTART:20201101T060000
END:STANDARD
BEGIN:DAYLIGHT
TZOFFSETFROM:-0500
TZOFFSETTO:-0400
TZNAME:EDT
DTSTART:20210314T070000
END:DAYLIGHT
BEGIN:STANDARD
TZOFFSETFROM:-0400
TZOFFSETTO:-0500
TZNAME:EST
DTSTART:20211107T060000
END:STANDARD
BEGIN:DAYLIGHT
TZOFFSETFROM:-0500
TZOFFSETTO:-0400
TZNAME:EDT
DTSTART:20220313T070000
END:DAYLIGHT
BEGIN:STANDARD
TZOFFSETFROM:-0400
TZOFFSETTO:-0500
TZNAME:EST
DTSTART:20221106T060000
END:STANDARD
END:VTIMEZONE
BEGIN:VEVENT
DTSTART;TZID=America/New_York:20210601T080000
DTEND;TZID=America/New_York:20210630T170000
DTSTAMP:20260422T034103
CREATED:20210320T204902Z
LAST-MODIFIED:20210320T204902Z
UID:678-1622534400-1625072400@woodcountyhistory.org
SUMMARY:Museum & Gift Shop open weekdays 10 AM - 4 PM\, weekends 1-4 PM
DESCRIPTION:For the month of June\, our hours are weekdays 10 AM – 4 PM\, weekends 1-4 PM
URL:https://woodcountyhistory.org/event/museum-gift-shop-open-weekdays-10-am-4-pm-weekends-1-4-pm-3/
END:VEVENT
BEGIN:VEVENT
DTSTART;TZID=America/New_York:20210509T100000
DTEND;TZID=America/New_York:20210509T160000
DTSTAMP:20260422T034103
CREATED:20210320T204823Z
LAST-MODIFIED:20210320T204823Z
UID:676-1620554400-1620576000@woodcountyhistory.org
SUMMARY:Living History Along the Portage Demonstration Day
DESCRIPTION:Free outdoors demonstration.\nMuseum open 1-4 PM with regular admission.
URL:https://woodcountyhistory.org/event/living-history-along-the-portage-demonstration-day/
END:VEVENT
BEGIN:VEVENT
DTSTART;TZID=America/New_York:20210507T100000
DTEND;TZID=America/New_York:20210507T160000
DTSTAMP:20260422T034103
CREATED:20210320T204741Z
LAST-MODIFIED:20210409T193541Z
UID:674-1620381600-1620403200@woodcountyhistory.org
SUMMARY:Free First Friday
DESCRIPTION:Free museum admission on the first Friday of each month \n\nCome out to the Wood County Museum for free Museum admission every first Friday to see the four different exhibits on display.\n\n\nMay 7\, 2021\nJune 4\, 2021\nJuly 2\, 2021\nAugust 6\, 2021\nSeptember 3\, 2021\nOctober 1\, 2021\nNovember 5\, 2021\nDecember 3\, 2021\n\n\n(Regular admission $7\, always FREE for members).\n\n\nFree First Fridays is sponsored by the Bowling Green Convention & Visitors Bureau.
URL:https://woodcountyhistory.org/event/free-first-friday-2/
END:VEVENT
BEGIN:VEVENT
DTSTART;TZID=America/New_York:20210501T080000
DTEND;TZID=America/New_York:20210531T170000
DTSTAMP:20260422T034103
CREATED:20210320T204707Z
LAST-MODIFIED:20210320T204707Z
UID:672-1619856000-1622480400@woodcountyhistory.org
SUMMARY:Museum & Gift Shop open weekdays 10 AM - 4 PM\, weekends 1-4 PM
DESCRIPTION:For the month of May\, our hours are weekdays 10 AM – 4 PM\, weekends 1-4 PM. We will be closed on May 31 is observance of Memorial Day.
URL:https://woodcountyhistory.org/event/museum-gift-shop-open-weekdays-10-am-4-pm-weekends-1-4-pm-2/
END:VEVENT
BEGIN:VEVENT
DTSTART;TZID=America/New_York:20210404T130000
DTEND;TZID=America/New_York:20210404T160000
DTSTAMP:20260422T034103
CREATED:20210320T204512Z
LAST-MODIFIED:20210320T204512Z
UID:670-1617541200-1617552000@woodcountyhistory.org
SUMMARY:Blacksmith Open Forge
DESCRIPTION:Public demonstration from the Northwest Ohio Blacksmith Association in the Museum’s Boomtown Area. Free outdoors demonstration.\nMuseum open 1-4 PM with regular admission.
URL:https://woodcountyhistory.org/event/blacksmith-open-forge/
END:VEVENT
BEGIN:VEVENT
DTSTART;TZID=America/New_York:20210402T100000
DTEND;TZID=America/New_York:20210402T160000
DTSTAMP:20260422T034103
CREATED:20210321T003921Z
LAST-MODIFIED:20210320T204118Z
UID:665-1617357600-1617379200@woodcountyhistory.org
SUMMARY:Free First Friday
DESCRIPTION:Free museum admission on the first Friday of each month!
URL:https://woodcountyhistory.org/event/free-first-friday/
END:VEVENT
BEGIN:VEVENT
DTSTART;TZID=America/New_York:20210401T080000
DTEND;TZID=America/New_York:20210430T170000
DTSTAMP:20260422T034103
CREATED:20210320T204309Z
LAST-MODIFIED:20210320T204309Z
UID:668-1617264000-1619802000@woodcountyhistory.org
SUMMARY:Museum & Gift Shop open weekdays 10 AM - 4 PM\, weekends 1-4 PM
DESCRIPTION:For the month of April\, our hours are weekdays 10 AM – 4 PM\, weekends 1-4 PM
URL:https://woodcountyhistory.org/event/museum-gift-shop-open-weekdays-10-am-4-pm-weekends-1-4-pm/
END:VEVENT
END:VCALENDAR