BEGIN:VCALENDAR
VERSION:2.0
PRODID:-//Wood County Museum - ECPv6.15.20//NONSGML v1.0//EN
CALSCALE:GREGORIAN
METHOD:PUBLISH
X-WR-CALNAME:Wood County Museum
X-ORIGINAL-URL:https://woodcountyhistory.org
X-WR-CALDESC:Events for Wood County Museum
REFRESH-INTERVAL;VALUE=DURATION:PT1H
X-Robots-Tag:noindex
X-PUBLISHED-TTL:PT1H
BEGIN:VTIMEZONE
TZID:America/New_York
BEGIN:DAYLIGHT
TZOFFSETFROM:-0500
TZOFFSETTO:-0400
TZNAME:EDT
DTSTART:20230312T070000
END:DAYLIGHT
BEGIN:STANDARD
TZOFFSETFROM:-0400
TZOFFSETTO:-0500
TZNAME:EST
DTSTART:20231105T060000
END:STANDARD
BEGIN:DAYLIGHT
TZOFFSETFROM:-0500
TZOFFSETTO:-0400
TZNAME:EDT
DTSTART:20240310T070000
END:DAYLIGHT
BEGIN:STANDARD
TZOFFSETFROM:-0400
TZOFFSETTO:-0500
TZNAME:EST
DTSTART:20241103T060000
END:STANDARD
BEGIN:DAYLIGHT
TZOFFSETFROM:-0500
TZOFFSETTO:-0400
TZNAME:EDT
DTSTART:20250309T070000
END:DAYLIGHT
BEGIN:STANDARD
TZOFFSETFROM:-0400
TZOFFSETTO:-0500
TZNAME:EST
DTSTART:20251102T060000
END:STANDARD
END:VTIMEZONE
BEGIN:VEVENT
DTSTART;TZID=America/New_York:20240903T123000
DTEND;TZID=America/New_York:20240903T133000
DTSTAMP:20260422T121636
CREATED:20240824T142425Z
LAST-MODIFIED:20240824T142425Z
UID:6101-1725366600-1725370200@woodcountyhistory.org
SUMMARY:Education On The Road: Tales from the “Misty Past” Part 2
DESCRIPTION:Join Mike McMaster as he gives an education program over Tales from the “Misty Past” Part 2 \n*THIS IS EVENT IS AT THE GRAND RAPIDS SENIOR CENTER* \nTales from the “Misty Past” Part 2\nCharles Evers spins a tale of ruin and despair on the account of one Jim Slater. Did Slater curse Bairdstown (Bloom Township) in Wood County? Find out what brought about this curse and what the historical record tells us about Jim Slater and Bairdstown. \nProgram Date: September 3\, 2024\nProgram Time: 12:30PM\nProgram Location: Grand Rapids Senior Center – \n23019 Kellogg Rd\nGrand Rapids\, OH 43522\nCost: FREE!
URL:https://woodcountyhistory.org/event/education-on-the-road-tales-from-the-misty-past-part-2/
LOCATION:Grand Rapids Senior Center\, 23019 Kellogg Rd\, Grand Rapids\, OH\, 43522
ATTACH;FMTTYPE=image/png:https://woodcountyhistory.org/wp-content/uploads/2024/04/Black-Swamp-4.png
END:VEVENT
BEGIN:VEVENT
DTSTART;TZID=America/New_York:20240906T100000
DTEND;TZID=America/New_York:20240906T160000
DTSTAMP:20260422T121636
CREATED:20240327T151019Z
LAST-MODIFIED:20240327T151019Z
UID:5374-1725616800-1725638400@woodcountyhistory.org
SUMMARY:Free First Fridays & Make and Take Craft Day
DESCRIPTION:Come out to the Wood County Museum for free Museum admission every first Friday! \n*NEW* in 2024 – Free make & take craft on Free First Friday Days! \nSeptember Make & Take Craft: TBA \nFree First Fridays is presented by Visit Bowling Green\, Ohio \, Visit Perrysburg\, & Rossford Convention & Visitors Bureau. \nExhibits currently on display are: \n“Allure & Illusion: A Rose Colored Romance” \n“For Comfort & Convenience: Public Charity in Ohio By Way of the Poor Farm” \n“The Mary & Carl Back Story” \n“Chasing the White Rabbit: An Historical Look at American Mental Health” (inside Asylum) \n“A Clean Bill of Health: Societal Response to Communicable Disease” (inside Pest House) \n(Regular admission $7\, always FREE for members). \nFree First Fridays is presented by Visit Bowling Green\, Ohio \, Visit Perrysburg\, & Rossford Convention & Visitors Bureau.
URL:https://woodcountyhistory.org/event/free-first-fridays-make-and-take-craft-day-9/
ATTACH;FMTTYPE=image/png:https://woodcountyhistory.org/wp-content/uploads/2023/12/Free-First-Friday_ForComfort_FBevent.png
END:VEVENT
BEGIN:VEVENT
DTSTART;TZID=America/New_York:20240909T110000
DTEND;TZID=America/New_York:20240909T120000
DTSTAMP:20260422T121636
CREATED:20240824T143031Z
LAST-MODIFIED:20240824T143031Z
UID:6105-1725879600-1725883200@woodcountyhistory.org
SUMMARY:Education On The Road: Odds and Ends of Wood County Part 4
DESCRIPTION:Join Mike McMaster as he gives an education program over Odds and Ends of Wood County: Part 4 \n*THIS IS EVENT IS AT THE WOOD COUNTY COMMITTEE ON AGING* \nOdds and Ends of Wood County: Part 4\nThere are many historical odds and ends in Wood County. At one time\, north of Bloomdale\, sat a sad and mysterious building; what was it’s origin? \nProgram Date: September 9\, 2024\nProgram Time: 11:00AM\nProgram Location: Wood County Committee On Aging – 140 S Grove St\, Bowling Green\, OH 43402\nCost: FREE!
URL:https://woodcountyhistory.org/event/education-on-the-road-odds-and-ends-of-wood-county-part-4/
LOCATION:Wood County Committee On Aging\, 140 S Grove St\, Bowling Green\, OH\, 43402\, United States
ATTACH;FMTTYPE=image/png:https://woodcountyhistory.org/wp-content/uploads/2024/04/Black-Swamp-4.png
END:VEVENT
BEGIN:VEVENT
DTSTART;TZID=America/New_York:20240913T121500
DTEND;TZID=America/New_York:20240913T130000
DTSTAMP:20260422T121637
CREATED:20240824T143333Z
LAST-MODIFIED:20240824T143333Z
UID:6107-1726229700-1726232400@woodcountyhistory.org
SUMMARY:Education On The Road: Odds and Ends of Wood County Part 4
DESCRIPTION:Join Mike McMaster as he gives an education program over Odds and Ends of Wood County Part 4\n\n*THIS IS EVENT IS AT THE PEMBERVILLE SENIOR CENTER*\n\nOdds and Ends of Wood County Part 4\nThere are many historical odds and ends in Wood County. At one time\, north of Bloomdale\, sat a sad and mysterious building; what was it’s origin?\n\nProgram Date: September 13\, 2024\nProgram Time: 12:15PM\nProgram Location: Pemberville Senior Center – 220 Cedar Street Pemberville\, OH 43450\nCost: FREE!
URL:https://woodcountyhistory.org/event/education-on-the-road-odds-and-ends-of-wood-county-part-4-2/
LOCATION:Pemberville Senior Center\, 220 Cedar Street\, Pemberville\, OH\, 43450
ATTACH;FMTTYPE=image/png:https://woodcountyhistory.org/wp-content/uploads/2024/04/Black-Swamp-4.png
END:VEVENT
BEGIN:VEVENT
DTSTART;TZID=America/New_York:20240917T123000
DTEND;TZID=America/New_York:20240917T133000
DTSTAMP:20260422T121637
CREATED:20240824T143913Z
LAST-MODIFIED:20240824T144149Z
UID:6109-1726576200-1726579800@woodcountyhistory.org
SUMMARY:Education On The Road: Odds & Ends of Wood County: Part 1
DESCRIPTION:Join Mike McMaster as he gives an education program over Odds & Ends of Wood County: Part 1\n\n*THIS IS EVENT IS AT THE PERRYSBURG SENIOR CENTER*\n\nOdds & Ends of Wood County: Part 1\nThere have been many strange and historical things in the County. This program will reveal some of these items.\n\nProgram Date: September 17\, 2024\nProgram Time: 12:30PM\nProgram Location: Perrysburg Senior Center -140 W. Indiana Avenue\, Perrysburg\, OH 43551\nCost: FREE!
URL:https://woodcountyhistory.org/event/education-on-the-road-odds-ends-of-wood-county-part-1/
LOCATION:Perrysburg Senior Center\, 140 W. Indiana Avenue\, Perrysburg\, OH\, 43551\, United States
ATTACH;FMTTYPE=image/png:https://woodcountyhistory.org/wp-content/uploads/2024/04/Evers-1.png
END:VEVENT
BEGIN:VEVENT
DTSTART;TZID=America/New_York:20240918T183000
DTEND;TZID=America/New_York:20240918T193000
DTSTAMP:20260422T121637
CREATED:20240824T141129Z
LAST-MODIFIED:20240824T141129Z
UID:6093-1726684200-1726687800@woodcountyhistory.org
SUMMARY:Education On The Road: Black Swamp Stories - It’s Not What You Think
DESCRIPTION:Join Mike McMaster as he gives an education program over Black Swamp Stories – It’s Not What You Think\n\n*THIS IS EVENT IS AT THE WALBRIDGE PUBLIC LIBRARY*\n\nBlack Swamp Stories – It’s Not What You Think\nThe history of the Great Black Swamp is not the description of the mud but the stories of the people who settled within it.  Each person\, great or small\, had a story to tell\, this is the true history of the swamp.\n\nProgram Date: September 18\, 2024\nProgram Time: 6:30PM\nProgram Location: Walbridge Public Library – 108 N. Main St. Walbridge\, OH 43465\nCost: FREE!
URL:https://woodcountyhistory.org/event/education-on-the-road-black-swamp-stories-its-not-what-you-think/
LOCATION:Walbridge Public Library\, 108 N. Main St.\, Walbridge\, OH\, 43465\, United States
ATTACH;FMTTYPE=image/png:https://woodcountyhistory.org/wp-content/uploads/2024/04/Black-Swamp-4.png
END:VEVENT
BEGIN:VEVENT
DTSTART;TZID=America/New_York:20240919T180000
DTEND;TZID=America/New_York:20240919T210000
DTSTAMP:20260422T121637
CREATED:20231128T194232Z
LAST-MODIFIED:20240628T130035Z
UID:4949-1726768800-1726779600@woodcountyhistory.org
SUMMARY:Music at the Museum Presented by Visit BG Ohio
DESCRIPTION:FREE LIVE MUSIC CONCERT AT WOOD COUNTY MUSEUM \n The Wood County Museum will hosting its 2nd annual concert series “Music at the Museum Presented by Visit BG Ohio”\, a free concert featuring Live Music on the east wing porch of the historic County Home building on four dates in 2024: June 13\, July 11\,  August 8\, and September 19 – starting at 6:00 PM. Each concert will feature 2-3 bands. \nThe September “Music at the Museum”\, will feature 3 bands: GRUBS • Trip-Lettes • Corduroy Road \nConcert-goers are asked to bring chairs or blankets for lawn seating. \nFood trucks and yard games will also be onsite \nFood Truck lineup: The Tamale Guy • Jikoni Toledo • BD’s Lemonade King
URL:https://woodcountyhistory.org/event/music-at-the-museum-presented-by-visit-bg-ohio-5/
ATTACH;FMTTYPE=image/png:https://woodcountyhistory.org/wp-content/uploads/2023/11/2024-Music-at-the-Museum-FB-Event-Cover.png
END:VEVENT
BEGIN:VEVENT
DTSTART;TZID=America/New_York:20240923T180000
DTEND;TZID=America/New_York:20240923T193000
DTSTAMP:20260422T121637
CREATED:20240422T131134Z
LAST-MODIFIED:20240919T192452Z
UID:5469-1727114400-1727119800@woodcountyhistory.org
SUMMARY:CANCELED - Cooking with Tea Class
DESCRIPTION:THIS CLASS HAS BEEN CANCELED DUE TO LOW ATTENDANCE \nSeptember 23\, 2024 • 6:00PM \nCooking with Tea Class\nJoin the Wood County Museum & The Summer Kitchen girls for a cooking with tea class!\nCooking with tea? YES!! Let us show you how to create three delicious sweets in three different ways with your tea!\nEnjoy the treats with a cup of tea. Everyone goes home with recipes & tons of ideas!\n  \nAdmission: $35/person \n*All ticket sales are final/no refunds
URL:https://woodcountyhistory.org/event/cooking-with-tea-class/
LOCATION:Wood County Museum\, 13660 County Home Rd.\, Bowling Green\, OH\, 43402\, United States
ATTACH;FMTTYPE=image/jpeg:https://woodcountyhistory.org/wp-content/uploads/2024/04/cookingtea2024.jpeg
ORGANIZER;CN="Wood County Museum":MAILTO:visitus@woodcountyhistory.org
END:VEVENT
BEGIN:VEVENT
DTSTART;TZID=America/New_York:20240925T120000
DTEND;TZID=America/New_York:20240925T130000
DTSTAMP:20260422T121637
CREATED:20240824T142745Z
LAST-MODIFIED:20240824T142745Z
UID:6103-1727265600-1727269200@woodcountyhistory.org
SUMMARY:Education On The Road: Tales from the “Misty Past” Part 2
DESCRIPTION:Join Mike McMaster as he gives an education program over Tales from the “Misty Past” Part 2 \n*THIS IS EVENT IS AT THE WAYNE SENIOR CENTER* \nTales from the “Misty Past” Part 2\nCharles Evers spins a tale of ruin and despair on the account of one Jim Slater. Did Slater curse Bairdstown (Bloom Township) in Wood County? Find out what brought about this curse and what the historical record tells us about Jim Slater and Bairdstown. \nProgram Date: September 25\, 2024\nProgram Time: 12:00PM\nProgram Location: Wayne Senior Center – \n202 East Main St.\nWayne\, OH 43466\nCost: FREE!
URL:https://woodcountyhistory.org/event/education-on-the-road-tales-from-the-misty-past-part-2-2/
LOCATION:Wayne Senior Center\, 202 E Main St\, Wayne\, 43466\, United States
ATTACH;FMTTYPE=image/png:https://woodcountyhistory.org/wp-content/uploads/2024/04/Black-Swamp-4.png
END:VEVENT
BEGIN:VEVENT
DTSTART;TZID=America/New_York:20240926T160000
DTEND;TZID=America/New_York:20240926T190000
DTSTAMP:20260422T121637
CREATED:20240824T135804Z
LAST-MODIFIED:20240824T135804Z
UID:6087-1727366400-1727377200@woodcountyhistory.org
SUMMARY:Peaches Birthday Paw-ty!
DESCRIPTION:Join the Wood County Museum on September 26 from 4-7pm to celebrate the birthday kitty! We will have cake\, punch and cotton candy (donated by Awesome Sauce Sugar Floss)!\n\n  \n\nWe are collecting donations to get Peaches a winter cat house.\n\n  \n\nWe are also partnering with For the Love of Cats and will be hosting a kitty supply drive\, collecting cat food\, litter\, and various supplies. For the Love of Cats will be onsite as well to help answer any TNR questions.\n\n  \n\nPeaches birthday party is a FREE community event. We are asking for RSVP’s so we can get an accurate number for ordering cake.\n\n  \n\nRSVP: 419-352-0967 or visitus@woodcountyhistory.org\n\n  \n\nBackstory on Peaches: Peaches is a barn cat that adopted the Wood County Museum as his home. He has been with us for about 2 years now. The staff and community members help care for him\, and he loves the attention he gets. Peaches is a TNR cat\, and For the Love of Cats help with getting him TNR’d. Peaches is also a feature on the museum’s Facebook page every Saturday for #caturday!
URL:https://woodcountyhistory.org/event/peaches-birthday-paw-ty/
ATTACH;FMTTYPE=image/png:https://woodcountyhistory.org/wp-content/uploads/2024/08/Peaches-Birthday-Party.png
END:VEVENT
BEGIN:VEVENT
DTSTART;TZID=America/New_York:20240930T123000
DTEND;TZID=America/New_York:20240930T133000
DTSTAMP:20260422T121637
CREATED:20240824T141829Z
LAST-MODIFIED:20240824T141829Z
UID:6099-1727699400-1727703000@woodcountyhistory.org
SUMMARY:Education On The Road: Odds and Ends of Wood County: Part 2
DESCRIPTION:Join Mike McMaster as he gives an education program over Odds and Ends of Wood County: Part 2 \n*THIS IS EVENT IS AT THE ROSSFORD SENIOR CENTER* \nOdds and Ends of Wood County: Part 2\nWe drive passed history everyday in Wood County\, but have you ever wondered what the story behind what we see really IS?  In this program we learn the history of a mysterious marker along River Rd. \nProgram Date: September 30\, 2024\nProgram Time: 12:30PM\nProgram Location: Rossford Senior Center – 400 Dixie Hwy\, Rossford\, OH 43460\nCost: FREE!
URL:https://woodcountyhistory.org/event/education-on-the-road-odds-and-ends-of-wood-county-part-2-2/
LOCATION:Rossford Senior Center\, 400 Dixie Highway\, Rossford\, OH\, 43460\, United States
ATTACH;FMTTYPE=image/png:https://woodcountyhistory.org/wp-content/uploads/2024/04/Shutnok.png
END:VEVENT
END:VCALENDAR