BEGIN:VCALENDAR
VERSION:2.0
PRODID:-//Wood County Museum - ECPv6.15.20//NONSGML v1.0//EN
CALSCALE:GREGORIAN
METHOD:PUBLISH
X-WR-CALNAME:Wood County Museum
X-ORIGINAL-URL:https://woodcountyhistory.org
X-WR-CALDESC:Events for Wood County Museum
REFRESH-INTERVAL;VALUE=DURATION:PT1H
X-Robots-Tag:noindex
X-PUBLISHED-TTL:PT1H
BEGIN:VTIMEZONE
TZID:America/New_York
BEGIN:DAYLIGHT
TZOFFSETFROM:-0500
TZOFFSETTO:-0400
TZNAME:EDT
DTSTART:20230312T070000
END:DAYLIGHT
BEGIN:STANDARD
TZOFFSETFROM:-0400
TZOFFSETTO:-0500
TZNAME:EST
DTSTART:20231105T060000
END:STANDARD
BEGIN:DAYLIGHT
TZOFFSETFROM:-0500
TZOFFSETTO:-0400
TZNAME:EDT
DTSTART:20240310T070000
END:DAYLIGHT
BEGIN:STANDARD
TZOFFSETFROM:-0400
TZOFFSETTO:-0500
TZNAME:EST
DTSTART:20241103T060000
END:STANDARD
BEGIN:DAYLIGHT
TZOFFSETFROM:-0500
TZOFFSETTO:-0400
TZNAME:EDT
DTSTART:20250309T070000
END:DAYLIGHT
BEGIN:STANDARD
TZOFFSETFROM:-0400
TZOFFSETTO:-0500
TZNAME:EST
DTSTART:20251102T060000
END:STANDARD
END:VTIMEZONE
BEGIN:VEVENT
DTSTART;TZID=America/New_York:20241001T123000
DTEND;TZID=America/New_York:20241001T133000
DTSTAMP:20260422T104429
CREATED:20240824T145328Z
LAST-MODIFIED:20240824T145328Z
UID:6114-1727785800-1727789400@woodcountyhistory.org
SUMMARY:Education On The Road: Odds & Ends of Wood County: Part 3
DESCRIPTION:Join Mike McMaster as he gives an education program over Odds & Ends of Wood County: Part 3 \n*THIS IS EVENT IS AT THE GRAND RAPIDS SENIOR CENTER* \nOdds & Ends of Wood County: Part 3\nThere are many historical odds and ends in Wood County. What is the mysterious marker along the River Road? \nProgram Date: October 1\, 2024\nProgram Time: 12:30PM\nProgram Location: Grand Rapids Senior Center – \n23019 Kellogg Rd\nGrand Rapids\, OH 43522\nCost: FREE!
URL:https://woodcountyhistory.org/event/education-on-the-road-odds-ends-of-wood-county-part-3/
LOCATION:Grand Rapids Senior Center\, 23019 Kellogg Rd\, Grand Rapids\, OH\, 43522
ATTACH;FMTTYPE=image/png:https://woodcountyhistory.org/wp-content/uploads/2024/08/General.png
END:VEVENT
BEGIN:VEVENT
DTSTART;TZID=America/New_York:20241002T190000
DTEND;TZID=America/New_York:20241002T210000
DTSTAMP:20260422T104429
CREATED:20240911T144731Z
LAST-MODIFIED:20240911T144731Z
UID:6154-1727895600-1727902800@woodcountyhistory.org
SUMMARY:German-American Day
DESCRIPTION:GERMAN-AMERICAN DAY \n7 PM • RSVP Required \nJoin us on October 2nd for this year’s German-American Day Education Program!\n\n\nA brief program about the WWII POW Camp in Bowling Green will begin the evening. The “Story Slam” format will follow and allow guests 5 Minutes to share their own stories about any topic related to their German American heritage\, genealogy\, or German experiences.\n\n\n\nDiscussions led by Dr. Geoff Howes\, BGSU retired\, and Michael McMaster\, Wood County Museum Education Coordinator.\n\n\n\nEnjoy German food and fellowship after the event.\n\nThe museum will be open from 6-7PM for guests to tour the exhibits \n\nPlease make your reservations by using our website or calling the museum at 419-352-0967.
URL:https://woodcountyhistory.org/event/german-american-day-4/
LOCATION:Wood County Museum\, 13660 County Home Rd.\, Bowling Green\, OH\, 43402\, United States
ATTACH;FMTTYPE=image/jpeg:https://woodcountyhistory.org/wp-content/uploads/2021/10/german-american-heritage-month-640x514-1.jpg
ORGANIZER;CN="Wood County Museum":MAILTO:visitus@woodcountyhistory.org
END:VEVENT
BEGIN:VEVENT
DTSTART;TZID=America/New_York:20241004T100000
DTEND;TZID=America/New_York:20241004T160000
DTSTAMP:20260422T104429
CREATED:20240327T151050Z
LAST-MODIFIED:20240327T151050Z
UID:5376-1728036000-1728057600@woodcountyhistory.org
SUMMARY:Free First Fridays & Make and Take Craft Day
DESCRIPTION:Come out to the Wood County Museum for free Museum admission every first Friday! \n*NEW* in 2024 – Free make & take craft on Free First Friday Days! \nOctober Make & Take Craft: TBA \nFree First Fridays is presented by Visit Bowling Green\, Ohio \, Visit Perrysburg\, & Rossford Convention & Visitors Bureau. \nExhibits currently on display are: \n“Allure & Illusion: A Rose Colored Romance” \n“For Comfort & Convenience: Public Charity in Ohio By Way of the Poor Farm” \n“The Mary & Carl Back Story” \n“Chasing the White Rabbit: An Historical Look at American Mental Health” (inside Asylum) \n“A Clean Bill of Health: Societal Response to Communicable Disease” (inside Pest House) \n(Regular admission $7\, always FREE for members). \nFree First Fridays is presented by Visit Bowling Green\, Ohio \, Visit Perrysburg\, & Rossford Convention & Visitors Bureau.
URL:https://woodcountyhistory.org/event/free-first-fridays-make-and-take-craft-day-10/
ATTACH;FMTTYPE=image/png:https://woodcountyhistory.org/wp-content/uploads/2023/12/Free-First-Friday_ForComfort_FBevent.png
END:VEVENT
BEGIN:VEVENT
DTSTART;TZID=America/New_York:20241007T110000
DTEND;TZID=America/New_York:20241007T120000
DTSTAMP:20260422T104429
CREATED:20240824T145612Z
LAST-MODIFIED:20240824T145612Z
UID:6116-1728298800-1728302400@woodcountyhistory.org
SUMMARY:Education On The Road: Mike’s Favorite Things! Part 1
DESCRIPTION:Join Mike McMaster as he gives an education program over Mike’s Favorite Things! Part 1 \n*THIS IS EVENT IS AT THE WOOD COUNTY COMMITTEE ON AGING* \nMike’s Favorite Things! Part 1\nWood County was formed in 1820\, but this Place has been here for thousands of years. Learn about our pre-historic past and some railroad history. \nProgram Date: October 7\, 2024\nProgram Time: 11:00AM\nProgram Location: Wood County Committee On Aging – 140 S Grove St\, Bowling Green\, OH 43402\nCost: FREE!
URL:https://woodcountyhistory.org/event/education-on-the-road-mikes-favorite-things-part-1/
LOCATION:Wood County Committee On Aging\, 140 S Grove St\, Bowling Green\, OH\, 43402\, United States
ATTACH;FMTTYPE=image/png:https://woodcountyhistory.org/wp-content/uploads/2024/08/General-1.png
END:VEVENT
BEGIN:VEVENT
DTSTART;TZID=America/New_York:20241010T140000
DTEND;TZID=America/New_York:20241010T160000
DTSTAMP:20260422T104429
CREATED:20231214T170339Z
LAST-MODIFIED:20240924T150045Z
UID:4985-1728568800-1728576000@woodcountyhistory.org
SUMMARY:Tea & Talk Series: Ghost Stories On Land & Sea
DESCRIPTION:“Ghost Stories On Land & Sea” \nLIMITED TICKETS REMAIN – MUST CALL 419-352-0967 TO PURCHASE \n  \nJoin us for a discussion about ghost stories! Join Bette Lou Higgins and feel chills run up your spine while you learn about different ghost tales out on the Great Lakes\, plus other haunting stories. \nAbout the Speaker: Bette Lou Higgins\, Eden Valley Enterprises: A founding member and now the Artistic Director of Eden Valley Enterprises\, an educational and cultural organization that developed living history programs beginning in the 1970s. Her professional life has been spent combining theatrical skills and knowledge of history to depict Ohio’s unique historical figures. \nEach monthly tea & talk starts with a catered luncheon\, warm tea\, and a unique presentation over a topic of interest. Reservations are required and are due the Friday before each tea. All Ticket Sales are Final. Tickets are non-transferrable and non-refundable. Handicap accessible facilities. Groups Welcome. \nPrice: $25/Museum Members\, $30/Non-Members\, $30/Gluten Free/Vegan Meal
URL:https://woodcountyhistory.org/event/tea-talk-series-ghost-stories-on-land-sea/
LOCATION:Wood County Museum\, 13660 County Home Rd.\, Bowling Green\, OH\, 43402\, United States
ATTACH;FMTTYPE=image/png:https://woodcountyhistory.org/wp-content/uploads/2023/12/LSCT-header-photo-Spooky-Stories-stock.png
ORGANIZER;CN="Wood County Museum":MAILTO:visitus@woodcountyhistory.org
END:VEVENT
BEGIN:VEVENT
DTSTART;TZID=America/New_York:20241015T123000
DTEND;TZID=America/New_York:20241015T133000
DTSTAMP:20260422T104429
CREATED:20240824T145825Z
LAST-MODIFIED:20240824T145825Z
UID:6119-1728995400-1728999000@woodcountyhistory.org
SUMMARY:Education On The Road: Odds and Ends of Wood County: Part 4
DESCRIPTION:Join Mike McMaster as he gives an education program over Odds and Ends of Wood County: Part 4 \n*THIS IS EVENT IS AT THE ROSSFORD SENIOR CENTER* \nOdds and Ends of Wood County: Part 4\nThere are many historical odds and ends in Wood County. At one time\, north of Bloomdale\, sat a sad and mysterious building; what was it’s origin? \nProgram Date: October 15\, 2024\nProgram Time: 12:30PM\nProgram Location: Rossford Senior Center – 400 Dixie Hwy\, Rossford\, OH 43460\nCost: FREE!
URL:https://woodcountyhistory.org/event/education-on-the-road-odds-and-ends-of-wood-county-part-4-3/
LOCATION:Rossford Senior Center\, 400 Dixie Highway\, Rossford\, OH\, 43460\, United States
ATTACH;FMTTYPE=image/png:https://woodcountyhistory.org/wp-content/uploads/2024/08/General-1.png
END:VEVENT
BEGIN:VEVENT
DTSTART;TZID=America/New_York:20241017T183000
DTEND;TZID=America/New_York:20241017T193000
DTSTAMP:20260422T104429
CREATED:20240824T151138Z
LAST-MODIFIED:20240824T151138Z
UID:6125-1729189800-1729193400@woodcountyhistory.org
SUMMARY:Education On The Road: Holcomb Woods Road Legend
DESCRIPTION:Join Mike McMaster as he gives an education program over Holcomb Woods Road Legend\n\n*THIS IS EVENT IS AT THE PEMBERVILLE PUBLIC LIBRARY*\n\nHolcomb Woods Road Legend\nHolcomb Road has a long history as a haunted road.  Learn about the ghost story and why this legend was started.  This program is longer than normal programs.\n\nProgram Date: October 17\, 2024\nProgram Time: 6:30PM\nProgram Location: Pemberville Public Library – 375 E Front St\, Pemberville\, OH 43450\nCost: FREE!
URL:https://woodcountyhistory.org/event/education-on-the-road-holcomb-woods-road-legend/
LOCATION:Pemberville Public Library\, 375 E Front St\, Pemberville\, OH\, 43450
ATTACH;FMTTYPE=image/png:https://woodcountyhistory.org/wp-content/uploads/2024/08/Holcomb-Rd.png
END:VEVENT
BEGIN:VEVENT
DTSTART;TZID=America/New_York:20241018T123000
DTEND;TZID=America/New_York:20241018T133000
DTSTAMP:20260422T104429
CREATED:20240824T145003Z
LAST-MODIFIED:20240824T145003Z
UID:6111-1729254600-1729258200@woodcountyhistory.org
SUMMARY:Education On The Road: Woodbury House
DESCRIPTION:Join Mike McMaster as he gives an education program over the Woodbury House\n\n*THIS IS EVENT IS AT THE PERRYSBURG SENIOR CENTER*\n\nWoodbury House\nLearn about the ghost town of Woodbury and Wood County’s oldest written down ghost story.  What secrets lay buried in this haunted house?\n\nProgram Date: October 18\, 2024\nProgram Time: 12:30PM\nProgram Location: Perrysburg Senior Center -140 W. Indiana Avenue\, Perrysburg\, OH 43551\nCost: FREE!
URL:https://woodcountyhistory.org/event/education-on-the-road-woodbury-house/
LOCATION:Perrysburg Senior Center\, 140 W. Indiana Avenue\, Perrysburg\, OH\, 43551\, United States
ATTACH;FMTTYPE=image/png:https://woodcountyhistory.org/wp-content/uploads/2024/08/General.png
END:VEVENT
BEGIN:VEVENT
DTSTART;TZID=America/New_York:20241022T121500
DTEND;TZID=America/New_York:20241022T130000
DTSTAMP:20260422T104429
CREATED:20240824T150323Z
LAST-MODIFIED:20240824T150323Z
UID:6121-1729599300-1729602000@woodcountyhistory.org
SUMMARY:Education On The Road: Odds and Ends of Wood County: Part 4
DESCRIPTION:Join Mike McMaster as he gives an education program over Odds and Ends of Wood County: Part 4\n\n*THIS IS EVENT IS AT THE WALBRIDGE SENIOR CENTER*\n\nOdds and Ends of Wood County: Part 4\nThere are many historical odds and ends in Wood County. At one time\, north of Bloomdale\, sat a sad and mysterious building; what was it’s origin?\n\nProgram Date: October 22\, 2024\nProgram Time: 12:15PM\nProgram Location: Walbridge Senior Center – 705 N Main St\, Walbridge\, OH 43465\nCost: FREE!
URL:https://woodcountyhistory.org/event/education-on-the-road-odds-and-ends-of-wood-county-part-4-4/
LOCATION:Walbridge Senior Center\, 705 N Main St\, Walbridge\, OH 43465\, Walbridge\, 43465\, United States
ATTACH;FMTTYPE=image/png:https://woodcountyhistory.org/wp-content/uploads/2024/08/General-2.png
END:VEVENT
END:VCALENDAR