BEGIN:VCALENDAR
VERSION:2.0
PRODID:-//Wood County Museum - ECPv6.15.20//NONSGML v1.0//EN
CALSCALE:GREGORIAN
METHOD:PUBLISH
X-WR-CALNAME:Wood County Museum
X-ORIGINAL-URL:https://woodcountyhistory.org
X-WR-CALDESC:Events for Wood County Museum
REFRESH-INTERVAL;VALUE=DURATION:PT1H
X-Robots-Tag:noindex
X-PUBLISHED-TTL:PT1H
BEGIN:VTIMEZONE
TZID:America/New_York
BEGIN:DAYLIGHT
TZOFFSETFROM:-0500
TZOFFSETTO:-0400
TZNAME:EDT
DTSTART:20240310T070000
END:DAYLIGHT
BEGIN:STANDARD
TZOFFSETFROM:-0400
TZOFFSETTO:-0500
TZNAME:EST
DTSTART:20241103T060000
END:STANDARD
BEGIN:DAYLIGHT
TZOFFSETFROM:-0500
TZOFFSETTO:-0400
TZNAME:EDT
DTSTART:20250309T070000
END:DAYLIGHT
BEGIN:STANDARD
TZOFFSETFROM:-0400
TZOFFSETTO:-0500
TZNAME:EST
DTSTART:20251102T060000
END:STANDARD
BEGIN:DAYLIGHT
TZOFFSETFROM:-0500
TZOFFSETTO:-0400
TZNAME:EDT
DTSTART:20260308T070000
END:DAYLIGHT
BEGIN:STANDARD
TZOFFSETFROM:-0400
TZOFFSETTO:-0500
TZNAME:EST
DTSTART:20261101T060000
END:STANDARD
END:VTIMEZONE
BEGIN:VEVENT
DTSTART;TZID=America/New_York:20250106T110000
DTEND;TZID=America/New_York:20250106T120000
DTSTAMP:20260422T062114
CREATED:20241121T175721Z
LAST-MODIFIED:20250103T184205Z
UID:6578-1736161200-1736164800@woodcountyhistory.org
SUMMARY:Education On The Road: Road Trip History Trivia
DESCRIPTION:Join Mike McMaster as he gives an education program over Road Trip History Trivia \n*THIS IS EVENT IS AT THE WOOD COUNTY COMMITTEE ON AGING* \nRoad Trip History Trivia \nSee how well you can identify the objects and the histories along a virtual Wood County Road Trip \nProgram Date: January 6\, 2025\nProgram Time: 11:00AM\nProgram Location: Wood County Committee On Aging – 140 S Grove St\, Bowling Green\, OH 43402 \nCost: FREE!
URL:https://woodcountyhistory.org/event/education-on-the-road-road-trip-history-trivia-2/
LOCATION:Wood County Committee On Aging\, 140 S Grove St\, Bowling Green\, OH\, 43402\, United States
ATTACH;FMTTYPE=image/png:https://woodcountyhistory.org/wp-content/uploads/2024/08/General-2.png
END:VEVENT
BEGIN:VEVENT
DTSTART;TZID=America/New_York:20250107T121500
DTEND;TZID=America/New_York:20250107T130000
DTSTAMP:20260422T062114
CREATED:20241121T180524Z
LAST-MODIFIED:20241121T181749Z
UID:6583-1736252100-1736254800@woodcountyhistory.org
SUMMARY:Education On The Road: Mike’s Favorite Things - Part 2
DESCRIPTION:Join Mike McMaster as he gives an education program over Mike’s Favorite Things – Part 2 \n*THIS IS EVENT IS AT THE GRAND RAPIDS SENIOR CENTER* \nMike’s Favorite Things – Part 2 \nLearn about one of Mike McMaster’s favorite historical things and the story it tells; plus some Pemberville history too. \nProgram Date: January 7\, 2025\nProgram Time: 12:15PM\nProgram Location: Grand Rapids Senior Center – 23019 Kellogg Rd\, Grand Rapids\, OH 43522\nCost: FREE!
URL:https://woodcountyhistory.org/event/education-on-the-road-mikes-favorite-things-part-2-2/
LOCATION:Grand Rapids Senior Center\, 23019 Kellogg Rd\, Grand Rapids\, OH\, 43522
ATTACH;FMTTYPE=image/png:https://woodcountyhistory.org/wp-content/uploads/2024/08/General-2.png
END:VEVENT
BEGIN:VEVENT
DTSTART;TZID=America/New_York:20250108T121500
DTEND;TZID=America/New_York:20250108T130000
DTSTAMP:20260422T062114
CREATED:20241121T175531Z
LAST-MODIFIED:20241121T181735Z
UID:6576-1736338500-1736341200@woodcountyhistory.org
SUMMARY:Education On The Road: Road Trip History Trivia
DESCRIPTION:Join Mike McMaster as he gives an education program over Road Trip History Trivia \n*THIS IS EVENT IS AT THE PEMBERVILLE SENIOR CENTER* \nRoad Trip History Trivia \nSee how well you can identify the objects and the histories along a virtual Wood County Road Trip \nProgram Date: January 8\, 2025\nProgram Time: 12:15PM\nProgram Location: Pemberville Senior Center – 220 Cedar St. Pemberville\, OH 43450 \nCost: FREE!
URL:https://woodcountyhistory.org/event/education-on-the-road-road-trip-history-trivia/
LOCATION:Pemberville Senior Center\, 220 Cedar Street\, Pemberville\, OH\, 43450
ATTACH;FMTTYPE=image/png:https://woodcountyhistory.org/wp-content/uploads/2024/08/General-2.png
END:VEVENT
BEGIN:VEVENT
DTSTART;TZID=America/New_York:20250109T121500
DTEND;TZID=America/New_York:20250109T130000
DTSTAMP:20260422T062114
CREATED:20241121T181107Z
LAST-MODIFIED:20241121T181722Z
UID:6585-1736424900-1736427600@woodcountyhistory.org
SUMMARY:Education On The Road: The Blizzard of 1978
DESCRIPTION:Join Mike McMaster as he gives an education program over The Blizzard of 1978 \n*THIS IS EVENT IS AT THE WAYNE SENIOR CENTER* \nThe Blizzard of 1978: Learn a few facts about the Blizzard of ’78 and how a cat saved a man’s life during the storm. \nProgram Date: January 9\, 2025\nProgram Time: 12:15PM\nProgram Location: Wayne Senior Center – 202 E Main St\, Wayne\, OH 43466\nCost: FREE!
URL:https://woodcountyhistory.org/event/education-on-the-road-the-blizzard-of-1978/
LOCATION:Wayne Senior Center\, 202 E Main St\, Wayne\, 43466\, United States
ATTACH;FMTTYPE=image/png:https://woodcountyhistory.org/wp-content/uploads/2024/08/General-2.png
END:VEVENT
BEGIN:VEVENT
DTSTART;TZID=America/New_York:20250114T121500
DTEND;TZID=America/New_York:20250114T130000
DTSTAMP:20260422T062114
CREATED:20241121T182154Z
LAST-MODIFIED:20241121T182237Z
UID:6592-1736856900-1736859600@woodcountyhistory.org
SUMMARY:Education On The Road: The Bowling Green POW Camp During WWII
DESCRIPTION:Join Mike McMaster as he gives an education program over The Bowling Green POW Camp – WWII \n*THIS IS EVENT IS AT THE ROSSFORD SENIOR CENTER* \nThe Bowling Green POW Camp – WWII \nLearn details\, and dispel some legends\, about the WWII era Prisoner of War Camp that was within the city limits of Bowling Green. \nProgram Date: January 14\, 2025\nProgram Time: 12:15PM\nProgram Location: Rossford Senior Center – 400 Dixie Hwy\, Rossford\, OH 43460\nCost: FREE!
URL:https://woodcountyhistory.org/event/education-on-the-road-the-bowling-green-pow-camp-during-wwii/
LOCATION:Rossford Senior Center\, 400 Dixie Highway\, Rossford\, OH\, 43460\, United States
ATTACH;FMTTYPE=image/png:https://woodcountyhistory.org/wp-content/uploads/2024/08/General-2.png
END:VEVENT
BEGIN:VEVENT
DTSTART;TZID=America/New_York:20250122T121500
DTEND;TZID=America/New_York:20250122T130000
DTSTAMP:20260422T062114
CREATED:20241121T181401Z
LAST-MODIFIED:20241121T181425Z
UID:6587-1737548100-1737550800@woodcountyhistory.org
SUMMARY:Education On The Road: The Blizzard of 1978
DESCRIPTION:Join Mike McMaster as he gives an education program over The Blizzard of 1978 \n*THIS IS EVENT IS AT THE WALBRIDGE SENIOR CENTER* \nThe Blizzard of 1978: Learn a few facts about the Blizzard of ’78 and how a cat saved a man’s life during the storm. \nProgram Date: January 22\, 2025\nProgram Time: 12:15PM\nProgram Location: Walbridge Senior Center – 705 N Main St\, Walbridge\, OH 43465\nCost: FREE!
URL:https://woodcountyhistory.org/event/6587/
LOCATION:Walbridge Senior Center\, 705 N Main St\, Walbridge\, OH 43465\, Walbridge\, 43465\, United States
ATTACH;FMTTYPE=image/png:https://woodcountyhistory.org/wp-content/uploads/2024/08/General-2.png
END:VEVENT
BEGIN:VEVENT
DTSTART;TZID=America/New_York:20250131T124500
DTEND;TZID=America/New_York:20250131T133000
DTSTAMP:20260422T062114
CREATED:20241121T181654Z
LAST-MODIFIED:20241121T181654Z
UID:6590-1738327500-1738330200@woodcountyhistory.org
SUMMARY:Education On The Road: The Blizzard of 1978
DESCRIPTION:Join Mike McMaster as he gives an education program over The Blizzard of 1978 \n*THIS IS EVENT IS AT THE PERRYSBURG SENIOR CENTER* \nThe Blizzard of 1978: Learn a few facts about the Blizzard of ’78 and how a cat saved a man’s life during the storm. \nProgram Date: January 22\, 2025\nProgram Time: 12:15PM\nProgram Location: Perrysburg Senior Center – 140 W Indiana Ave\, Perrysburg\, OH 43551\nCost: FREE!
URL:https://woodcountyhistory.org/event/education-on-the-road-the-blizzard-of-1978-2/
LOCATION:Perrysburg Senior Center\, 140 W. Indiana Avenue\, Perrysburg\, OH\, 43551\, United States
ATTACH;FMTTYPE=image/png:https://woodcountyhistory.org/wp-content/uploads/2024/08/General-2.png
END:VEVENT
END:VCALENDAR