BEGIN:VCALENDAR
VERSION:2.0
PRODID:-//Wood County Museum - ECPv6.15.20//NONSGML v1.0//EN
CALSCALE:GREGORIAN
METHOD:PUBLISH
X-WR-CALNAME:Wood County Museum
X-ORIGINAL-URL:https://woodcountyhistory.org
X-WR-CALDESC:Events for Wood County Museum
REFRESH-INTERVAL;VALUE=DURATION:PT1H
X-Robots-Tag:noindex
X-PUBLISHED-TTL:PT1H
BEGIN:VTIMEZONE
TZID:America/New_York
BEGIN:DAYLIGHT
TZOFFSETFROM:-0500
TZOFFSETTO:-0400
TZNAME:EDT
DTSTART:20240310T070000
END:DAYLIGHT
BEGIN:STANDARD
TZOFFSETFROM:-0400
TZOFFSETTO:-0500
TZNAME:EST
DTSTART:20241103T060000
END:STANDARD
BEGIN:DAYLIGHT
TZOFFSETFROM:-0500
TZOFFSETTO:-0400
TZNAME:EDT
DTSTART:20250309T070000
END:DAYLIGHT
BEGIN:STANDARD
TZOFFSETFROM:-0400
TZOFFSETTO:-0500
TZNAME:EST
DTSTART:20251102T060000
END:STANDARD
BEGIN:DAYLIGHT
TZOFFSETFROM:-0500
TZOFFSETTO:-0400
TZNAME:EDT
DTSTART:20260308T070000
END:DAYLIGHT
BEGIN:STANDARD
TZOFFSETFROM:-0400
TZOFFSETTO:-0500
TZNAME:EST
DTSTART:20261101T060000
END:STANDARD
END:VTIMEZONE
BEGIN:VEVENT
DTSTART;TZID=America/New_York:20250203T110000
DTEND;TZID=America/New_York:20250203T120000
DTSTAMP:20260422T045754
CREATED:20250123T184605Z
LAST-MODIFIED:20250123T184605Z
UID:6766-1738580400-1738584000@woodcountyhistory.org
SUMMARY:Education On The Road: Mike’s Favorite Things - Part 3
DESCRIPTION:Join Mike McMaster as he gives an education program over Mike’s Favorite Things – Part 3 \n*THIS IS EVENT IS AT THE WOOD COUNTY COMMITTEE ON AGING* \nMike’s Favorite Things – Part 3: Learn about some of Mike’s favorite museum artifacts and the stories behind them. \nProgram Date: February 3\, 2025\nProgram Time: 11:00AM\nProgram Location: Wood County Committee on Aging – 140 S Grove St\, Bowling Green\, OH 43402\nCost: FREE!
URL:https://woodcountyhistory.org/event/education-on-the-road-mikes-favorite-things-part-3-2/
LOCATION:Wood County Committee On Aging\, 140 S Grove St\, Bowling Green\, OH\, 43402\, United States
ATTACH;FMTTYPE=image/png:https://woodcountyhistory.org/wp-content/uploads/2024/08/General-2.png
END:VEVENT
BEGIN:VEVENT
DTSTART;TZID=America/New_York:20250205T121500
DTEND;TZID=America/New_York:20250205T130000
DTSTAMP:20260422T045754
CREATED:20250123T184426Z
LAST-MODIFIED:20250123T184426Z
UID:6764-1738757700-1738760400@woodcountyhistory.org
SUMMARY:Education On The Road: Mike’s Favorite Things - Part 3
DESCRIPTION:Join Mike McMaster as he gives an education program over Mike’s Favorite Things – Part 3 \n*THIS IS EVENT IS AT THE PEMBERVILLE SENIOR CENTER* \nMike’s Favorite Things – Part 3: Learn about some of Mike’s favorite museum artifacts and the stories behind them. \nProgram Date: February 5\, 2025\nProgram Time: 12:15PM\nProgram Location: Pemberville Senior Center – 220 Cedar St.\, Pemberville\, OH 43450\nCost: FREE!
URL:https://woodcountyhistory.org/event/education-on-the-road-mikes-favorite-things-part-3/
LOCATION:Pemberville Senior Center\, 220 Cedar Street\, Pemberville\, OH\, 43450
ATTACH;FMTTYPE=image/png:https://woodcountyhistory.org/wp-content/uploads/2024/08/General-2.png
END:VEVENT
BEGIN:VEVENT
DTSTART;TZID=America/New_York:20250206T100000
DTEND;TZID=America/New_York:20250206T110000
DTSTAMP:20260422T045754
CREATED:20250123T183912Z
LAST-MODIFIED:20250123T183912Z
UID:6760-1738836000-1738839600@woodcountyhistory.org
SUMMARY:Education On The Road: History Roundtable
DESCRIPTION:Join Mike McMaster for a History Roundtable! \n*THIS IS EVENT IS AT THE WOOD COUNTY COMMITTEE ON AGING* \nHistory Roundtable: An informal gathering sharing stories together. Host Mike McMaster will begin with a prompt\, you prepare to share your own story \nProgram Date: February 6\, 2025\nProgram Time: 10:00AM\nProgram Location: Wood County Committee On Aging – 140 S Grove St\, Bowling Green\, OH 43402\nCost: FREE!
URL:https://woodcountyhistory.org/event/education-on-the-road-historyroundtable/
LOCATION:Wood County Committee On Aging\, 140 S Grove St\, Bowling Green\, OH\, 43402\, United States
ATTACH;FMTTYPE=image/png:https://woodcountyhistory.org/wp-content/uploads/2024/08/General-2.png
END:VEVENT
BEGIN:VEVENT
DTSTART;TZID=America/New_York:20250207T100000
DTEND;TZID=America/New_York:20250207T160000
DTSTAMP:20260422T045754
CREATED:20250102T185124Z
LAST-MODIFIED:20250103T170349Z
UID:6682-1738922400-1738944000@woodcountyhistory.org
SUMMARY:Free First Fridays & Make and Take Craft Day
DESCRIPTION:Come out to the Wood County Museum for free Museum admission every first Friday! \nFree make & take craft on Free First Friday Days! \nFebruary Make & Take Craft: Valentine Avocado Magnets \nFree First Fridays is presented by Visit Bowling Green\, Ohio \, Perrysburg Chamber of Commerce\, & Rossford Convention & Visitors Bureau. With support from The Willows at Bowling Green. \nExhibits currently on display are: \n“For Comfort & Convenience: Public Charity in Ohio By Way of the Poor Farm” \n“The Mary & Carl Back Story” \n“Chasing the White Rabbit: An Historical Look at American Mental Health” (inside Asylum) \n“A Clean Bill of Health: Societal Response to Communicable Disease” (inside Pest House) \n(Regular admission $7\, always FREE for members). \nFree First Fridays is presented by Visit Bowling Green\, Ohio \, Perrysburg Chamber of Commerce\, & Rossford Convention & Visitors Bureau. With support from The Willows at Bowling Green.
URL:https://woodcountyhistory.org/event/free-first-fridays-make-and-take-craft-day-13/
ATTACH;FMTTYPE=image/png:https://woodcountyhistory.org/wp-content/uploads/2025/01/Free-First-Friday_ForComfort_FBevent25.png
END:VEVENT
BEGIN:VEVENT
DTSTART;TZID=America/New_York:20250211T121500
DTEND;TZID=America/New_York:20250211T130000
DTSTAMP:20260422T045754
CREATED:20250123T183535Z
LAST-MODIFIED:20250123T183535Z
UID:6758-1739276100-1739278800@woodcountyhistory.org
SUMMARY:Education On The Road: History Mystery Road Trip
DESCRIPTION:Join Mike McMaster as he gives an education program over History Mystery Road Trip. \n*THIS IS EVENT IS AT THE ROSSFORD SENIOR CENTER* \nHistory Mystery Road Trip: Take a virtual road trip across Wood County to some fascinating historical locations.  Can you guess what the story behind each stop is? \nProgram Date: February 11\, 2025\nProgram Time: 12:15PM\nProgram Location: Rossford Senior Center – 400 Dixie Hwy\, Rossford\, OH 43460 \nCost: FREE!
URL:https://woodcountyhistory.org/event/education-on-the-road-historymysteryroadtrip/
LOCATION:Rossford Senior Center\, 400 Dixie Highway\, Rossford\, OH\, 43460\, United States
ATTACH;FMTTYPE=image/png:https://woodcountyhistory.org/wp-content/uploads/2024/08/General-2.png
END:VEVENT
BEGIN:VEVENT
DTSTART;TZID=America/New_York:20250212T121500
DTEND;TZID=America/New_York:20250212T130000
DTSTAMP:20260422T045754
CREATED:20250123T182856Z
LAST-MODIFIED:20250123T182856Z
UID:6754-1739362500-1739365200@woodcountyhistory.org
SUMMARY:Education On The Road: The Bowling Green POW Camp During WWII
DESCRIPTION:Join Mike McMaster as he gives an education program over The Bowling Green POW Camp – WWII \n*THIS IS EVENT IS AT THE WALBRIDGE SENIOR CENTER* \nThe Bowling Green POW Camp – WWII \nLearn details\, and dispel some legends\, about the WWII era Prisoner of War Camp that was within the city limits of Bowling Green. \nProgram Date: February 12\, 2025\nProgram Time: 12:15PM\nProgram Location: Walbridge Senior Center – 705 N Main St\, Walbridge\, OH 43465\nCost: FREE!
URL:https://woodcountyhistory.org/event/education-on-the-road-the-bowling-green-pow-camp-during-wwii-2/
LOCATION:Walbridge Senior Center\, 705 N Main St\, Walbridge\, OH 43465\, Walbridge\, 43465\, United States
ATTACH;FMTTYPE=image/png:https://woodcountyhistory.org/wp-content/uploads/2024/08/General-2.png
END:VEVENT
BEGIN:VEVENT
DTSTART;TZID=America/New_York:20250213T121500
DTEND;TZID=America/New_York:20250213T130000
DTSTAMP:20260422T045754
CREATED:20250123T183028Z
LAST-MODIFIED:20250123T183028Z
UID:6756-1739448900-1739451600@woodcountyhistory.org
SUMMARY:Education On The Road: The Bowling Green POW Camp During WWII
DESCRIPTION:Join Mike McMaster as he gives an education program over The Bowling Green POW Camp – WWII \n*THIS IS EVENT IS AT THE WAYNE SENIOR CENTER* \nThe Bowling Green POW Camp – WWII \nLearn details\, and dispel some legends\, about the WWII era Prisoner of War Camp that was within the city limits of Bowling Green. \nProgram Date: February 13\, 2025\nProgram Time: 12:15PM\nProgram Location: Wayne Senior Center – 202 E Main St\, Wayne\, OH 43466\nCost: FREE!
URL:https://woodcountyhistory.org/event/education-on-the-road-the-bowling-green-pow-camp-during-wwii-3/
LOCATION:Wayne Senior Center\, 202 E Main St\, Wayne\, 43466\, United States
ATTACH;FMTTYPE=image/png:https://woodcountyhistory.org/wp-content/uploads/2024/08/General-2.png
END:VEVENT
BEGIN:VEVENT
DTSTART;TZID=America/New_York:20250218T124500
DTEND;TZID=America/New_York:20250218T133000
DTSTAMP:20260422T045754
CREATED:20250123T185150Z
LAST-MODIFIED:20250123T185501Z
UID:6769-1739882700-1739885400@woodcountyhistory.org
SUMMARY:Education On The Road: Black Swamp Stories - Part 3
DESCRIPTION:Join Mike McMaster as he gives an education program over Black Swamp Stories – Part 3! \n*THIS IS EVENT IS AT THE PERRYSBURG SENIOR CENTER* \nBlack Swamp Stories – Part 3: Learn the location of the mysterious Dutchman’s Deadening\, the most iconic barn in Wood County\, and John Chapman’s gift. \nProgram Date: February 18\, 2025\nProgram Time: 12:45PM\nProgram Location: Perrysburg Senior Center – 140 W Indiana Ave\, Perrysburg\, OH 43551\nCost: FREE!
URL:https://woodcountyhistory.org/event/education-on-the-road-history-bswampstory3/
LOCATION:Perrysburg Senior Center\, 140 W. Indiana Avenue\, Perrysburg\, OH\, 43551\, United States
ATTACH;FMTTYPE=image/png:https://woodcountyhistory.org/wp-content/uploads/2024/08/General-2.png
END:VEVENT
BEGIN:VEVENT
DTSTART;TZID=America/New_York:20250221T100000
DTEND;TZID=America/New_York:20250221T110000
DTSTAMP:20260422T045754
CREATED:20250123T185424Z
LAST-MODIFIED:20250123T185424Z
UID:6771-1740132000-1740135600@woodcountyhistory.org
SUMMARY:Education On The Road: History Roundtable
DESCRIPTION:Join Mike McMaster for a History Roundtable! \n*THIS IS EVENT IS AT THE ROSSFORD SENIOR CENTER* \nHistory Roundtable: An informal gathering sharing stories together. Host Mike McMaster will begin with a prompt\, you prepare to share your own story \nProgram Date: February 21\, 2025\nProgram Time: 10:00AM\nProgram Location: Rossford Senior Center – 400 Dixie Hwy\, Rossford\, OH 43460\nCost: FREE!
URL:https://woodcountyhistory.org/event/education-on-the-road-history-roundtable-2/
LOCATION:Rossford Senior Center\, 400 Dixie Highway\, Rossford\, OH\, 43460\, United States
ATTACH;FMTTYPE=image/png:https://woodcountyhistory.org/wp-content/uploads/2024/08/General-2.png
END:VEVENT
END:VCALENDAR