BEGIN:VCALENDAR
VERSION:2.0
PRODID:-//Wood County Museum - ECPv6.15.20//NONSGML v1.0//EN
CALSCALE:GREGORIAN
METHOD:PUBLISH
X-WR-CALNAME:Wood County Museum
X-ORIGINAL-URL:https://woodcountyhistory.org
X-WR-CALDESC:Events for Wood County Museum
REFRESH-INTERVAL;VALUE=DURATION:PT1H
X-Robots-Tag:noindex
X-PUBLISHED-TTL:PT1H
BEGIN:VTIMEZONE
TZID:America/New_York
BEGIN:DAYLIGHT
TZOFFSETFROM:-0500
TZOFFSETTO:-0400
TZNAME:EDT
DTSTART:20240310T070000
END:DAYLIGHT
BEGIN:STANDARD
TZOFFSETFROM:-0400
TZOFFSETTO:-0500
TZNAME:EST
DTSTART:20241103T060000
END:STANDARD
BEGIN:DAYLIGHT
TZOFFSETFROM:-0500
TZOFFSETTO:-0400
TZNAME:EDT
DTSTART:20250309T070000
END:DAYLIGHT
BEGIN:STANDARD
TZOFFSETFROM:-0400
TZOFFSETTO:-0500
TZNAME:EST
DTSTART:20251102T060000
END:STANDARD
BEGIN:DAYLIGHT
TZOFFSETFROM:-0500
TZOFFSETTO:-0400
TZNAME:EDT
DTSTART:20260308T070000
END:DAYLIGHT
BEGIN:STANDARD
TZOFFSETFROM:-0400
TZOFFSETTO:-0500
TZNAME:EST
DTSTART:20261101T060000
END:STANDARD
END:VTIMEZONE
BEGIN:VEVENT
DTSTART;TZID=America/New_York:20250303T110000
DTEND;TZID=America/New_York:20250303T120000
DTSTAMP:20260422T032020
CREATED:20250228T171619Z
LAST-MODIFIED:20250228T171932Z
UID:6877-1740999600-1741003200@woodcountyhistory.org
SUMMARY:Education On The Road: History Mystery Road Trip 2
DESCRIPTION:Join Mike McMaster as he gives an education program over History Mystery Road Trip 2. \n*THIS IS EVENT IS AT THE WOOD COUNTY COMMITTEE ON AGING* \nHistory Mystery Road Trip 2: Take a virtual road trip to a few of Wood County’s historic locations. Can you identify the story behind the places we will go? \nProgram Date: March 3\, 2025\nProgram Time: 11:00AM\nProgram Location: Wood County Committee on Aging – 140 South Grove Street Bowling Green\, OH 43402 \nCost: FREE!
URL:https://woodcountyhistory.org/event/education-on-the-road-history-mystery-road-trip-2/
LOCATION:Wood County Committee On Aging\, 140 S Grove St\, Bowling Green\, OH\, 43402\, United States
ATTACH;FMTTYPE=image/png:https://woodcountyhistory.org/wp-content/uploads/2024/08/General-2.png
END:VEVENT
BEGIN:VEVENT
DTSTART;TZID=America/New_York:20250304T120000
DTEND;TZID=America/New_York:20250304T133000
DTSTAMP:20260422T032020
CREATED:20250228T153347Z
LAST-MODIFIED:20250228T153347Z
UID:6863-1741089600-1741095000@woodcountyhistory.org
SUMMARY:Education On The Road: Mike’s Favorite Things Part 3
DESCRIPTION:Join Mike McMaster as he gives an education program over his favorite museum artifacts.\n\n*THIS IS EVENT IS AT THE GRAND RAPIDS SENIOR CENTER*\n\nMike’s Favorite Things Part 3: learn about some of Mike’s favorite museum artifacts and the stories behind them.\n\nProgram Date: March 4\, 2025Program Time: 12:00PMProgram Location: 23019 Kellogg Rd. Grand Rapids\, Ohio 43522Cost: FREE!
URL:https://woodcountyhistory.org/event/education-on-the-road-mft3/
LOCATION:Grand Rapids Senior Center\, 23019 Kellogg Rd\, Grand Rapids\, OH\, 43522
ATTACH;FMTTYPE=image/png:https://woodcountyhistory.org/wp-content/uploads/2024/08/General-2.png
END:VEVENT
BEGIN:VEVENT
DTSTART;TZID=America/New_York:20250305T001500
DTEND;TZID=America/New_York:20250305T130000
DTSTAMP:20260422T032020
CREATED:20250228T171803Z
LAST-MODIFIED:20250228T171803Z
UID:6879-1741133700-1741179600@woodcountyhistory.org
SUMMARY:Education On The Road: History Mystery Road Trip 2
DESCRIPTION:Join Mike McMaster as he gives an education program over History Mystery Road Trip 2. \n*THIS IS EVENT IS AT THE PEMBERVILLE SENIOR CENTER* \nHistory Mystery Road Trip 2: Take a virtual road trip to a few of Wood County’s historic locations. Can you identify the story behind the places we will go? \nProgram Date: March 5\, 2025\nProgram Time: 12:15PM\nProgram Location: Pemberville Senior Center – 220 Cedar Street Pemberville\, OH 43450 \nCost: FREE!
URL:https://woodcountyhistory.org/event/education-on-the-road-history-mystery-road-trip-2-2/
LOCATION:Pemberville Senior Center\, 220 Cedar Street\, Pemberville\, OH\, 43450
ATTACH;FMTTYPE=image/png:https://woodcountyhistory.org/wp-content/uploads/2024/08/General-2.png
END:VEVENT
BEGIN:VEVENT
DTSTART;TZID=America/New_York:20250306T183000
DTEND;TZID=America/New_York:20250306T193000
DTSTAMP:20260422T032020
CREATED:20250228T153930Z
LAST-MODIFIED:20250228T153930Z
UID:6867-1741285800-1741289400@woodcountyhistory.org
SUMMARY:Education On The Road: The Irish Invasion!
DESCRIPTION:Join Mike McMaster as he gives an education program over the Irish Invasion! \n*THIS IS EVENT IS AT THE PORT CLINTON PUBLIC LIBRARY* \nThe Irish Invasion! Learn how Irish nationals conducted military operations from American soil. \nProgram Date: March 6\, 2025\nProgram Time: 6:30PM\nProgram Location: Port Clinton Public Library – 310 Madison St\, Port Clinton\, OH 43452\nCost: FREE!
URL:https://woodcountyhistory.org/event/education-on-the-road-irishinvasion/
LOCATION:Port Clinton Public Library\, 310 Madison St\, Port Clinton\, 43452\, United States
ATTACH;FMTTYPE=image/png:https://woodcountyhistory.org/wp-content/uploads/2024/08/General-2.png
END:VEVENT
BEGIN:VEVENT
DTSTART;TZID=America/New_York:20250307T100000
DTEND;TZID=America/New_York:20250307T160000
DTSTAMP:20260422T032020
CREATED:20250102T185213Z
LAST-MODIFIED:20250103T165757Z
UID:6685-1741341600-1741363200@woodcountyhistory.org
SUMMARY:Free First Fridays & Make and Take Craft Day
DESCRIPTION:Come out to the Wood County Museum for free Museum admission every first Friday! \nFree make & take craft on Free First Friday Days! \nMarch Make & Take Craft: Lucky Grab Bags \nFree First Fridays is presented by Visit Bowling Green\, Ohio \, Perrysburg Chamber of Commerce\, & Rossford Convention & Visitors Bureau. With support from The Willows at Bowling Green. \nExhibits currently on display are: \n“For Comfort & Convenience: Public Charity in Ohio By Way of the Poor Farm” \n“The Mary & Carl Back Story” \n“Chasing the White Rabbit: An Historical Look at American Mental Health” (inside Asylum) \n“A Clean Bill of Health: Societal Response to Communicable Disease” (inside Pest House) \n(Regular admission $7\, always FREE for members). \nFree First Fridays is presented by Visit Bowling Green\, Ohio \, Perrysburg Chamber of Commerce\, & Rossford Convention & Visitors Bureau. With support from The Willows at Bowling Green.
URL:https://woodcountyhistory.org/event/free-first-fridays-make-and-take-craft-day-14/
ATTACH;FMTTYPE=image/png:https://woodcountyhistory.org/wp-content/uploads/2025/01/Free-First-Friday_ForComfort_FBevent25.png
END:VEVENT
BEGIN:VEVENT
DTSTART;TZID=America/New_York:20250312T121500
DTEND;TZID=America/New_York:20250312T130000
DTSTAMP:20260422T032020
CREATED:20250228T154313Z
LAST-MODIFIED:20250228T154519Z
UID:6870-1741781700-1741784400@woodcountyhistory.org
SUMMARY:Education On The Road: Mike’s Favorite Things Part 1
DESCRIPTION:Join Mike McMaster as he gives an education program over some railroad history.\n\n*THIS IS EVENT IS AT THE WALBRIGE SENIOR CENTER*\n\nMike’s Favorite Things Part 1: learn about some of Mike’s favorite historical objects and the stories behind them. Part 1 is rich in railroad history!\n\nProgram Date: March 12\, 2025Program Time: 12:15PMProgram Location: Walbridge Senior Center – 400 Dixie Highway Rossford\, OH 43460Cost: FREE!
URL:https://woodcountyhistory.org/event/education-on-the-road-mikes-favorite-things-part1/
LOCATION:Walbridge Senior Center\, 705 N Main St\, Walbridge\, OH 43465\, Walbridge\, 43465\, United States
ATTACH;FMTTYPE=image/png:https://woodcountyhistory.org/wp-content/uploads/2024/08/General-2.png
END:VEVENT
BEGIN:VEVENT
DTSTART;TZID=America/New_York:20250313T121500
DTEND;TZID=America/New_York:20250313T130000
DTSTAMP:20260422T032020
CREATED:20250228T155940Z
LAST-MODIFIED:20250228T155940Z
UID:6872-1741868100-1741870800@woodcountyhistory.org
SUMMARY:Education On The Road: Mike’s Favorite Things Part 1
DESCRIPTION:Join Mike McMaster as he gives an education program over some railroad history.\n\n*THIS IS EVENT IS AT THE WAYNE SENIOR CENTER*\n\nMike’s Favorite Things Part 1: learn about some of Mike’s favorite historical objects and the stories behind them. Part 1 is rich in railroad history!\n\nProgram Date: March 13\, 2025Program Time: 12:15PMProgram Location: Wayne Senior Center -202 East Main Street Wayne\, OH 43466Cost: FREE!
URL:https://woodcountyhistory.org/event/education-on-the-road-mikes-favorite-things-part-1-3/
LOCATION:Wayne Senior Center\, 202 E Main St\, Wayne\, 43466\, United States
ATTACH;FMTTYPE=image/png:https://woodcountyhistory.org/wp-content/uploads/2024/08/General-2.png
END:VEVENT
BEGIN:VEVENT
DTSTART;TZID=America/New_York:20250313T140000
DTEND;TZID=America/New_York:20250313T160000
DTSTAMP:20260422T032020
CREATED:20241205T205709Z
LAST-MODIFIED:20250228T172534Z
UID:6625-1741874400-1741881600@woodcountyhistory.org
SUMMARY:Tea & Talk Series: Willow Run Rosies - A Labor of Love
DESCRIPTION:LIMITED TICKETS REMAIN – CALL 419-352-0967 TO PURCHASE! \n  \n“Willow Run Rosies – A Labor of Love” \nHow did the mothers\, daughters\, sisters\, and girlfriends of men sent to war during WWII\, with little experience\, step onto assembly lines and turn the U.S. into the “Arsenal of Democracy”? Discover the extraordinary history of Michigan’s Willow Run B-24 Bomber Plant\, the iconic story of Rosie the Riveter\, and the powerful impact of women on the American home front in the 1940s. \nPresented by “Rosie” in authentic period costume\, this program will have you laughing\, crying\, chanting\, and cheering as you witness the Can-Do teamwork that shaped America’s wartime success—and continues to inspire young people worldwide today! \nAbout the Speaker: \nWendy Zielen grew up in upstate New York but became a lifelong Michigander when she met her husband at the University of Michigan. Currently\, she is the Executive and Development Director for Bendix Academy\, a small nonprofit organization in Brighton Michigan that teaches toolmanship through mentorship. Wendy enjoys utilizing her industry expertise to promote worthy youth advocacy\, underserved communities\, environmental sustainability\, and historical preservation causes. She especially enjoys sharing the inspiration for the Willow Run story and Rosie the Riveter’s Can-Do spirit! \nEach monthly tea & talk starts with a catered luncheon\, warm tea\, and a unique presentation over a topic of interest. Reservations are required and are due the Friday before each tea. All Ticket Sales are Final. Tickets are final sale & non-refundable. Handicap accessible facilities. Groups Welcome. \nPrice: $25/Museum Members\, $30/Non-Members\, $30/Gluten Free/Vegan Meal
URL:https://woodcountyhistory.org/event/tea-talk-series-willowrun/
LOCATION:Wood County Museum\, 13660 County Home Rd.\, Bowling Green\, OH\, 43402\, United States
ATTACH;FMTTYPE=image/jpeg:https://woodcountyhistory.org/wp-content/uploads/2024/12/rosie-the-riveter-why-she-loved-codes-and-standards-large.jpg
ORGANIZER;CN="Wood County Museum":MAILTO:visitus@woodcountyhistory.org
END:VEVENT
BEGIN:VEVENT
DTSTART;TZID=America/New_York:20250314T121500
DTEND;TZID=America/New_York:20250314T130000
DTSTAMP:20260422T032020
CREATED:20250228T153534Z
LAST-MODIFIED:20250228T153534Z
UID:6865-1741954500-1741957200@woodcountyhistory.org
SUMMARY:Education On The Road: Mike’s Favorite Things Part 3
DESCRIPTION:Join Mike McMaster as he gives an education program over his favorite museum artifacts.\n\n*THIS IS EVENT IS AT THE ROSSFORD SENIOR CENTER*\n\nMike’s Favorite Things Part 3: learn about some of Mike’s favorite museum artifacts and the stories behind them.\n\nProgram Date: March 14\, 2025Program Time: 12:15PMProgram Location: 400 Dixie Highway Rossford\, OH 43460Cost: FREE!
URL:https://woodcountyhistory.org/event/education-on-the-road-mikes-favorite-things-part-3-3/
LOCATION:Rossford Senior Center\, 400 Dixie Highway\, Rossford\, OH\, 43460\, United States
ATTACH;FMTTYPE=image/png:https://woodcountyhistory.org/wp-content/uploads/2024/08/General-2.png
END:VEVENT
BEGIN:VEVENT
DTSTART;TZID=America/New_York:20250318T124500
DTEND;TZID=America/New_York:20250318T133000
DTSTAMP:20260422T032020
CREATED:20250123T185638Z
LAST-MODIFIED:20250123T185638Z
UID:6773-1742301900-1742304600@woodcountyhistory.org
SUMMARY:Education On The Road: Black Swamp Stories - Part 4
DESCRIPTION:Join Mike McMaster as he gives an education program over Black Swamp Stories – Part 4! \n*THIS IS EVENT IS AT THE PERRYSBURG SENIOR CENTER* \nBlack Swamp Stories – Part 4: Learn about the last war in Wood County\, or was it? \nProgram Date: March 18\, 2025\nProgram Time: 12:45PM\nProgram Location: Perrysburg Senior Center – 140 W Indiana Ave\, Perrysburg\, OH 43551\nCost: FREE!
URL:https://woodcountyhistory.org/event/education-on-the-road-black-swamp-stories-part4/
LOCATION:Perrysburg Senior Center\, 140 W. Indiana Avenue\, Perrysburg\, OH\, 43551\, United States
ATTACH;FMTTYPE=image/png:https://woodcountyhistory.org/wp-content/uploads/2024/08/General-2.png
END:VEVENT
BEGIN:VEVENT
DTSTART;TZID=America/New_York:20250326T100000
DTEND;TZID=America/New_York:20250326T110000
DTSTAMP:20260422T032020
CREATED:20250123T184059Z
LAST-MODIFIED:20250228T171024Z
UID:6762-1742983200-1742986800@woodcountyhistory.org
SUMMARY:Education On The Road: History Roundtable
DESCRIPTION:Join Mike McMaster for a History Roundtable! \n*THIS IS EVENT IS AT THE ROSSFORD SENIOR CENTER* \nHistory Roundtable: An informal gathering sharing stories together. Host Mike McMaster will begin with a prompt\, you prepare to share your own story \nProgram Date: March 26\, 2025\nProgram Time: 10:00AM\nProgram Location: Rossford Senior Center – 400 Dixie Hwy\, Rossford\, OH 43460\nCost: FREE!
URL:https://woodcountyhistory.org/event/education-on-the-road-history-roundtable/
LOCATION:Rossford Senior Center\, 400 Dixie Highway\, Rossford\, OH\, 43460\, United States
ATTACH;FMTTYPE=image/png:https://woodcountyhistory.org/wp-content/uploads/2024/08/General-2.png
END:VEVENT
BEGIN:VEVENT
DTSTART;TZID=America/New_York:20250327T183000
DTEND;TZID=America/New_York:20250327T193000
DTSTAMP:20260422T032020
CREATED:20250228T171258Z
LAST-MODIFIED:20250228T171258Z
UID:6875-1743100200-1743103800@woodcountyhistory.org
SUMMARY:Education On The Road: Missionaries of the Maumee
DESCRIPTION:Join Mike McMaster as he gives an education program over Missionaries of the Maumee. \n*THIS IS EVENT IS AT THE WALBRIDGE PUBLIC LIBRARY* \nLearn about the early Missionaries of the Maumee River Valley and the work they did; it’s not what you think.  But were they overshadowed by a more talented woman? \nProgram Date: March 27\, 2025\nProgram Time: 6:30PM\nProgram Location: Walbridge Public Library  – 108 N Main St\, Walbridge\, OH 43465\nCost: FREE!
URL:https://woodcountyhistory.org/event/education-on-the-road-motm/
LOCATION:Walbridge Public Library\, 108 N. Main St.\, Walbridge\, OH\, 43465\, United States
ATTACH;FMTTYPE=image/png:https://woodcountyhistory.org/wp-content/uploads/2024/08/General-2.png
END:VEVENT
END:VCALENDAR