BEGIN:VCALENDAR
VERSION:2.0
PRODID:-//Wood County Museum - ECPv6.15.20//NONSGML v1.0//EN
CALSCALE:GREGORIAN
METHOD:PUBLISH
X-WR-CALNAME:Wood County Museum
X-ORIGINAL-URL:https://woodcountyhistory.org
X-WR-CALDESC:Events for Wood County Museum
REFRESH-INTERVAL;VALUE=DURATION:PT1H
X-Robots-Tag:noindex
X-PUBLISHED-TTL:PT1H
BEGIN:VTIMEZONE
TZID:America/New_York
BEGIN:DAYLIGHT
TZOFFSETFROM:-0500
TZOFFSETTO:-0400
TZNAME:EDT
DTSTART:20240310T070000
END:DAYLIGHT
BEGIN:STANDARD
TZOFFSETFROM:-0400
TZOFFSETTO:-0500
TZNAME:EST
DTSTART:20241103T060000
END:STANDARD
BEGIN:DAYLIGHT
TZOFFSETFROM:-0500
TZOFFSETTO:-0400
TZNAME:EDT
DTSTART:20250309T070000
END:DAYLIGHT
BEGIN:STANDARD
TZOFFSETFROM:-0400
TZOFFSETTO:-0500
TZNAME:EST
DTSTART:20251102T060000
END:STANDARD
BEGIN:DAYLIGHT
TZOFFSETFROM:-0500
TZOFFSETTO:-0400
TZNAME:EDT
DTSTART:20260308T070000
END:DAYLIGHT
BEGIN:STANDARD
TZOFFSETFROM:-0400
TZOFFSETTO:-0500
TZNAME:EST
DTSTART:20261101T060000
END:STANDARD
END:VTIMEZONE
BEGIN:VEVENT
DTSTART;VALUE=DATE:20250401
DTEND;VALUE=DATE:20250501
DTSTAMP:20260422T014809
CREATED:20241121T183803Z
LAST-MODIFIED:20250228T172457Z
UID:6597-1743465600-1746057599@woodcountyhistory.org
SUMMARY:Easter Egg Scavenger Hunt
DESCRIPTION:Join the Wood County Museum for the 5th Annual Easter Egg Scavenger Hunt!\n\nFrom April 1-30\, find all 10 egg signs and collect the clues to win a prize. Signs will be “hidden” all around the Museum grounds\, all 50 acres!\n\nThis is an egg hunt that is for both kids and adults\, everyone is welcome to participate!\n\nYou can pick up your “passport” book inside the Museum during open hours\, or at either of the information kiosks on the grounds (visitor parking lot or behind the building by the Herb Garden).\n\nOnce you find all the egg signs and fill out the clue answers\, bring your completed passport back to the museum front desk during open hours (10AM-4PM) to claim your prize.\n\nWe hope you have fun and learn a little bit of our history while hunting for clues!\n\nThis is a FREE community event.\nThank you to our Sponsors! \nPresenting Sponsors: Sleek Academy & All About the Kids Learning Center. \nSign Sponsors: Perrysburg Area Chamber of Commerce\, Dr. Ted Bowlus – Podiatrist\, St. Aloysius Catholic School\, Susan & George Winters\, CedarCreek Church\, The Morning Show BG\, St. Mark’s Lutheran Church & Academy\, Lanny & Marcia Traber\, Betco\, and The Wells Family. \n 
URL:https://woodcountyhistory.org/event/easter-egg-scavenger-hunt/
LOCATION:Wood County Museum\, 13660 County Home Rd.\, Bowling Green\, OH\, 43402\, United States
ATTACH;FMTTYPE=image/jpeg:https://woodcountyhistory.org/wp-content/uploads/2021/12/6a00e554e8195d883301bb098fe8f4970d.jpeg
ORGANIZER;CN="Wood County Museum":MAILTO:visitus@woodcountyhistory.org
END:VEVENT
BEGIN:VEVENT
DTSTART;TZID=America/New_York:20250404T100000
DTEND;TZID=America/New_York:20250404T160000
DTSTAMP:20260422T014810
CREATED:20250102T185237Z
LAST-MODIFIED:20250103T165737Z
UID:6687-1743760800-1743782400@woodcountyhistory.org
SUMMARY:Free First Fridays & Make and Take Craft Day
DESCRIPTION:Come out to the Wood County Museum for free Museum admission every first Friday! \nFree make & take craft on Free First Friday Days! \nApril Make & Take Craft: Easter Slap Bracelets \nFree First Fridays is presented by Visit Bowling Green\, Ohio \, Perrysburg Chamber of Commerce\, & Rossford Convention & Visitors Bureau. With support from The Willows at Bowling Green. \nExhibits currently on display are: \n“For Comfort & Convenience: Public Charity in Ohio By Way of the Poor Farm” \n“The Mary & Carl Back Story” \n“Chasing the White Rabbit: An Historical Look at American Mental Health” (inside Asylum) \n“A Clean Bill of Health: Societal Response to Communicable Disease” (inside Pest House) \n(Regular admission $7\, always FREE for members). \nFree First Fridays is presented by Visit Bowling Green\, Ohio \, Perrysburg Chamber of Commerce\, & Rossford Convention & Visitors Bureau. With support from The Willows at Bowling Green.
URL:https://woodcountyhistory.org/event/free-first-fridays-make-and-take-craft-day-15/
ATTACH;FMTTYPE=image/png:https://woodcountyhistory.org/wp-content/uploads/2025/01/Free-First-Friday_ForComfort_FBevent25.png
END:VEVENT
BEGIN:VEVENT
DTSTART;TZID=America/New_York:20250410T140000
DTEND;TZID=America/New_York:20250410T160000
DTSTAMP:20260422T014810
CREATED:20241209T151840Z
LAST-MODIFIED:20241209T151840Z
UID:6635-1744293600-1744300800@woodcountyhistory.org
SUMMARY:Tea & Talk Series: Signed\, Sealed\, Delivered - The 6888th WAC
DESCRIPTION:“Signed\, Sealed\, Delivered: the 6888th WAC” \nDiscover the remarkable story of the 6888th Central Postal Directory Battalion\, the first Black Women’s Army Corps (WAC) unit sent overseas during World War II. Tasked with organizing and delivering millions of pieces of undelivered mail\, these 855 women transformed postal operations in the European Theater\, ensuring that Americans serving overseas received critical morale-boosting letters from home. \nIn addition to their logistical success\, the women of the 6888th faced unique challenges. They confronted racism and sexism both within the Army and in society at large while also battling for respect and recognition as soldiers in the WAC. Their service went beyond the well-known Double Victory campaign for civil rights and democracy abroad\, achieving what can be called a “Triple Victory”. \nThis lecture will explore the creation of the 6888th\, the challenges of segregation\, the influential individuals and organizations advocating for their deployment\, and their groundbreaking accomplishments in Europe. Join us to learn about these trailblazing women’s lasting impact and legacy. \n  \nAbout the Speaker: \nMolly Sampson is a dedicated World War II historian and museum leader\, currently pursuing a master’s degree in WWII Studies at Arizona State University. Her research emphasizes the confluence of gender\, social\, and military history by focusing on the Women’s Army Corps in World War II. Outside of conference presentations such as the RAF Museum Conference\, the Society for Military History Annual Meeting\, and the James A. Barnes Conference\, Sampson has also had the opportunity to share her research through the exhibition “The Triple Victory of the 6888th”  and as a consultant on the Tyler Perry film “Six Triple Eight”. Currently serving as the Executive Director of the Sandusky Area Maritime Association\, Sampson oversees the operations of the Maritime Museum of Sandusky. \n  \nEach monthly tea & talk starts with a catered luncheon\, warm tea\, and a unique presentation over a topic of interest. Reservations are required and are due the Friday before each tea. All Ticket Sales are Final. Tickets are final sale & non-refundable. Handicap accessible facilities. Groups Welcome. \nPrice: $25/Museum Members\, $30/Non-Members\, $30/Gluten Free/Vegan Meal
URL:https://woodcountyhistory.org/event/tea-talk-series-6888/
LOCATION:Wood County Museum\, 13660 County Home Rd.\, Bowling Green\, OH\, 43402\, United States
ATTACH;FMTTYPE=image/jpeg:https://woodcountyhistory.org/wp-content/uploads/2024/12/maxresdefault.jpg
ORGANIZER;CN="Wood County Museum":MAILTO:visitus@woodcountyhistory.org
END:VEVENT
BEGIN:VEVENT
DTSTART;TZID=America/New_York:20250419T090000
DTEND;TZID=America/New_York:20250419T140000
DTSTAMP:20260422T014810
CREATED:20250415T142842Z
LAST-MODIFIED:20250415T142842Z
UID:7186-1745053200-1745071200@woodcountyhistory.org
SUMMARY:Demonstration Day: Spring Blacksmithing
DESCRIPTION:On Saturday\, April 19th\, The Wood County Museum will host a Demonstration Day featuring the Northwest Ohio Blacksmiths Association as they keep the art of blacksmithing stoked in heart of Wood County with an Open Forge Demonstration from 9 AM – 2 PM. Watch seasoned blacksmiths or try your hand at this lost art. \nThe Demonstration Day is free to attend. The museum will be open from 12PM – 4 PM on Saturday\, April 19th with regular admission\, $7 for adults\, with discounts for seniors\, veterans and children. The Museum is handicap accessible with an elevator\, handicap restrooms\, and ample parking in the visitor lot as well as behind the museum (south side). The south elevator entrance is also behind the museum.
URL:https://woodcountyhistory.org/event/demonstration-day-spring-blacksmithing-3/
LOCATION:Wood County Museum\, 13660 County Home Rd.\, Bowling Green\, OH\, 43402\, United States
ATTACH;FMTTYPE=image/png:https://woodcountyhistory.org/wp-content/uploads/2021/12/Blacksmith-demo.png
ORGANIZER;CN="Wood County Museum":MAILTO:visitus@woodcountyhistory.org
END:VEVENT
BEGIN:VEVENT
DTSTART;TZID=America/New_York:20250424T160000
DTEND;TZID=America/New_York:20250424T180000
DTSTAMP:20260422T014810
CREATED:20250404T174359Z
LAST-MODIFIED:20250405T162640Z
UID:7081-1745510400-1745517600@woodcountyhistory.org
SUMMARY:Ribbon Cutting & Open House for "We'll Meet Again: Remembering World War II"
DESCRIPTION:NEW EXHIBIT AT WOOD COUNTY MUSEUM \n“We’ll Meet Again: Remember World War II” to showcase Wood County Veterans. \nThe Wood County Museum is excited to announce the opening of a new exhibit\, We’ll Meet Again: Remembering World War II on April 24\, 2025.  The exhibit will showcase over 40+ uniforms of Wood County Veterans. It can be argued World War II is one of the most romanticized eras of the 20th century\, while defining a generation.  We’ll Meet Again:  Remembering World War II\, challenges the romantic notion of war through the exhibition of objects used by service men and women from Wood County\, Ohio coupled with of the era film and first-person audio experiences. \nThis exhibit was sponsored by Ohio Humanities and made possible with support from: Bowling Green Manor\, VFW Post 1148 Edwin & Irma Wolf\, Anonymous\, Mike & Terri Marsh\, Lybarger Grim American Legion Post 441\, Angels In Arms\, Phipps\, Shevlin\, and Hebeka Family Dentistry\, VFW Post 9963\, The Wood County Historical Society\, and other contributors. \nThe museum will be open for self-guided tours Monday – Friday\, 10 AM – 4 PM and weekends from 12 PM – 4 PM (closed on government holidays). Admission is $7 for adults and $3 for children\, with discounts for seniors\, students\, and military. Historical Society members receive free admission as well as a gift shop discount. The museum is handicap accessible and group tours are welcome. \nA grand opening celebration & open house for the exhibit will take place on Thursday\, April 24th with a ribbon cutting at 4:00 PM by the Bowling Green Chamber of Commerce\, followed by a public reception until 6:00 PM. Please RSVP to visitus@woodcountyhistory.org. \nAll events detailed at woodcountyhistory.org or by following the Wood County Museum on social media. The museum is located at 13660 County Home Road in Bowling Green.
URL:https://woodcountyhistory.org/event/ribbon-cutting-open-house-for-well-meet-again-remembering-world-war-ii/
LOCATION:Wood County Museum\, 13660 County Home Rd.\, Bowling Green\, OH\, 43402\, United States
ATTACH;FMTTYPE=image/jpeg:https://woodcountyhistory.org/wp-content/uploads/2025/04/WWII-Logo_300ppi-scaled.jpeg
END:VEVENT
END:VCALENDAR