BEGIN:VCALENDAR
VERSION:2.0
PRODID:-//Wood County Museum - ECPv6.15.20//NONSGML v1.0//EN
CALSCALE:GREGORIAN
METHOD:PUBLISH
X-WR-CALNAME:Wood County Museum
X-ORIGINAL-URL:https://woodcountyhistory.org
X-WR-CALDESC:Events for Wood County Museum
REFRESH-INTERVAL;VALUE=DURATION:PT1H
X-Robots-Tag:noindex
X-PUBLISHED-TTL:PT1H
BEGIN:VTIMEZONE
TZID:America/New_York
BEGIN:DAYLIGHT
TZOFFSETFROM:-0500
TZOFFSETTO:-0400
TZNAME:EDT
DTSTART:20240310T070000
END:DAYLIGHT
BEGIN:STANDARD
TZOFFSETFROM:-0400
TZOFFSETTO:-0500
TZNAME:EST
DTSTART:20241103T060000
END:STANDARD
BEGIN:DAYLIGHT
TZOFFSETFROM:-0500
TZOFFSETTO:-0400
TZNAME:EDT
DTSTART:20250309T070000
END:DAYLIGHT
BEGIN:STANDARD
TZOFFSETFROM:-0400
TZOFFSETTO:-0500
TZNAME:EST
DTSTART:20251102T060000
END:STANDARD
BEGIN:DAYLIGHT
TZOFFSETFROM:-0500
TZOFFSETTO:-0400
TZNAME:EDT
DTSTART:20260308T070000
END:DAYLIGHT
BEGIN:STANDARD
TZOFFSETFROM:-0400
TZOFFSETTO:-0500
TZNAME:EST
DTSTART:20261101T060000
END:STANDARD
END:VTIMEZONE
BEGIN:VEVENT
DTSTART;TZID=America/New_York:20250701T120000
DTEND;TZID=America/New_York:20250708T200000
DTSTAMP:20260421T182955
CREATED:20250623T183845Z
LAST-MODIFIED:20250623T191448Z
UID:7575-1751371200-1752004800@woodcountyhistory.org
SUMMARY:Online Silent Auction Fundraiser - SECOND CHANCE!
DESCRIPTION:2025 Poor Farm Palooza Fundraiser – SECOND CHANCE!\nJuly 1-8 • Online at https://www.32auctions.com/pfpf25SecondChance \nJoin us for the Second Chance – Poor Farm Palooza Fundraiser Online Silent Auction! Take a look at a few of the items that didn’t get bids during our main silent auction fundraiser! \nThe Second Chance Online Silent Auction will run July 1 at 12:00 PM until July 8 at 8:00 PM. \nThe Poor Farm Palooza Fundraiser Online Silent Auction is the Wood County Historical Society’s largest fundraising efforts. 100% of the proceeds will benefit the Wood County Museum so that we can continue to offer award-winning exhibits and educational opportunities to you. \nYour support ensures the longevity and success of YOUR award-winning local history museum. Please help us reach our goal to raise $15\,000 (we raised $14\,300 during the main auction\, we only need $700 to reach the goal!) by becoming an event sponsor\, purchasing a no-show ticket for the Poor Farm Palooza Fundraiser\, and by participating in the auction. \n**All bids/items are final sale and as is**
URL:https://woodcountyhistory.org/event/online-silent-auction-25secondchance/
ATTACH;FMTTYPE=image/png:https://woodcountyhistory.org/wp-content/uploads/2025/06/Copy-of-FB_SaveDate_PFPF-25.png
END:VEVENT
BEGIN:VEVENT
DTSTART;TZID=America/New_York:20250708T180000
DTEND;TZID=America/New_York:20250708T193000
DTSTAMP:20260421T182955
CREATED:20250414T200651Z
LAST-MODIFIED:20250609T183303Z
UID:7149-1751997600-1752003000@woodcountyhistory.org
SUMMARY:WWII Lecture Series - From Dragon's Teeth to Eagle's Nest: A WWII memoir of Stanley Kupi\, 14th Armored Division "The Liberators"
DESCRIPTION:Valerie is the proud granddaughter of Stanley Kupi\, PFC in the 14th Armored Division of WWII\, famously known as “The Liberators”.  Stanley left behind a remarkable legacy of rare photographs\, artwork\, and a candid WWII memoir that the family is now sharing with the world.  With the help of experts from around the globe\, Valerie has uncovered the historical significance of these photographs\, which vividly depict the war through Stanley’s eyes. \nAs a skilled artist\, Stanley also created v-mail postcards to his wife that are now proudly displayed at the Fort Chaffee Military Museum in Fort Smith\, Arkansas- sharing space with iconic artifacts like Elvis Presley’s military haircut memorabilia.  Join Valerie for an unforgettable journey through Stanley’s story\, where she will recount his division’s efforts which resulted in the liberation of over 60 towns and villages\, including the largest Nazi prison camp. \n  \nWhen: July 8\, 2025 at 6:00PM \nCost: FREE for members; $7 for non-members (tickets include a self-guided tour of the museum in addition to the program) \n***Each person attending must be a member to get the member rate. Members may not make reservations for non-members on their behalf*** \n  \nAbout the Speaker: Valerie Coleman \nValerie Coleman is a current graduate student at The Ohio State University College of Social Work. She is a 1999 graduate of Defiance College where she obtained her bachelor’s in human resource management and minored in economics. While at Defiance\, she played four years of Varsity Volleyball and was a co-captain of the team her senior year. After spending 24 years as a human resource professional\, she decided to pursue her life’s passion of helping people directly in the social services realm. She currently interns at a local nursing home facility and hopes to help as many seniors as possible during the next step in her career.
URL:https://woodcountyhistory.org/event/wwii-lecture-series-july2025/
ATTACH;FMTTYPE=image/png:https://woodcountyhistory.org/wp-content/uploads/2025/04/july-ww2-lecture.png
END:VEVENT
BEGIN:VEVENT
DTSTART;TZID=America/New_York:20250710T180000
DTEND;TZID=America/New_York:20250710T210000
DTSTAMP:20260421T182955
CREATED:20250414T193340Z
LAST-MODIFIED:20250414T193340Z
UID:7131-1752170400-1752181200@woodcountyhistory.org
SUMMARY:Music at the Museum Presented by Bowling Green Auto Sales
DESCRIPTION:FREE LIVE MUSIC CONCERT AT WOOD COUNTY MUSEUM \n The Wood County Museum will hosting its 3rd annual concert series “Music at the Museum Presented by Bowling Green Auto Sales”\, a free concert featuring Live Music on the east wing porch of the historic County Home building on four dates in 2025: June 12\, July 10\,  August 14\, and September 11 – starting at 6:00 PM. Each concert will feature 2-3 bands. \nThe July “Music at the Museum”\, will feature 3 bands: Ginger & the Snaps • The Pin Up Project • Amp Wagon \nConcert-goers are asked to bring chairs or blankets for lawn seating. \nBeer garden & yard games will also be onsite. No outside alcohol will be allowed. \nFood Truck lineup: Toledo Chuck Wagon • Leggo My Eggroll • BD’s Lemonade King
URL:https://woodcountyhistory.org/event/music-at-the-museum-july10/
ATTACH;FMTTYPE=image/png:https://woodcountyhistory.org/wp-content/uploads/2025/04/2025-Music-at-the-Museum-FB-Event-Cover-1.png
END:VEVENT
BEGIN:VEVENT
DTSTART;TZID=America/New_York:20250711T100000
DTEND;TZID=America/New_York:20250711T160000
DTSTAMP:20260421T182955
CREATED:20250102T185539Z
LAST-MODIFIED:20250103T165619Z
UID:6695-1752228000-1752249600@woodcountyhistory.org
SUMMARY:Free First Fridays & Make and Take Craft Day
DESCRIPTION:Come out to the Wood County Museum for free Museum admission every first Friday! ***July’s date will be on 7/11/24 due to the federal holiday*** \nFree make & take craft on Free First Friday Days! \nJuly Make & Take Craft: TBA \nFree First Fridays is presented by Visit Bowling Green\, Ohio \, Perrysburg Chamber of Commerce\, & Rossford Convention & Visitors Bureau. With support from The Willows at Bowling Green. \nExhibits currently on display are: \n“For Comfort & Convenience: Public Charity in Ohio By Way of the Poor Farm” \n“The Mary & Carl Back Story” \n“Chasing the White Rabbit: An Historical Look at American Mental Health” (inside Asylum) \n“A Clean Bill of Health: Societal Response to Communicable Disease” (inside Pest House) \n(Regular admission $7\, always FREE for members). \nFree First Fridays is presented by Visit Bowling Green\, Ohio \, Perrysburg Chamber of Commerce\, & Rossford Convention & Visitors Bureau. With support from The Willows at Bowling Green.
URL:https://woodcountyhistory.org/event/free-first-fridays-make-and-take-craft-day-18/
ATTACH;FMTTYPE=image/png:https://woodcountyhistory.org/wp-content/uploads/2025/01/Free-First-Friday_ForComfort_FBevent25.png
END:VEVENT
BEGIN:VEVENT
DTSTART;TZID=America/New_York:20250721T180000
DTEND;TZID=America/New_York:20250721T193000
DTSTAMP:20260421T182955
CREATED:20250528T181226Z
LAST-MODIFIED:20250528T185513Z
UID:7503-1753120800-1753126200@woodcountyhistory.org
SUMMARY:Tea Infused Ice Cream Class
DESCRIPTION:July 21\, 2025 • 6:00PM \nJoin the Wood County Museum & The Summer Kitchen Girls for a cool summer treat as we teach you how to blend tea with ice cream! Learn to make three tea infused frozen treats that have been infused with teas sold at the museum! \nAdmission: $35/person
URL:https://woodcountyhistory.org/event/tea-infused-ice-cream-class/
LOCATION:Wood County Museum\, 13660 County Home Rd.\, Bowling Green\, OH\, 43402\, United States
ATTACH;FMTTYPE=image/png:https://woodcountyhistory.org/wp-content/uploads/2025/05/Tea-Infused-Treats-class-FB-cover-scaled.png
ORGANIZER;CN="Wood County Museum":MAILTO:visitus@woodcountyhistory.org
END:VEVENT
BEGIN:VEVENT
DTSTART;TZID=America/New_York:20250724T160000
DTEND;TZID=America/New_York:20250724T190000
DTSTAMP:20260421T182955
CREATED:20250623T174555Z
LAST-MODIFIED:20250623T183617Z
UID:7566-1753372800-1753383600@woodcountyhistory.org
SUMMARY:50th Anniversary Party - MEMBERS ONLY!
DESCRIPTION:Join us on July 24th from 4pm-7pm for the golden celebration of the Wood County Museum! This is an exclusive FREE event for Museum Members ONLY!\n(Members will be required to provide membership number)Not a member? JOIN TODAY: https://woodcountyhistory.org/membership/What’s a party without cake and snow-cones (and other refreshments). \nWe will be giving free rides on our 1950s fire truck! \nFinally\, at 6pm there will be a special presentation by Curator\, Holly Kirkendall\, over the 50 year history of the Wood County Museum.The first 150 Museum members at the party will also get an exclusive 50th Anniversary tumbler! (Must be present to get tumbler) \n  \nWhen: July 24\, 2025 at 4:00PM – 7:00PM \nCost: FREE for members only \n***Each person attending must be a member & members will be required to provide membership number*** \n  \n \n 
URL:https://woodcountyhistory.org/event/50thparty/
ATTACH;FMTTYPE=image/png:https://woodcountyhistory.org/wp-content/uploads/2025/06/Copy-of-50th-Anniversary-Invitation-Facebook-Cover.png
END:VEVENT
END:VCALENDAR