BEGIN:VCALENDAR
VERSION:2.0
PRODID:-//Wood County Museum - ECPv6.15.20//NONSGML v1.0//EN
CALSCALE:GREGORIAN
METHOD:PUBLISH
X-ORIGINAL-URL:https://woodcountyhistory.org
X-WR-CALDESC:Events for Wood County Museum
REFRESH-INTERVAL;VALUE=DURATION:PT1H
X-Robots-Tag:noindex
X-PUBLISHED-TTL:PT1H
BEGIN:VTIMEZONE
TZID:America/New_York
BEGIN:DAYLIGHT
TZOFFSETFROM:-0500
TZOFFSETTO:-0400
TZNAME:EDT
DTSTART:20240310T070000
END:DAYLIGHT
BEGIN:STANDARD
TZOFFSETFROM:-0400
TZOFFSETTO:-0500
TZNAME:EST
DTSTART:20241103T060000
END:STANDARD
BEGIN:DAYLIGHT
TZOFFSETFROM:-0500
TZOFFSETTO:-0400
TZNAME:EDT
DTSTART:20250309T070000
END:DAYLIGHT
BEGIN:STANDARD
TZOFFSETFROM:-0400
TZOFFSETTO:-0500
TZNAME:EST
DTSTART:20251102T060000
END:STANDARD
BEGIN:DAYLIGHT
TZOFFSETFROM:-0500
TZOFFSETTO:-0400
TZNAME:EDT
DTSTART:20260308T070000
END:DAYLIGHT
BEGIN:STANDARD
TZOFFSETFROM:-0400
TZOFFSETTO:-0500
TZNAME:EST
DTSTART:20261101T060000
END:STANDARD
END:VTIMEZONE
BEGIN:VEVENT
DTSTART;TZID=America/New_York:20251106T123000
DTEND;TZID=America/New_York:20251106T123000
DTSTAMP:20260421T123417
CREATED:20250707T164756Z
LAST-MODIFIED:20251106T173753Z
UID:7616-1762432200-1762432200@woodcountyhistory.org
SUMMARY:Turkey Drop Fundraiser
DESCRIPTION:FOAM TURKEY DROP FUNDRAISER \nNovember 6\, 2025 at 12:30 PM • Wood County Museum Parking Lot \nDON’T MISS THIS FUN OPPORTUNITY TO SUPPORT THE WOOD COUNTY MUSEUM!\n***Come watch the drop and grab some Lunch – Turkey Dogs will be available for a donation***\n\nHere’s how it works: Purchase a foam turkey for $50 each.\nONLY 300 TURKEYS WILL BE SOLD!\n***upon purchase of your foam turkey online\, you will be emailed your number***\n\nFoam Turkeys can be purchased online\, at the museum or on location day of the event before the drop (while supplies last).\n\nToledo Aerial Media (TAM) will use a drone to drop numbered foam turkeys onto the parking lot.\nThe three foam turkeys closest to the target will win prizes!\n\n\nPRIZES\n(2 TARGETS\, 2 OF EACH CASH PRIZE)\n1st Closest to Target: $1\,000\n2nd Closest to Target: $750\n3rd Closest to Target: $500\nVarious other prizes as well!\n\nDrop will take place approximately around 12:30 PM\nYou do not have to be present to win.\n*Once you purchase your ticket\, we will email you letting you know your number(s).\n\nDrop is limited to 300 Foam Turkeys. Foam Turkeys will be sold up until 12:00pm on 11/6/25 or until sold out.\n  \nIn the case of inclement weather\, the turkey drop will be rescheduled.\n  \nTurkey Drone Drop performed by: Toledo Aerial Media\nProceeds go to the Wood County Historical Society to help support educational programs\, future exhibits\, and collections management.
URL:https://woodcountyhistory.org/event/turkey-drop-fundraiser25/
LOCATION:Wood County Museum\, 13660 County Home Rd.\, Bowling Green\, OH\, 43402\, United States
ATTACH;FMTTYPE=image/jpeg:https://woodcountyhistory.org/wp-content/uploads/2023/09/r4wY0-1542138994-related_image-1022.jpeg
ORGANIZER;CN="Wood County Museum":MAILTO:visitus@woodcountyhistory.org
END:VEVENT
BEGIN:VEVENT
DTSTART;TZID=America/New_York:20251107T100000
DTEND;TZID=America/New_York:20251107T160000
DTSTAMP:20260421T123417
CREATED:20250102T190102Z
LAST-MODIFIED:20250103T165437Z
UID:6703-1762509600-1762531200@woodcountyhistory.org
SUMMARY:Free First Fridays & Make and Take Craft Day
DESCRIPTION:Come out to the Wood County Museum for free Museum admission every first Friday! \nFree make & take craft on Free First Friday Days! \nNovember Make & Take Craft: TBA \nFree First Fridays is presented by Visit Bowling Green\, Ohio \, Perrysburg Chamber of Commerce\, & Rossford Convention & Visitors Bureau. With support from The Willows at Bowling Green. \nExhibits currently on display are: \n“For Comfort & Convenience: Public Charity in Ohio By Way of the Poor Farm” \n“The Mary & Carl Back Story” \n“Chasing the White Rabbit: An Historical Look at American Mental Health” (inside Asylum) \n“A Clean Bill of Health: Societal Response to Communicable Disease” (inside Pest House) \n(Regular admission $7\, always FREE for members). \nFree First Fridays is presented by Visit Bowling Green\, Ohio \, Perrysburg Chamber of Commerce\, & Rossford Convention & Visitors Bureau. With support from The Willows at Bowling Green.
URL:https://woodcountyhistory.org/event/free-first-fridays-make-and-take-craft-day-22/
ATTACH;FMTTYPE=image/png:https://woodcountyhistory.org/wp-content/uploads/2025/01/Free-First-Friday_ForComfort_FBevent25.png
END:VEVENT
BEGIN:VEVENT
DTSTART;TZID=America/New_York:20251108T140000
DTEND;TZID=America/New_York:20251108T153000
DTSTAMP:20260421T123417
CREATED:20251028T170127Z
LAST-MODIFIED:20251028T170127Z
UID:8260-1762610400-1762615800@woodcountyhistory.org
SUMMARY:Education On The Road: Made In North Baltimore
DESCRIPTION:What makes North Baltimore such an interesting place? \nSpend a Saturday afternoon with Curator of the Wood County Museum Holly Kirkendall to learn something new about this little corner of Wood County. \nThis program is FREE & open to the public! \nDate: November 8\, 2025 at 2:00PM \nProgram Location: North Baltimore Historical Society (229 N. Main St. North Baltimore\, OH 45872)
URL:https://woodcountyhistory.org/event/education-on-the-road-made-in-north-baltimore/
LOCATION:North Baltimore Historical Society\, 229 North Main Street\, North Baltimore\, 45872\, United States
ATTACH;FMTTYPE=image/png:https://woodcountyhistory.org/wp-content/uploads/2025/10/EOTR-MADE-IN-NB-FBWEB-Event-Cover-scaled.png
END:VEVENT
BEGIN:VEVENT
DTSTART;TZID=America/New_York:20251113T140000
DTEND;TZID=America/New_York:20251113T160000
DTSTAMP:20260421T123417
CREATED:20241209T152931Z
LAST-MODIFIED:20251009T211249Z
UID:6654-1763042400-1763049600@woodcountyhistory.org
SUMMARY:Tea & Talk Series: The Pen and the People: Eleanor Roosevelt and World War II
DESCRIPTION:***SOLD OUT – CALL 419-352-0967 TO BE PUT ON THE WAITLIST***\n  \n“The Pen and the People: Eleanor Roosevelt and World War II“ \nExplore Eleanor Roosevelt’s extraordinary role during World War II as a First Lady\, journalist\, and advocate. Through her influential column My Day\, Roosevelt connected with Americans on the home front\, addressed social issues\, and mobilized support for the war effort. This program highlights her leadership as she inspired a nation and championed justice during one of history’s most challenging periods. \n  \nAbout the Speaker: \nStephanie Bohnak is the current Director of Education & Curatorial Services at the National First Ladies Library and Museum in Canton\, Ohio where she curates all educational programming as well as coordinates\, schedules\, and leads tours of the museum. She is from Akron\, Ohio\, and holds an MA in History and Public History from Bowling Green State University with a focus on marginalized narratives\, specializing in women’s labor and food history. She received a BA in History from the University of Akron with minors in Anthropology and Classics and has an AS in Culinary Arts from Sullivan University in Louisville\, KY. In her previous role as the Museum Education and Tour Manager at the Oberlin Heritage Center\, Stephanie facilitated outreach programs\, field trips\, history walks\, and oversaw all tours. \n  \nEach monthly tea & talk starts with a catered luncheon\, warm tea\, and a unique presentation over a topic of interest. Reservations are required and are due the Friday before each tea. All Ticket Sales are Final. Tickets are final sale & non-refundable. Handicap accessible facilities. Groups Welcome. \nPrice: $25/Museum Members\, $30/Non-Members\, $30/Gluten Free/Vegan Meal
URL:https://woodcountyhistory.org/event/tea-talk-series-eleanorroosevelt/
LOCATION:Wood County Museum\, 13660 County Home Rd.\, Bowling Green\, OH\, 43402\, United States
ATTACH;FMTTYPE=image/jpeg:https://woodcountyhistory.org/wp-content/uploads/2024/12/eleanor_my_day_Canonical-resize-1200x0-50.jpg
ORGANIZER;CN="Wood County Museum":MAILTO:visitus@woodcountyhistory.org
END:VEVENT
BEGIN:VEVENT
DTSTART;TZID=America/New_York:20251119T180000
DTEND;TZID=America/New_York:20251119T203000
DTSTAMP:20260421T123417
CREATED:20251029T191631Z
LAST-MODIFIED:20251101T162033Z
UID:8301-1763575200-1763584200@woodcountyhistory.org
SUMMARY:Purrs & Popcorn: A Cat Food Drive Movie Night
DESCRIPTION:Join us for a cozy\, cat-themed movie night that’s all about helping our feline friends! \nHang out\, grab some popcorn (& an adoptable kitten)\, and enjoy a fun kitty-inspired film while supporting\nFor The Love Of Cats (FLOC)\, a local rescue dedicated to Trap\, Neuter\, Return (TNR) for community cats in need. \nSpecial guest – Pudge the cat! \nEvent Date: November 19 • 6:00PM \nFree admission with a donation of one of the following cat foods:\n• Wet Cat Food (4pk or higher)\n• Wet Kitten Food (4pk or higher)\n• Bag of Dry Cat Food\n• Bag of Dry Kitten Food\n• Any item off of the FLOC wish list (show online receipt) \nWish list link: www.amazon.com/hz/wishlist/ls/CE4MTVETW2JA/?
URL:https://woodcountyhistory.org/event/purrs-popcorn-a-cat-food-drive-movie-night/
ATTACH;FMTTYPE=image/png:https://woodcountyhistory.org/wp-content/uploads/2025/10/2025-PURRS-POPCORN-1920-x-1080-px-1-scaled.png
END:VEVENT
END:VCALENDAR