BEGIN:VCALENDAR
VERSION:2.0
PRODID:-//Wood County Museum - ECPv6.15.20//NONSGML v1.0//EN
CALSCALE:GREGORIAN
METHOD:PUBLISH
X-WR-CALNAME:Wood County Museum
X-ORIGINAL-URL:https://woodcountyhistory.org
X-WR-CALDESC:Events for Wood County Museum
REFRESH-INTERVAL;VALUE=DURATION:PT1H
X-Robots-Tag:noindex
X-PUBLISHED-TTL:PT1H
BEGIN:VTIMEZONE
TZID:America/New_York
BEGIN:DAYLIGHT
TZOFFSETFROM:-0500
TZOFFSETTO:-0400
TZNAME:EDT
DTSTART:20240310T070000
END:DAYLIGHT
BEGIN:STANDARD
TZOFFSETFROM:-0400
TZOFFSETTO:-0500
TZNAME:EST
DTSTART:20241103T060000
END:STANDARD
BEGIN:DAYLIGHT
TZOFFSETFROM:-0500
TZOFFSETTO:-0400
TZNAME:EDT
DTSTART:20250309T070000
END:DAYLIGHT
BEGIN:STANDARD
TZOFFSETFROM:-0400
TZOFFSETTO:-0500
TZNAME:EST
DTSTART:20251102T060000
END:STANDARD
BEGIN:DAYLIGHT
TZOFFSETFROM:-0500
TZOFFSETTO:-0400
TZNAME:EDT
DTSTART:20260308T070000
END:DAYLIGHT
BEGIN:STANDARD
TZOFFSETFROM:-0400
TZOFFSETTO:-0500
TZNAME:EST
DTSTART:20261101T060000
END:STANDARD
END:VTIMEZONE
BEGIN:VEVENT
DTSTART;TZID=America/New_York:20251205T100000
DTEND;TZID=America/New_York:20251205T160000
DTSTAMP:20260421T105833
CREATED:20250102T190723Z
LAST-MODIFIED:20250103T165420Z
UID:6705-1764928800-1764950400@woodcountyhistory.org
SUMMARY:Free First Fridays & Make and Take Craft Day
DESCRIPTION:Come out to the Wood County Museum for free Museum admission every first Friday! \nFree make & take craft on Free First Friday Days! \nDecember Make & Take Craft: Gingerbread Cookie Decorating \nFree First Fridays is presented by Visit Bowling Green\, Ohio \, Perrysburg Chamber of Commerce\, & Rossford Convention & Visitors Bureau. With support from The Willows at Bowling Green. \nExhibits currently on display are: \n“For Comfort & Convenience: Public Charity in Ohio By Way of the Poor Farm” \n“The Mary & Carl Back Story” \n“Chasing the White Rabbit: An Historical Look at American Mental Health” (inside Asylum) \n“A Clean Bill of Health: Societal Response to Communicable Disease” (inside Pest House) \n(Regular admission $7\, always FREE for members). \nFree First Fridays is presented by Visit Bowling Green\, Ohio \, Perrysburg Chamber of Commerce\, & Rossford Convention & Visitors Bureau. With support from The Willows at Bowling Green.
URL:https://woodcountyhistory.org/event/free-first-fridays-make-and-take-craft-day-23/
ATTACH;FMTTYPE=image/png:https://woodcountyhistory.org/wp-content/uploads/2025/01/Free-First-Friday_ForComfort_FBevent25.png
END:VEVENT
BEGIN:VEVENT
DTSTART;TZID=America/New_York:20251211T140000
DTEND;TZID=America/New_York:20251211T160000
DTSTAMP:20260421T105833
CREATED:20241209T153552Z
LAST-MODIFIED:20251009T195905Z
UID:6663-1765461600-1765468800@woodcountyhistory.org
SUMMARY:Tea & Talk Series: Rations\, Recipes\, and Victory Gardens
DESCRIPTION:***SOLD OUT – CALL TO BE PUT ON THE WAITLIST*** \n  \n“Rations\, Recipes\, and Victory Gardens” \nIn 1943 when First Lady Eleanor Roosevelt planted her Victory Garden on the White House lawn\, she followed thousands of other Americans who were taking steps to help America “win the war with food!” Through the utilization of personal letters\, diary excerpts\, and original recipes\, guests will be brought directly into the 1940s American home during WWII.  While many men were fighting abroad\, American families were also helping to fight the battle through any means possible at home – which included donating back excess bacon grease to butchers to produce glycerin for bombs! \nThe presentation will follow a menu that will provide the backdrop to each unique and personal story from families who lived in Ohio during the war.  These personal accounts will highlight how Americans persevered while maintaining hope and faith that Allied forces would triumph. Each guest will have a chance to sample period recipes while also receiving their own ration book which includes unique recipes connecting back to wartime stories.  Join us for a taste of history that will bring back nostalgic memories of meatloaf\, potatoes\, and of course – Spam! \n  \nAbout the Speaker: \n  \n  \nEach monthly tea & talk starts with a catered luncheon\, warm tea\, and a unique presentation over a topic of interest. Reservations are required and are due the Friday before each tea. All Ticket Sales are Final. Tickets are final sale & non-refundable. Handicap accessible facilities. Groups Welcome. \nPrice: $25/Museum Members\, $30/Non-Members\, $30/Gluten Free/Vegan Meal
URL:https://woodcountyhistory.org/event/tea-talk-series-rationsrecipesvictorygardens/
LOCATION:Wood County Museum\, 13660 County Home Rd.\, Bowling Green\, OH\, 43402\, United States
ATTACH;FMTTYPE=image/jpeg:https://woodcountyhistory.org/wp-content/uploads/2024/12/victory-gardens-promo-poster.jpg
ORGANIZER;CN="Wood County Museum":MAILTO:visitus@woodcountyhistory.org
END:VEVENT
END:VCALENDAR