BEGIN:VCALENDAR
VERSION:2.0
PRODID:-//Wood County Museum - ECPv6.15.20//NONSGML v1.0//EN
CALSCALE:GREGORIAN
METHOD:PUBLISH
X-ORIGINAL-URL:https://woodcountyhistory.org
X-WR-CALDESC:Events for Wood County Museum
REFRESH-INTERVAL;VALUE=DURATION:PT1H
X-Robots-Tag:noindex
X-PUBLISHED-TTL:PT1H
BEGIN:VTIMEZONE
TZID:America/New_York
BEGIN:DAYLIGHT
TZOFFSETFROM:-0500
TZOFFSETTO:-0400
TZNAME:EDT
DTSTART:20250309T070000
END:DAYLIGHT
BEGIN:STANDARD
TZOFFSETFROM:-0400
TZOFFSETTO:-0500
TZNAME:EST
DTSTART:20251102T060000
END:STANDARD
BEGIN:DAYLIGHT
TZOFFSETFROM:-0500
TZOFFSETTO:-0400
TZNAME:EDT
DTSTART:20260308T070000
END:DAYLIGHT
BEGIN:STANDARD
TZOFFSETFROM:-0400
TZOFFSETTO:-0500
TZNAME:EST
DTSTART:20261101T060000
END:STANDARD
BEGIN:DAYLIGHT
TZOFFSETFROM:-0500
TZOFFSETTO:-0400
TZNAME:EDT
DTSTART:20270314T070000
END:DAYLIGHT
BEGIN:STANDARD
TZOFFSETFROM:-0400
TZOFFSETTO:-0500
TZNAME:EST
DTSTART:20271107T060000
END:STANDARD
END:VTIMEZONE
BEGIN:VEVENT
DTSTART;TZID=America/New_York:20260701T180000
DTEND;TZID=America/New_York:20260701T190000
DTSTAMP:20260419T112432
CREATED:20260416T201240Z
LAST-MODIFIED:20260416T201240Z
UID:9238-1782928800-1782932400@woodcountyhistory.org
SUMMARY:The Great Depression Lecture Series - "The New Deal Challenged: National Political Dissent in a Changing Nation"
DESCRIPTION:The Great Depression Lecture Series – “The New Deal Challenged: National Political Dissent in a Changing Nation”\nJuly 1 | 6:00PM\nWood County Museum Meeting Room\nFREE \nIn myriad ways\, the Great Depression fundamentally challenged the nation’s established institutional and political norms. For many\, how to best mitigate the unprecedented economic crisis centered on scope and philosophy. However\, for some\, the conditions necessitated a more radical program. In the seventh installment of the Great Depression Lecture Series\, we will examine the left-and right-wing challenges to the New Deal and the individuals who sought to undermine it. \nThis is the seventh installment in the Great Depression Lecture Series\, an America 250 program. This is a Wood County Park District lead event\, in partnership with the Wood County Museum.
URL:https://woodcountyhistory.org/event/the-great-depression-lecture-series-the-new-deal-challenged-national-political-dissent-in-a-changing-nation/
LOCATION:Wood County Museum\, 13660 County Home Rd.\, Bowling Green\, OH\, 43402\, United States
CATEGORIES:America250 Event
ATTACH;FMTTYPE=image/png:https://woodcountyhistory.org/wp-content/uploads/2026/04/JULY_The-Great-Depression-Lecture-Series_Facebook-Event-Banners_1920x1005_RGB-scaled.png
END:VEVENT
BEGIN:VEVENT
DTSTART;TZID=America/New_York:20260707T180000
DTEND;TZID=America/New_York:20260707T193000
DTSTAMP:20260419T112432
CREATED:20260331T182028Z
LAST-MODIFIED:20260331T182028Z
UID:9182-1783447200-1783452600@woodcountyhistory.org
SUMMARY:America250 Lecture Series – Nazareth Hall: A History Based on the Ursuline Order of the Sacred Heart's
DESCRIPTION:Nazareth Hall: A History Based on the Ursuline Order of the Sacred Heart’s \nJoin local historian Tom Sorosiak for a program about the history of Nazareth Hall. \nThis program will be exploring the history of Nazareth Hall during its time when it was in operation by the Ursuline Order of the Sacred Heart’s. \n  \nWhen: July 7\, 2026 at 6:00PM \nCost: FREE for members; $7 for non-members (tickets include a self-guided tour of the museum in addition to the program) \n***Each person attending must be a member to get the member rate. Members may not make reservations for non-members on their behalf*** \n  \nAbout the Speaker: \nTom Sorosiak
URL:https://woodcountyhistory.org/event/america250-lecture-series-nazareth-hall/
LOCATION:Wood County Museum\, 13660 County Home Rd.\, Bowling Green\, OH\, 43402\, United States
CATEGORIES:America250 Event
ATTACH;FMTTYPE=image/png:https://woodcountyhistory.org/wp-content/uploads/2026/03/Am250-Lec-July.png
END:VEVENT
BEGIN:VEVENT
DTSTART;TZID=America/New_York:20260709T180000
DTEND;TZID=America/New_York:20260709T210000
DTSTAMP:20260419T112432
CREATED:20251016T155351Z
LAST-MODIFIED:20251016T155351Z
UID:8128-1783620000-1783630800@woodcountyhistory.org
SUMMARY:Music at the Museum
DESCRIPTION:FREE LIVE MUSIC CONCERT AT WOOD COUNTY MUSEUM \n The Wood County Museum will hosting its 4th annual concert series “Music at the Museum”\, a free concert featuring Live Music on the east wing porch of the historic County Home building on four dates in 2026: June 11\, July 9\,  August 13\, and September 10 – starting at 6:00 PM. Each concert will feature 2 bands. \nThe July “Music at the Museum”\, will feature 2 bands: TBA \nConcert-goers are asked to bring chairs or blankets for lawn seating. \nBeer garden & yard games will also be onsite. No outside alcohol will be allowed. \nFood Truck lineup: TBA
URL:https://woodcountyhistory.org/event/music-at-the-museum-2/
ATTACH;FMTTYPE=image/png:https://woodcountyhistory.org/wp-content/uploads/2025/10/2026-Music-at-the-Museum-FB-Event-Cover-scaled.png
END:VEVENT
BEGIN:VEVENT
DTSTART;TZID=America/New_York:20260710T100000
DTEND;TZID=America/New_York:20260710T160000
DTSTAMP:20260419T112432
CREATED:20260129T213130Z
LAST-MODIFIED:20260129T213130Z
UID:8811-1783677600-1783699200@woodcountyhistory.org
SUMMARY:Free First Fridays & Make and Take Craft Day
DESCRIPTION:Come out to the Wood County Museum for free Museum admission every first Friday! ***July’s Free First Friday will be on July 10th due to the Federal Holiday*** \nFree make & take craft on Free First Friday Days! \nJuly Make & Take Craft: Christmas in July \nFree First Fridays is presented by Visit BG\, Ohio \, Perrysburg Chamber of Commerce\, & Rossford Convention & Visitors Bureau. \n  \n  \nExhibits currently on display are: \n“We’ll Meet Again: Remembering World War II” \n“For Comfort & Convenience: Public Charity in Ohio By Way of the Poor Farm” \n“Service & Support: Creating and Accessible Community” \n“Wood County: A Timeless Classic” \n“The Mary & Carl Back Story” \n“Chasing the White Rabbit: An Historical Look at American Mental Health” (inside Asylum) \n“A Clean Bill of Health: Societal Response to Communicable Disease” (inside Pest House) \n(Regular admission $7\, always FREE for members). \nFree First Fridays is presented by Visit BG Ohio \, Perrysburg Chamber of Commerce\, & Rossford Convention & Visitors Bureau.
URL:https://woodcountyhistory.org/event/free-first-fridays-make-and-take-craft-day-30/
LOCATION:Wood County Museum\, 13660 County Home Rd.\, Bowling Green\, OH\, 43402\, United States
ATTACH;FMTTYPE=image/png:https://woodcountyhistory.org/wp-content/uploads/2025/01/Free-First-Friday_ForComfort_FBevent25.png
END:VEVENT
BEGIN:VEVENT
DTSTART;TZID=America/New_York:20260718T110000
DTEND;TZID=America/New_York:20260718T160000
DTSTAMP:20260419T112432
CREATED:20251016T152731Z
LAST-MODIFIED:20260331T180813Z
UID:8121-1784372400-1784390400@woodcountyhistory.org
SUMMARY:Safety Fair & Touch-A-Truck
DESCRIPTION:Join the Wood County Museum for the 4th Annual Safety Fair & Cruise-In event on July 18\, 2026 from 11am-4pm! Rain or shine!\n\n\n\nThis is a FREE community event that the public will be able to get an up close look at/in: service vehicles\, fire trucks\, police cruisers\, 1st responder vehicles\, tractors\, and construction equipment. There will also be a safety fair vendor tent\, activities and bounce houses for kids\, a car cruise-in (all cars welcome)\, plus so much more!\n\nFood trucks will be on site: TBA \n  \nThank you to all of our sponsors: TBA \n\n  \nIf you or your business would like to participate with an information table or sponsor\, please reach out to the Wood County Museum at marketing@woodcountyhistory.org
URL:https://woodcountyhistory.org/event/safety-fair-2026/
LOCATION:Wood County Museum Grounds\, 13660 County Home Rd.\, Bowling Green\, OH\, 43402\, United States
ATTACH;FMTTYPE=image/png:https://woodcountyhistory.org/wp-content/uploads/2025/10/2026-Safety-Fair-Touch-a-Truck_Cover.png
ORGANIZER;CN="Wood County Museum":MAILTO:visitus@woodcountyhistory.org
END:VEVENT
END:VCALENDAR