BEGIN:VCALENDAR
VERSION:2.0
PRODID:-//Wood County Museum - ECPv6.15.20//NONSGML v1.0//EN
CALSCALE:GREGORIAN
METHOD:PUBLISH
X-ORIGINAL-URL:https://woodcountyhistory.org
X-WR-CALDESC:Events for Wood County Museum
REFRESH-INTERVAL;VALUE=DURATION:PT1H
X-Robots-Tag:noindex
X-PUBLISHED-TTL:PT1H
BEGIN:VTIMEZONE
TZID:America/New_York
BEGIN:DAYLIGHT
TZOFFSETFROM:-0500
TZOFFSETTO:-0400
TZNAME:EDT
DTSTART:20250309T070000
END:DAYLIGHT
BEGIN:STANDARD
TZOFFSETFROM:-0400
TZOFFSETTO:-0500
TZNAME:EST
DTSTART:20251102T060000
END:STANDARD
BEGIN:DAYLIGHT
TZOFFSETFROM:-0500
TZOFFSETTO:-0400
TZNAME:EDT
DTSTART:20260308T070000
END:DAYLIGHT
BEGIN:STANDARD
TZOFFSETFROM:-0400
TZOFFSETTO:-0500
TZNAME:EST
DTSTART:20261101T060000
END:STANDARD
BEGIN:DAYLIGHT
TZOFFSETFROM:-0500
TZOFFSETTO:-0400
TZNAME:EDT
DTSTART:20270314T070000
END:DAYLIGHT
BEGIN:STANDARD
TZOFFSETFROM:-0400
TZOFFSETTO:-0500
TZNAME:EST
DTSTART:20271107T060000
END:STANDARD
END:VTIMEZONE
BEGIN:VEVENT
DTSTART;TZID=America/New_York:20260805T180000
DTEND;TZID=America/New_York:20260805T190000
DTSTAMP:20260419T125450
CREATED:20260416T201628Z
LAST-MODIFIED:20260416T213820Z
UID:9242-1785952800-1785956400@woodcountyhistory.org
SUMMARY:The Great Depression Lecture Series - "Land of Our Own? Sharecroppers and Tenant Farmers in the Great Depression"
DESCRIPTION:The Great Depression Lecture Series – “Land of Our Own? Sharecroppers and Tenant Farmers in the Great Depression”\nAugust 5 | 6:00PM\nWood County Museum Meeting Room\nFREE \nA core tenet of the New Deal was to improve the economic standing of the nation’s farmers who had suffered from depressed commodity prices since the 1920s. Yet\, the implementation of these programs was often skewed solely toward landowners. For the millions of non-landowning farmers—sharecroppers\, tenant farmers\, and farmworkers—there existed little to no avenues for assistance. Consequently\, a debilitating cycle of debt\, evictions\, and displacements continued to plague this foundational section of American society. In the eighth installment of the Great Depression Lecture Series\, we will examine the conditions afflicting these non-landowning farmers and how the New Deal failed to mitigate their suffering. \nThis is the eighth installment in the Great Depression Lecture Series\, an America 250 program. This is a Wood County Park District lead event\, in partnership with the Wood County Museum.
URL:https://woodcountyhistory.org/event/the-great-depression-lecture-series-land-of-our-own-sharecroppers-and-tenant-farmers-in-the-great-depression/
LOCATION:Wood County Museum\, 13660 County Home Rd.\, Bowling Green\, OH\, 43402\, United States
CATEGORIES:America250 Event
ATTACH;FMTTYPE=image/png:https://woodcountyhistory.org/wp-content/uploads/2026/04/AUGUST_The-Great-Depression-Lecture-Series_Facebook-Event-Banners_1920x1005_RGB-scaled.png
END:VEVENT
BEGIN:VEVENT
DTSTART;TZID=America/New_York:20260811T180000
DTEND;TZID=America/New_York:20260811T193000
DTSTAMP:20260419T125450
CREATED:20260219T214512Z
LAST-MODIFIED:20260219T214512Z
UID:8974-1786471200-1786476600@woodcountyhistory.org
SUMMARY:America250 Lecture Series – Sports in the Shadow of World War II
DESCRIPTION:Fields of Conflict: Sports in the Shadow of World War II \nTogether we will examine how World War II fundamentally reshaped athletics\, as major sporting events were suspended\, athletes were drafted into military service\, and leagues were forced to adapt for survival. We’ll explore the cancellation of global competitions such as the 1940 and 1944 Olympics and the World Cup\, the rise of women’s sports—most notably the All-American Girls Professional Baseball League—the merging of professional teams like the Steagles\, and the shift toward military base athletics. Despite these challenges\, sports remained a crucial source of morale and unity on the home front during wartime. \n  \nWhen: August 11\, 2026 at 6:00PM \nCost: FREE for members; $7 for non-members (tickets include a self-guided tour of the museum in addition to the program) \n***Each person attending must be a member to get the member rate. Members may not make reservations for non-members on their behalf*** \n  \nAbout the Speakers: \nSam Sprunger\nPresident\, Lounge Media Group\nSam is a history educator with over 15 years of teaching experience and a lifelong passion for sports. Known for his deep knowledge of Purdue basketball and Chicago Cubs baseball\, he brings enthusiasm and insight to both the classroom and the field. In addition to teaching\, Sam has coached football and baseball for students of all ages. Outside of his professional work\, he stays busy supporting his children at sporting events year-round\, traveling with his wife\, and contributing to the Dad Lounge and BoilerMaker Lounge podcasts.\n\n\n\n\nBrienne Sprunger\nAssistant Professor of Marketing and MBA Director\, Bluffton University\nBrienne is a dedicated educator and lifelong learner who brings creativity and innovation to both her teaching and professional practice. She is committed to providing hands-on marketing experiences for her students through meaningful community partnerships. Outside the classroom\, Brienne enjoys reading\, supporting her sons’ school activities\, traveling with her husband\, and staying actively involved in community events.
URL:https://woodcountyhistory.org/event/america250-lecture-series-sports-in-the-shadow-of-world-war-ii/
LOCATION:Wood County Museum\, 13660 County Home Rd.\, Bowling Green\, OH\, 43402\, United States
CATEGORIES:America250 Event
ATTACH;FMTTYPE=image/png:https://woodcountyhistory.org/wp-content/uploads/2026/02/Am250-Lec-August.png
END:VEVENT
BEGIN:VEVENT
DTSTART;TZID=America/New_York:20260813T180000
DTEND;TZID=America/New_York:20260813T210000
DTSTAMP:20260419T125450
CREATED:20251016T155426Z
LAST-MODIFIED:20251016T155426Z
UID:8130-1786644000-1786654800@woodcountyhistory.org
SUMMARY:Music at the Museum
DESCRIPTION:FREE LIVE MUSIC CONCERT AT WOOD COUNTY MUSEUM \n The Wood County Museum will hosting its 4th annual concert series “Music at the Museum”\, a free concert featuring Live Music on the east wing porch of the historic County Home building on four dates in 2026: June 11\, July 9\,  August 13\, and September 10 – starting at 6:00 PM. Each concert will feature 2 bands. \nThe August “Music at the Museum”\, will feature 2 bands: TBA \nConcert-goers are asked to bring chairs or blankets for lawn seating. \nBeer garden & yard games will also be onsite. No outside alcohol will be allowed. \nFood Truck lineup: TBA
URL:https://woodcountyhistory.org/event/music-at-the-museum-3/
ATTACH;FMTTYPE=image/png:https://woodcountyhistory.org/wp-content/uploads/2025/10/2026-Music-at-the-Museum-FB-Event-Cover-scaled.png
END:VEVENT
END:VCALENDAR