BEGIN:VCALENDAR
VERSION:2.0
PRODID:-//Wood County Museum - ECPv6.15.20//NONSGML v1.0//EN
CALSCALE:GREGORIAN
METHOD:PUBLISH
X-WR-CALNAME:Wood County Museum
X-ORIGINAL-URL:https://woodcountyhistory.org
X-WR-CALDESC:Events for Wood County Museum
REFRESH-INTERVAL;VALUE=DURATION:PT1H
X-Robots-Tag:noindex
X-PUBLISHED-TTL:PT1H
BEGIN:VTIMEZONE
TZID:America/New_York
BEGIN:DAYLIGHT
TZOFFSETFROM:-0500
TZOFFSETTO:-0400
TZNAME:EDT
DTSTART:20250309T070000
END:DAYLIGHT
BEGIN:STANDARD
TZOFFSETFROM:-0400
TZOFFSETTO:-0500
TZNAME:EST
DTSTART:20251102T060000
END:STANDARD
BEGIN:DAYLIGHT
TZOFFSETFROM:-0500
TZOFFSETTO:-0400
TZNAME:EDT
DTSTART:20260308T070000
END:DAYLIGHT
BEGIN:STANDARD
TZOFFSETFROM:-0400
TZOFFSETTO:-0500
TZNAME:EST
DTSTART:20261101T060000
END:STANDARD
BEGIN:DAYLIGHT
TZOFFSETFROM:-0500
TZOFFSETTO:-0400
TZNAME:EDT
DTSTART:20270314T070000
END:DAYLIGHT
BEGIN:STANDARD
TZOFFSETFROM:-0400
TZOFFSETTO:-0500
TZNAME:EST
DTSTART:20271107T060000
END:STANDARD
END:VTIMEZONE
BEGIN:VEVENT
DTSTART;TZID=America/New_York:20260908T180000
DTEND;TZID=America/New_York:20260908T193000
DTSTAMP:20260419T141208
CREATED:20260219T221155Z
LAST-MODIFIED:20260219T221155Z
UID:8988-1788890400-1788895800@woodcountyhistory.org
SUMMARY:America250 Lecture Series – The War In Europe Through The Eyes Of A Young Infantryman
DESCRIPTION:The War In Europe Through The Eyes Of A Young Infantryman \nFollow the remarkable journey of a World War II infantryman from Normandy to Czechoslovakia in this 50-minute program featuring firsthand experiences\, including the Battle of the Bulge\, the recovery of hidden art treasures\, and the liberation of a concentration camp. \nWhen: September 8\, 2026 at 6:00PM \nCost: FREE for members; $7 for non-members (tickets include a self-guided tour of the museum in addition to the program) \n***Each person attending must be a member to get the member rate. Members may not make reservations for non-members on their behalf*** \n  \nAbout the Speaker: \nRonald Ammons \n 
URL:https://woodcountyhistory.org/event/america250-lecture-series-the-war-in-europe-through-the-eyes-of-a-young-infantryman/
LOCATION:Wood County Museum\, 13660 County Home Rd.\, Bowling Green\, OH\, 43402\, United States
CATEGORIES:America250 Event
ATTACH;FMTTYPE=image/png:https://woodcountyhistory.org/wp-content/uploads/2026/02/Am250-Lec-September.png
END:VEVENT
BEGIN:VEVENT
DTSTART;TZID=America/New_York:20260910T180000
DTEND;TZID=America/New_York:20260910T210000
DTSTAMP:20260419T141208
CREATED:20251016T155511Z
LAST-MODIFIED:20251016T155511Z
UID:8132-1789063200-1789074000@woodcountyhistory.org
SUMMARY:Music at the Museum
DESCRIPTION:FREE LIVE MUSIC CONCERT AT WOOD COUNTY MUSEUM \n The Wood County Museum will hosting its 4th annual concert series “Music at the Museum”\, a free concert featuring Live Music on the east wing porch of the historic County Home building on four dates in 2026: June 11\, July 9\,  August 13\, and September 10 – starting at 6:00 PM. Each concert will feature 2 bands. \nThe September “Music at the Museum”\, will feature 2 bands: TBA \nConcert-goers are asked to bring chairs or blankets for lawn seating. \nBeer garden & yard games will also be onsite. No outside alcohol will be allowed. \nFood Truck lineup: TBA
URL:https://woodcountyhistory.org/event/music-at-the-museum-4/
ATTACH;FMTTYPE=image/png:https://woodcountyhistory.org/wp-content/uploads/2025/10/2026-Music-at-the-Museum-FB-Event-Cover-scaled.png
END:VEVENT
BEGIN:VEVENT
DTSTART;TZID=America/New_York:20260914T140000
DTEND;TZID=America/New_York:20260914T150000
DTSTAMP:20260419T141208
CREATED:20260129T203303Z
LAST-MODIFIED:20260129T203303Z
UID:8785-1789394400-1789398000@woodcountyhistory.org
SUMMARY:Taste Test the Past: Hot Water Canning
DESCRIPTION:Join the Wood County Museum for our American 250 themed cooking series: Taste Test the Past! \nWant to try canning\, but don’t know where to begin? Learn how to safely preserve food from your garden\, how to find recipes\, and how to do proper canning research. Everyone will go home with tomato sauce! \n  \nWhen: September 14\, 2026 at 2:00PM \nCost: FREE for members; $10 for non-members (tickets include a self-guided tour of the museum in addition to the program) \n***Each person attending must be a member to get the member rate. Members may not make reservations for non-members on their behalf***
URL:https://woodcountyhistory.org/event/taste-test-the-past-hot-water-canning/
LOCATION:Wood County Museum\, 13660 County Home Rd.\, Bowling Green\, OH\, 43402\, United States
CATEGORIES:America250 Event
ATTACH;FMTTYPE=image/png:https://woodcountyhistory.org/wp-content/uploads/2026/01/Taste-Test-Sept-scaled.png
END:VEVENT
END:VCALENDAR