BEGIN:VCALENDAR
VERSION:2.0
PRODID:-//Wood County Museum - ECPv6.15.20//NONSGML v1.0//EN
CALSCALE:GREGORIAN
METHOD:PUBLISH
X-ORIGINAL-URL:https://woodcountyhistory.org
X-WR-CALDESC:Events for Wood County Museum
REFRESH-INTERVAL;VALUE=DURATION:PT1H
X-Robots-Tag:noindex
X-PUBLISHED-TTL:PT1H
BEGIN:VTIMEZONE
TZID:America/New_York
BEGIN:DAYLIGHT
TZOFFSETFROM:-0500
TZOFFSETTO:-0400
TZNAME:EDT
DTSTART:20240310T070000
END:DAYLIGHT
BEGIN:STANDARD
TZOFFSETFROM:-0400
TZOFFSETTO:-0500
TZNAME:EST
DTSTART:20241103T060000
END:STANDARD
BEGIN:DAYLIGHT
TZOFFSETFROM:-0500
TZOFFSETTO:-0400
TZNAME:EDT
DTSTART:20250309T070000
END:DAYLIGHT
BEGIN:STANDARD
TZOFFSETFROM:-0400
TZOFFSETTO:-0500
TZNAME:EST
DTSTART:20251102T060000
END:STANDARD
BEGIN:DAYLIGHT
TZOFFSETFROM:-0500
TZOFFSETTO:-0400
TZNAME:EDT
DTSTART:20260308T070000
END:DAYLIGHT
BEGIN:STANDARD
TZOFFSETFROM:-0400
TZOFFSETTO:-0500
TZNAME:EST
DTSTART:20261101T060000
END:STANDARD
END:VTIMEZONE
BEGIN:VEVENT
DTSTART;TZID=America/New_York:20250502T100000
DTEND;TZID=America/New_York:20250504T150000
DTSTAMP:20260423T193409
CREATED:20241121T185237Z
LAST-MODIFIED:20250213T161021Z
UID:6614-1746180000-1746370800@woodcountyhistory.org
SUMMARY:Early Ohio on the Portage
DESCRIPTION:Early Ohio Along the Portage: A Timeline (1700-1865) Reenactment Event \nExperience Military\, Native Americans\, Settlers\, Political Growth and Home Life Activities. See well-known characters of days gone by at this ‘Living History’ event! \nThis event is co-sponsored by the Wood County Museum & the Maumee Valley Heritage Corridor. \nMay 2: 10AM-3PM \nMay 3: 10AM-5PM (Lady Brandeberry’s Ball at 6:00PM) \nMay 4: 10AM-3PM \nFREE ADMISSION TO EVENT \nWood County Museum Grounds \n  \n***For participant (reenactor) registration: contact: Annette Wells #419-352-0967 or EMAIL: museum@woodcountyhistory.org \nSpots are first come\, and at the discretion of the EOOP Committee. The Wood County Museum & Maumee Valley Heritage Corridor have the right to refuse anyone from the event. \nSign up forms: \n• Reenactor/Living History/ Registration Form:  https://forms.gle/CTW3uUV9kARBU6Q56 \n• Vendor Registration Form:  https://forms.gle/N18cG8Mu7pvbSiMz6 \n  \n  \nThis event is co-sponsored by the Wood County Museum & the Maumee Valley Heritage Corridor. With support from Visit BG Ohio. \nPioneer Sponsors: The Willows at Bowling Green
URL:https://woodcountyhistory.org/event/early-ohio-on-the-portage2025/
ATTACH;FMTTYPE=image/png:https://woodcountyhistory.org/wp-content/uploads/2024/11/Cover_2025-Early-Ohio.png
END:VEVENT
BEGIN:VEVENT
DTSTART;TZID=America/New_York:20250503T180000
DTEND;TZID=America/New_York:20250503T200000
DTSTAMP:20260423T193409
CREATED:20250117T144745Z
LAST-MODIFIED:20250117T165138Z
UID:6723-1746295200-1746302400@woodcountyhistory.org
SUMMARY:Lady Brandeberry's Ball
DESCRIPTION:Join us for an evening of delight at the Lady Brandeberry Ball! \nThis free Regency Era-themed ball (circa. 1800-1820) will be held under cover on the grounds of the Wood County Museum at 6:00pm on Saturday May 3rd\, 2025. \nThe Lady Brandeberry Ball will take place during our living history weekend–Early Ohio on the Portage (May 2\, 3\, & 4th). \nThe Ball is meant to be a merry amusement for all ages. \nRegency/Bridgerton-style attire or formal attire is encouraged but not required. \nA dancing partner is not required; neither is previous dancing experience. Free dance lessons will start at 3:00PM. \nGuests will be treated to live music by the “Roots Cellar String Band”. \nFood & Beverage sales will be available for purchase. \nBall RSVP’s to Wood County Museum are most appreciated! \nCome one and all! \nThis event is co-sponsored by the Wood County Museum & the Maumee Valley Heritage Corridor. With support from Visit BG Ohio.
URL:https://woodcountyhistory.org/event/lady-brandeberrys-ball/
ATTACH;FMTTYPE=image/png:https://woodcountyhistory.org/wp-content/uploads/2025/01/2025-Lady-Brandeberry-Ball-Buzzbook-Spring25.png
END:VEVENT
END:VCALENDAR